Workbook

Sheet ΠΕ32
A1: Κλάδος | B1: ΠΕ32
A3: Ετικέτες γραμμής | B3: Άθροισμα από Πλεοναζ. | C3: Άθροισμα από Κενό Α/μια | D3: Άθροισμα από Κενό Διευθ. | E3: Άθροισμα από Κενό ΙΕΚ | F3: Άθροισμα από Διαφορά
A4: ΒΟΡΕΙΟΥ ΑΙΓΑΙΟΥ | B4: 38 | C4: 18 | F4: -20
A5: Λέσβου | C5: 7 | F5: 7
A6: Σάμου | B6: 5 | C6: 8 | F6: 3
A7: Χίου | B7: 33 | C7: 3 | F7: -30
A8: ΔΥΤΙΚΗΣ ΕΛΛΑΔΑΣ | B8: 18 | C8: 18 | F8: 0
A9: Αχαΐας | B9: 2 | C9: 2 | F9: 0
A10: Ηλείας | B10: 16 | C10: 16 | F10: 0
A11: ΗΠΕΙΡΟΥ | B11: 4 | C11: 2 | D11: 2 | F11: 0
A12: Άρτας | B12: 2 | C12: 2 | F12: 0
A13: Ιωαννίνων | B13: 2 | D13: 2 | F13: 0
A14: ΚΕΝΤΡΙΚΗ ΜΕΚΕΔΟΝΙΑΣ | B14: 4 | C14: 4 | F14: 0
A15: Πέλλης | B15: 2 | C15: 2 | F15: 0
A16: Πιερίας | B16: 2 | C16: 2 | F16: 0
A17: ΠΕΛΟΠΟΝΝΗΣΟΥ | B17: 2 | C17: 2 | F17: 0
A18: Λακωνίας | B18: 2 | C18: 2 | F18: 0
A19: Γενικό Άθροισμα | B19: 66 | C19: 44 | D19: 2 | F19: -20

Sheet ΠΕ19-20
A1: Κλάδος | B1: ΠΕ19-ΠΕ20
A3: Ετικέτες γραμμής | B3: Άθροισμα από Πλεοναζ. | C3: Άθροισμα από Κενό Α/μια | D3: Άθροισμα από Κενό Διευθ. | E3: Άθροισμα από Κενό ΙΕΚ | F3: Άθροισμα από Διαφορά
A4: ΑΝΑΤΟΛΙΚΗΣ ΜΑΚΕΔΟΝΙΑΣ & ΘΡΑΚΗΣ | B4: 31 | C4: 25 | D4: 4 | E4: 2 | F4: 0
A5: Έβρου | B5: 16 | C5: 12 | D5: 2 | E5: 2 | F5: 0
A6: Καβάλας | B6: 15 | C6: 13 | D6: 2 | F6: 0
A7: Αττκής | B7: 492 | C7: 515 | F7: 23
A8: Α’ Αθηνών | B8: 81 | C8: 81 | F8: 0
A9: Ανατολικής Αττικής | B9: 110 | C9: 91 | F9: -19
A10: Β' Αθηνών | B10: 34 | C10: 65 | F10: 31
A11: Γ' Αθηνών | B11: 133 | C11: 94 | F11: -39
A12: Δ' Αθηνών | B12: 50 | C12: 69 | F12: 19
A13: Δυτικής Αττικής | B13: 24 | C13: 24 | F13: 0
A14: Πειραιώς | B14: 60 | C14: 91 | F14: 31
A15: ΒΟΡΕΙΟΥ ΑΙΓΑΙΟΥ | B15: 12 | C15: 8 | F15: -4
A16: Σάμου | B16: 12 | C16: 8 | F16: -4
A17: ΔΥΤΙΚΗΣ ΕΛΛΑΔΑΣ | B17: 74 | C17: 69 | F17: -5
A18: Αιτωλοακαρνανίας | B18: 39 | C18: 30 | F18: -9
A19: Αχαΐας | B19: 35 | C19: 30 | F19: -5
A20: Ηλείας | C20: 9 | F20: 9
A21: ΔΥΤΙΚΗΣ ΜΑΚΕΔΟΝΙΑΣ | B21: 53 | C21: 43 | D21: 6 | E21: 4 | F21: 0
A22: Γρεβενών | B22: 5 | C22: 4 | D22: 1 | F22: 0
A23: Καστοριάς | B23: 7 | C23: 6 | D23: 1 | F23: 0
A24: Κοζάνης | B24: 30 | C24: 25 | D24: 2 | E24: 3 | F24: 0
A25: Φλώρινας | B25: 11 | C25: 8 | D25: 2 | E25: 1 | F25: 0
A26: ΗΠΕΙΡΟΥ | B26: 66 | C26: 57 | D26: 6 | E26: 3 | F26: 0
A27: Άρτας | B27: 13 | C27: 10 | D27: 1 | E27: 2 | F27: 0
A28: Θεσπρωτίας | B28: 12 | C28: 10 | D28: 2 | F28: 0
A29: Ιωαννίνων | B29: 32 | C29: 30 | D29: 1 | E29: 1 | F29: 0
A30: Πρεβέζης | B30: 9 | C30: 7 | D30: 2 | F30: 0
A31: ΘΕΣΣΑΛΙΑΣ | B31: 96 | C31: 92 | D31: 2 | E31: 2 | F31: 0
A32: Καρδίτσας | B32: 20 | C32: 16 | D32: 2 | E32: 2 | F32: 0
A33: Λαρίσης | B33: 40 | C33: 40 | F33: 0
A34: Μαγνησίας | B34: 27 | C34: 27 | F34: 0
A35: Τρικάλων | B35: 9 | C35: 9 | F35: 0
A36: ΙΟΝΙΩΝ | B36: 42 | C36: 30 | D36: 2 | E36: 5 | F36: -5
A37: Κερκύρας | B37: 42 | C37: 25 | D37: 2 | E37: 5 | F37: -10
A38: Κεφαλληνίας | C38: 5 | F38: 5
A39: ΚΕΝΤΡΙΚΗ ΜΕΚΕΔΟΝΙΑΣ | B39: 156 | C39: 115 | D39: 17 | E39: 24 | F39: 0
A40: Ανατολικής Θεσσαλονίκης | B40: 62 | C40: 30 | D40: 4 | E40: 4 | F40: -24
A41: Δυτικής Θεσσαλονίκης | B41: 5 | C41: 25 | D41: 2 | E41: 2 | F41: 24
A42: Ημαθίας | B42: 25 | C42: 18 | D42: 3 | E42: 4 | F42: 0
A43: Κιλκίς | B43: 12 | C43: 7 | D43: 2 | E43: 3 | F43: 0
A44: Πέλλης | B44: 21 | C44: 15 | D44: 2 | E44: 4 | F44: 0
A45: Πιερίας | B45: 13 | C45: 8 | D45: 2 | E45: 3 | F45: 0
A46: Σερρών | B46: 8 | C46: 6 | D46: 1 | E46: 1 | F46: 0
A47: Χαλκιδικής | B47: 10 | C47: 6 | D47: 1 | E47: 3 | F47: 0
A48: ΚΡΗΤΗΣ | B48: 45 | C48: 40 | D48: 4 | E48: 1 | F48: 0
A49: Ηρακλείου | B49: 7 | C49: 7 | F49: 0
A50: Λασιθίου | B50: 12 | C50: 11 | D50: 1 | F50: 0
A51: Χανίων | B51: 26 | C51: 22 | D51: 3 | E51: 1 | F51: 0
A52: ΝΟΤΙΟΥ ΑΙΓΑΙΟΥ | B52: 92 | C52: 65 | D52: 5 | E52: 10 | F52: -12
A53: Δωδεκανήσων | B53: 77 | C53: 50 | D53: 5 | E53: 10 | F53: -12
A54: Κυκλάδων | B54: 15 | C54: 15 | F54: 0
A55: ΠΕΛΟΠΟΝΝΗΣΟΥ | B55: 64 | C55: 59 | D55: 3 | E55: 2 | F55: 0
A56: Αργολίδος | B56: 4 | C56: 3 | D56: 1 | F56: 0
A57: Αρκαδίας | B57: 17 | C57: 12 | F57: -5
A58: Κορινθίας | B58: 10 | C58: 15 | F58: 5
A59: Λακωνίας | B59: 20 | C59: 16 | D59: 2 | E59: 2 | F59: 0
A60: Μεσσηνίας | B60: 13 | C60: 13 | F60: 0
A61: ΣΤΕΡΕΑΣ ΕΛΛΑΔΑΣ | B61: 118 | C61: 55 | D61: 12 | E61: 13 | F61: -38
A62: Βοιωτίας | B62: 22 | F62: -22
A63: Ευβοίας | B63: 49 | C63: 32 | D63: 5 | E63: 5 | F63: -7
A64: Ευρυτανίας | B64: 7 | C64: 3 | D64: 2 | E64: 2 | F64: 0
A65: Φθιώτιδος | B65: 22 | C65: 16 | D65: 1 | E65: 1 | F65: -4
A66: Φωκίδος | B66: 18 | C66: 4 | D66: 4 | E66: 5 | F66: -5
A67: Γενικό Άθροισμα | B67: 1341 | C67: 1173 | D67: 61 | E67: 66 | F67: -41

Sheet ΠΕ18.02
A1: Κλάδος | B1: ΠΕ18.02
A3: Ετικέτες γραμμής | B3: Άθροισμα από Πλεοναζ. | C3: Άθροισμα από Κενό Α/μια | D3: Άθροισμα από Κενό Διευθ. | E3: Άθροισμα από Κενό ΙΕΚ | F3: Άθροισμα από Διαφορά
A4: ΑΝΑΤΟΛΙΚΗΣ ΜΑΚΕΔΟΝΙΑΣ & ΘΡΑΚΗΣ | B4: 1 | D4: 1 | F4: 0
A5: Δράμας | B5: 1 | D5: 1 | F5: 0
A6: ΔΥΤΙΚΗΣ ΕΛΛΑΔΑΣ | B6: 6 | D6: 1 | F6: -5
A7: Αχαΐας | B7: 6 | D7: 1 | F7: -5
A8: ΔΥΤΙΚΗΣ ΜΑΚΕΔΟΝΙΑΣ | B8: 4 | D8: 2 | E8: 2 | F8: 0
A9: Κοζάνης | B9: 4 | D9: 2 | E9: 2 | F9: 0
A10: ΗΠΕΙΡΟΥ | B10: 2 | D10: 2 | F10: 0
A11: Πρεβέζης | B11: 2 | D11: 2 | F11: 0
A12: ΘΕΣΣΑΛΙΑΣ | B12: 10 | D12: 1 | F12: -9
A13: Λαρίσης | B13: 10 | D13: 1 | F13: -9
A14: ΚΕΝΤΡΙΚΗ ΜΕΚΕΔΟΝΙΑΣ | B14: 16 | D14: 10 | E14: 6 | F14: 0
A15: Ανατολικής Θεσσαλονίκης | B15: 5 | D15: 5 | F15: 0
A16: Δυτικής Θεσσαλονίκης | B16: 1 | D16: 1 | F16: 0
A17: Κιλκίς | B17: 3 | D17: 1 | E17: 2 | F17: 0
A18: Πέλλης | B18: 2 | D18: 1 | E18: 1 | F18: 0
A19: Χαλκιδικής | B19: 5 | D19: 2 | E19: 3 | F19: 0
A20: Γενικό Άθροισμα | B20: 39 | D20: 17 | E20: 8 | F20: -14

Sheet ΠΕ16
A1: Κλάδος | B1: ΠΕ16
A3: Ετικέτες γραμμής | B3: Άθροισμα από Πλεοναζ. | C3: Άθροισμα από Κενό Α/μια | D3: Άθροισμα από Κενό Διευθ. | E3: Άθροισμα από Κενό ΙΕΚ | F3: Άθροισμα από Διαφορά
A4: ΑΝΑΤΟΛΙΚΗΣ ΜΑΚΕΔΟΝΙΑΣ & ΘΡΑΚΗΣ | B4: 2 | C4: 2 | F4: 0
A5: Καβάλας | B5: 2 | C5: 2 | F5: 0
A6: Αττκής | B6: 24 | C6: 24 | F6: 0
A7: Ανατολικής Αττικής | B7: 13 | C7: 13 | F7: 0
A8: Δ' Αθηνών | B8: 11 | C8: 11 | F8: 0
A9: ΔΥΤΙΚΗΣ ΕΛΛΑΔΑΣ | B9: 27 | C9: 27 | F9: 0
A10: Αιτωλοακαρνανίας | B10: 2 | C10: 2 | F10: 0
A11: Αχαΐας | B11: 21 | C11: 14 | F11: -7
A12: Ηλείας | B12: 4 | C12: 11 | F12: 7
A13: ΗΠΕΙΡΟΥ | B13: 8 | C13: 8 | F13: 0
A14: Ιωαννίνων | B14: 8 | C14: 8 | F14: 0
A15: ΘΕΣΣΑΛΙΑΣ | B15: 43 | C15: 25 | F15: -18
... A33: Γενικό Άθροισμα | B33: 156 | C33: 133 | F33: -23

Sheet ΠΕ13
A1: Κλάδος | B1: ΠΕ13
A3: Ετικέτες γραμμής | B3: Άθροισμα από Πλεοναζ. | C3: Άθροισμα από Κενό Α/μια | D3: Άθροισμα από Κενό Διευθ. | E3: Άθροισμα από Κενό ΙΕΚ | F3: Άθροισμα από Διαφορά
A4: ΑΝΑΤΟΛΙΚΗΣ ΜΑΚΕΔΟΝΙΑΣ & ΘΡΑΚΗΣ | B4: 2 | D4: 2 | F4: 0
A5: Δράμας | B5: 1 | D5: 1 | F5: 0
A6: Ξάνθης | B6: 1 | D6: 1 | F6: 0
A7: Αττκής | B7: 15 | D7: 2 | F7: -13
A8: Ανατολικής Αττικής | B8: 9 | F8: -9
A9: Γ' Αθηνών | B9: 6 | D9: 2 | F9: -4
A10: ΔΥΤΙΚΗΣ ΕΛΛΑΔΑΣ | B10: 1 | D10: 1 | F10: 0
A11: Αχαΐας | B11: 1 | D11: 1 | F11: 0
A12: ΗΠΕΙΡΟΥ | B12: 3 | D12: 3 | F12: 0
A13: Άρτας | B13: 1 | D13: 1 | F13: 0
A14: Ιωαννίνων | B14: 1 | D14: 1 | F14: 0
A15: Πρεβέζης | B15: 1 | D15: 1 | F15: 0
A16: ΘΕΣΣΑΛΙΑΣ | B16: 3 | D16: 1 | F16: -2
A17: Λαρίσης | B17: 3 | D17: 1 | F17: -2
A18: ΚΕΝΤΡΙΚΗ ΜΕΚΕΔΟΝΙΑΣ | B18: 5 | D18: 5 | F18: 0
A19: Ανατολικής Θεσσαλονίκης | B19: 2 | D19: 2 | F19: 0
A20: Δυτικής Θεσσαλονίκης | B20: 2 | D20: 2 | F20: 0
... A24: Γενικό Άθροισμα | B24: 30 | D24: 15 | F24: -15

Sheet ΠΕ12.01
A1: Κλάδος | B1: ΠΕ12.01
A3: Ετικέτες γραμμής | B3: Άθροισμα από Πλεοναζ. | C3: Άθροισμα από Κενό Α/μια | D3: Άθροισμα από Κενό Διευθ. | E3: Άθροισμα από Κενό ΙΕΚ | F3: Άθροισμα από Διαφορά
A4: ΚΕΝΤΡΙΚΗ ΜΕΚΕΔΟΝΙΑΣ | B4: 1 | D4: 1 | F4: 0
A5: Ανατολικής Θεσσαλονίκης | B5: 1 | D5: 1 | F5: 0
A6: Γενικό Άθροισμα | B6: 1 | D6: 1 | F6: 0

Sheet ΠΕ11
A1: Κλάδος | B1: ΠΕ11
A3: Ετικέτες γραμμής | B3: Άθροισμα από Πλεοναζ. | C3: Άθροισμα από Κενό Α/μια | D3: Άθροισμα από Κενό Διευθ. | E3: Άθροισμα από Κενό ΙΕΚ | F3: Άθροισμα από Διαφορά
A4: ΑΝΑΤΟΛΙΚΗΣ ΜΑΚΕΔΟΝΙΑΣ & ΘΡΑΚΗΣ | B4: 54 | C4: 49 | D4: 3 | E4: 2 | F4: 0
A5: Δράμας | B5: 6 | C5: 6 | F5: 0
A6: Έβρου | B6: 9 | C6: 9 | F6: 0
A7: Καβάλας | B7: 20 | C7: 20 | F7: 0
A8: Ξάνθης | B8: 15 | C8: 14 | D8: 1 | F8: 0
A9: Ροδόπης | B9: 4 | D9: 2 | E9: 2 | F9: 0
A10: Αττκής | B10: 295 | C10: 258 | F10: -37
A11: Ανατολικής Αττικής | B11: 90 | C11: 81 | F11: -9
A12: Β' Αθηνών | C12: 25 | F12: 25
A13: Γ' Αθηνών | B13: 53 | C13: 53 | F13: 0
A14: Δ' Αθηνών | B14: 27 | C14: 27 | F14: 0
A15: Δυτικής Αττικής | B15: 65 | C15: 12 | F15: -53
A16: Πειραιώς | B16: 60 | C16: 60 | F16: 0
A17: ΒΟΡΕΙΟΥ ΑΙΓΑΙΟΥ | B17: 135 | C17: 10 | D17: 10 | E17: 7 | F17: -108
A18: Λέσβου | C18: 10 | F18: 10
A19: Σάμου | B19: 59 | D19: 5 | E19: 4 | F19: -50
A20: Χίου | B20: 76 | D20: 5 | E20: 3 | F20: -68
A21: ΔΥΤΙΚΗΣ ΕΛΛΑΔΑΣ | B21: 96 | C21: 5 | F21: -91
A22: Αιτωλοακαρνανίας | B22: 30 | C22: 5 | F22: -25
A23: Αχαΐας | B23: 40 | F23: -40
A24: Ηλείας | B24: 26 | F24: -26
A25: ΔΥΤΙΚΗΣ ΜΑΚΕΔΟΝΙΑΣ | B25: 29 | C25: 21 | D25: 6 | E25: 2 | F25: 0
A26: Γρεβενών | B26: 2 | C26: 2 | F26: 0
A27: Καστοριάς | B27: 5 | C27: 5 | F27: 0
A28: Κοζάνης | B28: 18 | C28: 12 | D28: 4 | E28: 2 | F28: 0
A29: Φλώρινας | B29: 4 | C29: 2 | D29: 2 | F29: 0
A30: ΗΠΕΙΡΟΥ | B30: 23 | C30: 17 | D30: 4 | E30: 2 | F30: 0
A31: Άρτας | B31: 4 | D31: 2 | E31: 2 | F31: 0
A32: Θεσπρωτίας | B32: 11 | C32: 10 | D32: 1 | F32: 0
A33: Πρεβέζης | B33: 8 | C33: 7 | D33: 1 | F33: 0
A34: ΘΕΣΣΑΛΙΑΣ | B34: 28 | C34: 23 | F34: -5
A35: Καρδίτσας | B35: 28 | C35: 23 | F35: -5
A36: ΙΟΝΙΩΝ | B36: 131 | C36: 27 | D36: 10 | E36: 4 | F36: -90
A37: Ζακύνθου | B37: 7 | E37: 2 | F37: -5
A38: Κερκύρας | B38: 115 | C38: 25 | D38: 5 | F38: -85
A39: Κεφαλληνίας | B39: 9 | C39: 2 | D39: 5 | E39: 2 | F39: 0
A40: ΚΕΝΤΡΙΚΗ ΜΕΚΕΔΟΝΙΑΣ | B40: 77 | C40: 67 | D40: 5 | E40: 5 | F40: 0
A41: Ανατολικής Θεσσαλονίκης | B41: 16 | C41: 10 | F41: -6
A42: Δυτικής Θεσσαλονίκης | C42: 6 | F42: 6
A43: Κιλκίς | B43: 14 | C43: 10 | D43: 2 | E43: 2 | F43: 0
A44: Πέλλης | B44: 2 | C44: 2 | F44: 0
A45: Πιερίας | B45: 18 | C45: 14 | D45: 2 | E45: 2 | F45: 0
A46: Σερρών | B46: 27 | C46: 25 | D46: 1 | E46: 1 | F46: 0
A47: ΚΡΗΤΗΣ | B47: 98 | C47: 56 | D47: 4 | E47: 4 | F47: -34
A48: Ηρακλείου | B48: 56 | C48: 40 | E48: 2 | F48: -14
A49: Λασιθίου | B49: 25 | C49: 5 | F49: -20
A50: Χανίων | B50: 17 | C50: 11 | D50: 4 | E50: 2 | F50: 0
A51: ΝΟΤΙΟΥ ΑΙΓΑΙΟΥ | B51: 145 | C51: 25 | D51: 11 | E51: 9 | F51: -100
A52: Δωδεκανήσων | B52: 115 | C52: 5 | D52: 5 | E52: 5 | F52: -100
A53: Κυκλάδων | B53: 30 | C53: 20 | D53: 6 | E53: 4 | F53: 0
A54: ΠΕΛΟΠΟΝΝΗΣΟΥ | B54: 172 | C54: 43 | D54: 12 | E54: 7 | F54: -110
A55: Αργολίδος | B55: 31 | C55: 11 | F55: -20
A56: Αρκαδίας | B56: 35 | F56: -35
A57: Κορινθίας | B57: 21 | C57: 17 | D57: 2 | E57: 2 | F57: 0
A58: Λακωνίας | B58: 55 | C58: 10 | F58: -45
A59: Μεσσηνίας | B59: 30 | C59: 5 | D59: 10 | E59: 5 | F59: -10
A60: ΣΤΕΡΕΑΣ ΕΛΛΑΔΑΣ | B60: 153 | C60: 74 | D60: 7 | E60: 7 | F60: -65
A61: Βοιωτίας | B61: 26 | C61: 18 | F61: -8
A62: Ευβοίας | B62: 52 | C62: 35 | F62: -17
A63: Ευρυτανίας | B63: 32 | C63: 2 | F63: -30
A64: Φθιώτιδος | B64: 23 | C64: 19 | D64: 2 | E64: 2 | F64: 0
A65: Φωκίδος | B65: 20 | D65: 5 | E65: 5 | F65: -10
A66: Γενικό Άθροισμα | B66: 1436 | C66: 675 | D66: 72 | E66: 49 | F66: -640

Sheet ΠΕ10
A1: Κλάδος | B1: ΠΕ10
A3: Ετικέτες γραμμής | B3: Άθροισμα από Πλεοναζ. | C3: Άθροισμα από Κενό Α/μια | D3: Άθροισμα από Κενό Διευθ. | E3: Άθροισμα από Κενό ΙΕΚ | F3: Άθροισμα από Διαφορά
A4: ΗΠΕΙΡΟΥ | D4: 1 | F4: 1
A5: Ιωαννίνων | D5: 1 | F5: 1
A6: ΚΕΝΤΡΙΚΗ ΜΕΚΕΔΟΝΙΑΣ | B6: 2 | F6: -2
A7: Ανατολικής Θεσσαλονίκης | B7: 2 | F7: -2
A8: ΝΟΤΙΟΥ ΑΙΓΑΙΟΥ | B8: 4 | F8: -4
A9: Δωδεκανήσων | B9: 4 | F9: -4
A10: Γενικό Άθροισμα | B10: 6 | D10: 1 | F10: -5

Sheet ΠΕ09
A1: Κλάδος | B1: ΠΕ09
A3: Ετικέτες γραμμής | B3: Άθροισμα από Πλεοναζ. | C3: Άθροισμα από Κενό Α/μια | D3: Άθροισμα από Κενό Διευθ. | E3: Άθροισμα από Κενό ΙΕΚ | F3: Άθροισμα από Διαφορά
A4: ΑΝΑΤΟΛΙΚΗΣ ΜΑΚΕΔΟΝΙΑΣ & ΘΡΑΚΗΣ | B4: 3 | D4: 1 | E4: 2 | F4: 0
A5: Έβρου | B5: 3 | D5: 1 | E5: 2 | F5: 0
A6: ΒΟΡΕΙΟΥ ΑΙΓΑΙΟΥ | B6: 11 | D6: 2 | E6: 3 | F6: -6
A7: Σάμου | B7: 2 | D7: 1 | E7: 1 | F7: 0
A8: Χίου | B8: 9 | D8: 1 | E8: 2 | F8: -6
A9: ΔΥΤΙΚΗΣ ΕΛΛΑΔΑΣ | B9: 3 | F9: -3
A10: Αχαΐας | B10: 3 | F10: -3
A11: ΔΥΤΙΚΗΣ ΜΑΚΕΔΟΝΙΑΣ | B11: 5 | D11: 3 | E11: 2 | F11: 0
A12: Κοζάνης | B12: 4 | D12: 2 | E12: 2 | F12: 0
A13: Φλώρινας | B13: 1 | D13: 1 | F13: 0
A14: ΗΠΕΙΡΟΥ | B14: 11 | D14: 6 | E14: 5 | F14: 0
A15: Άρτας | B15: 4 | D15: 2 | E15: 2 | F15: 0
A16: Θεσπρωτίας | B16: 2 | D16: 1 | E16: 1 | F16: 0
A17: Ιωαννίνων | B17: 2 | D17: 1 | E17: 1 | F17: 0
A18: Πρεβέζης | B18: 3 | D18: 2 | E18: 1 | F18: 0
A19: ΘΕΣΣΑΛΙΑΣ | B19: 18 | D19: 7 | E19: 7 | F19: -4
A20: Καρδίτσας | B20: 10 | D20: 2 | E20: 4 | F20: -4
A21: Λαρίσης | B21: 2 | D21: 2 | F21: 0
A22: Μαγνησίας | B22: 4 | D22: 2 | E22: 2 | F22: 0
A23: Τρικάλων | B23: 2 | D23: 1 | E23: 1 | F23: 0
A24: ΙΟΝΙΩΝ | B24: 9 | D24: 3 | E24: 2 | F24: -4
A25: Ζακύνθου | B25: 1 | D25: 1 | F25: 0
A26: Κερκύρας | B26: 8 | D26: 2 | E26: 2 | F26: -4
A27: ΚΕΝΤΡΙΚΗ ΜΕΚΕΔΟΝΙΑΣ | B27: 17 | D27: 6 | E27: 5 | F27: -6
A28: Ανατολικής Θεσσαλονίκης | B28: 12 | D28: 4 | E28: 2 | F28: -6
A29: Πιερίας | B29: 5 | D29: 2 | E29: 3 | F29: 0
A30: ΚΡΗΤΗΣ | B30: 4 | D30: 3 | E30: 1 | F30: 0
A31: Ηρακλείου | B31: 1 | D31: 1 | F31: 0
A32: Λασιθίου | B32: 2 | D32: 1 | E32: 1 | F32: 0
A33: Χανίων | B33: 1 | D33: 1 | F33: 0
A34: ΝΟΤΙΟΥ ΑΙΓΑΙΟΥ | B34: 50 | D34: 5 | E34: 20 | F34: -25
A35: Δωδεκανήσων | B35: 50 | D35: 5 | E35: 20 | F35: -25
A36: ΠΕΛΟΠΟΝΝΗΣΟΥ | B36: 3 | F36: -3
A37: Αργολίδος | B37: 3 | F37: -3
A38: ΣΤΕΡΕΑΣ ΕΛΛΑΔΑΣ | B38: 12 | D38: 3 | E38: 2 | F38: -7
A39: Βοιωτίας | B39: 11 | D39: 2 | E39: 2 | F39: -7
A40: Φωκίδος | B40: 1 | D40: 1 | F40: 0
A41: Γενικό Άθροισμα | B41: 146 | D41: 39 | E41: 49 | F41: -58

Sheet ΠΕ08
A1: Κλάδος | B1: ΠΕ08
A3: Ετικέτες γραμμής | B3: Άθροισμα από Πλεοναζ. | C3: Άθροισμα από Κενό Α/μια | D3: Άθροισμα από Κενό Διευθ. | E3: Άθροισμα από Κενό ΙΕΚ | F3: Άθροισμα από Διαφορά
A4: ΑΝΑΤΟΛΙΚΗΣ ΜΑΚΕΔΟΝΙΑΣ & ΘΡΑΚΗΣ | B4: 7 | C4: 7 | F4: 0
A5: Καβάλας | B5: 5 | C5: 5 | F5: 0
A6: Ξάνθης | B6: 2 | C6: 2 | F6: 0
A7: Αττκής | B7: 21 | C7: 21 | F7: 0
A8: Ανατολικής Αττικής | B8: 10 | C8: 10 | F8: 0
A9: Δ' Αθηνών | B9: 11 | C9: 11 | F9: 0
A10: ΒΟΡΕΙΟΥ ΑΙΓΑΙΟΥ | B10: 7 | C10: 7 | F10: 0
A11: Σάμου | B11: 4 | C11: 4 | F11: 0
A12: Χίου | B12: 3 | C12: 3 | F12: 0
A13: ΔΥΤΙΚΗΣ ΕΛΛΑΔΑΣ | B13: 34 | C13: 34 | F13: 0
A14: Αιτωλοακαρνανίας | B14: 8 | C14: 8 | F14: 0
A15: Αχαΐας | B15: 19 | C15: 19 | F15: 0
A16: Ηλείας | B16: 7 | C16: 7 | F16: 0
A17: ΗΠΕΙΡΟΥ | B17: 21 | C17: 19 | D17: 1 | E17: 1 | F17: 0
A18: Άρτας | B18: 5 | C18: 3 | D18: 1 | E18: 1 | F18: 0
A19: Θεσπρωτίας | B19: 1 | C19: 1 | F19: 0
A20: Ιωαννίνων | B20: 9 | C20: 9 | F20: 0
A21: Πρεβέζης | B21: 6 | C21: 6 | F21: 0
A22: ΘΕΣΣΑΛΙΑΣ | B22: 34 | C22: 24 | F22: -10
A23: Καρδίτσας | B23: 6 | C23: 6 | F23: 0
A24: Λαρίσης | B24: 10 | C24: 10 | F24: 0
A25: Μαγνησίας | B25: 15 | C25: 5 | F25: -10
A26: Τρικάλων | B26: 3 | C26: 3 | F26: 0
A27: ΙΟΝΙΩΝ | B27: 12 | C27: 12 | F27: 0
A28: Ζακύνθου | B28: 2 | C28: 2 | F28: 0
A29: Κερκύρας | B29: 10 | C29: 10 | F29: 0
A30: ΚΕΝΤΡΙΚΗ ΜΕΚΕΔΟΝΙΑΣ | B30: 64 | C30: 64 | F30: 0
... A55: Φωκίδος | B55: 1 | C55: 1 | F55: 0
A56: Γενικό Άθροισμα | B56: 274 | C56: 262 | D56: 1 | E56: 1 | F56: -10

Sheet ΠΕ07
A1: Κλάδος | B1: ΠΕ07
A3: Ετικέτες γραμμής | B3: Άθροισμα από Πλεοναζ. | C3: Άθροισμα από Κενό Α/μια | D3: Άθροισμα από Κενό Διευθ. | E3: Άθροισμα από Κενό ΙΕΚ | F3: Άθροισμα από Διαφορά
A4: ΑΝΑΤΟΛΙΚΗΣ ΜΑΚΕΔΟΝΙΑΣ & ΘΡΑΚΗΣ | B4: 11 | C4: 11 | F4: 0
A5: Δράμας | B5: 5 | C5: 5 | F5: 0
A6: Έβρου | B6: 2 | C6: 2 | F6: 0
A7: Καβάλας | B7: 2 | C7: 2 | F7: 0
A8: Ξάνθης | B8: 2 | C8: 2 | F8: 0
A9: Αττκής | B9: 68 | C9: 68 | F9: 0
A10: Α’ Αθηνών | B10: 16 | C10: 16 | F10: 0
A11: Ανατολικής Αττικής | B11: 16 | C11: 16 | F11: 0
A12: Β' Αθηνών | B12: 21 | C12: 21 | F12: 0
A13: Δ' Αθηνών | B13: 15 | C13: 15 | F13: 0
A14: ΒΟΡΕΙΟΥ ΑΙΓΑΙΟΥ | B14: 8 | C14: 8 | F14: 0
A15: Λέσβου | B15: 2 | C15: 2 | F15: 0
... A19: Αιτωλοακαρνανίας | B19: 5 | C19: 5 | F19: 0
A20: Αχαΐας | B20: 15 | F20: -15
A21: Ηλείας | B21: 5 | C21: 5 | F21: 0
A22: ΔΥΤΙΚΗΣ ΜΑΚΕΔΟΝΙΑΣ | B22: 15 | C22: 15 | F22: 0
A23: Γρεβενών | B23: 2 | C23: 2 | F23: 0
A24: Καστοριάς | C24: 2 | F24: 2
A25: Κοζάνης | B25: 11 | C25: 9 | F25: -2
A26: Φλώρινας | B26: 2 | C26: 2 | F26: 0
A27: ΗΠΕΙΡΟΥ | B27: 22 | C27: 16 | D27: 3 | E27: 3 | F27: 0
A28: Άρτας | B28: 4 | C28: 2 | D28: 1 | E28: 1 | F28: 0
A29: Θεσπρωτίας | B29: 3 | C29: 3 | F29: 0
A30: Ιωαννίνων | B30: 12 | C30: 8 | D30: 2 | E30: 2 | F30: 0
A31: Πρεβέζης | B31: 3 | C31: 3 | F31: 0
A32: ΘΕΣΣΑΛΙΑΣ | B32: 30 | C32: 30 | F32: 0
A33: Καρδίτσας | B33: 8 | C33: 8 | F33: 0
A34: Λαρίσης | B34: 5 | C34: 5 | F34: 0
A35: Μαγνησίας | B35: 9 | C35: 9 | F35: 0
A36: Τρικάλων | B36: 8 | C36: 8 | F36: 0
A37: ΙΟΝΙΩΝ | B37: 13 | C37: 13 | F37: 0
A38: Ζακύνθου | B38: 2 | C38: 2 | F38: 0
A39: Κερκύρας | B39: 9 | C39: 9 | F39: 0
A40: Κεφαλληνίας | B40: 2 | C40: 2 | F40: 0
A41: ΚΕΝΤΡΙΚΗ ΜΕΚΕΔΟΝΙΑΣ | B41: 99 | C41: 99 | F41: 0
A42: Ανατολικής Θεσσαλονίκης | B42: 48 | C42: 32 | F42: -16
... A64: Φωκίδος | B64: 4 | C64: 2 | F64: -2
A65: Γενικό Άθροισμα | B65: 363 | C65: 339 | D65: 3 | E65: 3 | F65: -18

Sheet ΠΕ06
A1: Κλάδος | B1: ΠΕ06
A3: Ετικέτες γραμμής | B3: Άθροισμα από Πλεοναζ. | C3: Άθροισμα από Κενό Α/μια | D3: Άθροισμα από Κενό Διευθ. | E3: Άθροισμα από Κενό ΙΕΚ | F3: Άθροισμα από Διαφορά
A4: ΑΝΑΤΟΛΙΚΗΣ ΜΑΚΕΔΟΝΙΑΣ & ΘΡΑΚΗΣ | B4: 5 | C4: 5 | F4: 0
A5: Έβρου | B5: 5 | C5: 5 | F5: 0
A6: Αττκής | B6: 145 | C6: 185 | F6: 40
A7: Α’ Αθηνών | B7: 19 | C7: 19 | F7: 0
A8: Ανατολικής Αττικής | B8: 90 | C8: 81 | F8: -9
A9: Β' Αθηνών | B9: 7 | C9: 47 | F9: 40
A10: Γ' Αθηνών | B10: 29 | C10: 29 | F10: 0
A11: Δ' Αθηνών | C11: 9 | F11: 9
A12: ΒΟΡΕΙΟΥ ΑΙΓΑΙΟΥ | B12: 56 | C12: 10 | F12: -46
A13: Σάμου | B13: 23 | C13: 5 | F13: -18
A14: Χίου | B14: 33 | C14: 5 | F14: -28
A15: ΔΥΤΙΚΗΣ ΕΛΛΑΔΑΣ | B15: 80 | C15: 20 | D15: 3 | E15: 7 | F15: -50
A16: Αιτωλοακαρνανίας | B16: 38 | D16: 3 | E16: 5 | F16: -30
A17: Αχαΐας | B17: 17 | C17: 20 | E17: 2 | F17: 5
A18: Ηλείας | B18: 25 | F18: -25
A19: ΔΥΤΙΚΗΣ ΜΑΚΕΔΟΝΙΑΣ | B19: 20 | C19: 17 | F19: -3
A20: Καστοριάς | C20: 7 | F20: 7
A21: Κοζάνης | B21: 19 | C21: 9 | F21: -10
A22: Φλώρινας | B22: 1 | C22: 1 | F22: 0
A23: ΗΠΕΙΡΟΥ | B23: 15 | C23: 28 | D23: 2 | E23: 2 | F23: 17
A24: Άρτας | B24: 5 | C24: 1 | D24: 2 | E24: 2 | F24: 0
A25: Θεσπρωτίας | B25: 2 | C25: 8 | F25: 6
A26: Ιωαννίνων | B26: 5 | C26: 10 | F26: 5
A27: Πρεβέζης | B27: 3 | C27: 9 | F27: 6
A28: ΘΕΣΣΑΛΙΑΣ | B28: 94 | C28: 70 | D28: 8 | E28: 6 | F28: -10
A29: Καρδίτσας | B29: 28 | C29: 19 | D29: 2 | E29: 2 | F29: -5
A30: Λαρίσης | B30: 38 | C30: 34 | D30: 2 | E30: 2 | F30: 0
A31: Μαγνησίας | B31: 13 | C31: 11 | D31: 2 | F31: 0
A32: Τρικάλων | B32: 15 | C32: 6 | D32: 2 | E32: 2 | F32: -5
A33: ΙΟΝΙΩΝ | B33: 78 | C33: 33 | D33: 9 | E33: 4 | F33: -32
A34: Ζακύνθου | B34: 10 | C34: 5 | D34: 3 | E34: 2 | F34: 0
A35: Κερκύρας | B35: 52 | C35: 16 | D35: 4 | F35: -32
A36: Κεφαλληνίας | B36: 14 | C36: 10 | D36: 2 | E36: 2 | F36: 0
A37: Λευκάδας | B37: 2 | C37: 2 | F37: 0
A38: ΚΕΝΤΡΙΚΗ ΜΕΚΕΔΟΝΙΑΣ | B38: 52 | C38: 50 | D38: 1 | E38: 1 | F38: 0
A39: Ημαθίας | B39: 16 | C39: 16 | F39: 0
A40: Κιλκίς | B40: 8 | C40: 8 | F40: 0
A41: Πιερίας | B41: 6 | C41: 6 | F41: 0
A42: Σερρών | B42: 12 | C42: 10 | D42: 1 | E42: 1 | F42: 0
A43: Χαλκιδικής | B43: 10 | C43: 10 | F43: 0
A44: ΚΡΗΤΗΣ | B44: 54 | C44: 54 | F44: 0
A45: Ηρακλείου | B45: 30 | C45: 30 | F45: 0
A46: Λασιθίου | B46: 8 | C46: 8 | F46: 0
A47: Χανίων | B47: 16 | C47: 16 | F47: 0
A48: ΝΟΤΙΟΥ ΑΙΓΑΙΟΥ | B48: 93 | C48: 74 | D48: 5 | E48: 4 | F48: -10
A49: Δωδεκανήσων | B49: 57 | C49: 38 | D49: 5 | E49: 4 | F49: -10
A50: Κυκλάδων | B50: 36 | C50: 36 | F50: 0
A51: ΠΕΛΟΠΟΝΝΗΣΟΥ | B51: 95 | C51: 68 | D51: 6 | E51: 2 | F51: -19
A52: Αργολίδος | B52: 3 | C52: 3 | F52: 0
A53: Αρκαδίας | B53: 22 | C53: 8 | D53: 2 | E53: 2 | F53: -10
A54: Κορινθίας | B54: 10 | C54: 20 | F54: 10
A55: Λακωνίας | B55: 26 | C55: 17 | F55: -9
A56: Μεσσηνίας | B56: 34 | C56: 20 | D56: 4 | F56: -10
A57: ΣΤΕΡΕΑΣ ΕΛΛΑΔΑΣ | B57: 138 | C57: 72 | E57: 4 | F57: -62
A58: Βοιωτίας | B58: 53 | C58: 13 | F58: -40
A59: Ευβοίας | B59: 40 | C59: 34 | F59: -6
A60: Ευρυτανίας | B60: 24 | C60: 2 | E60: 2 | F60: -20
A61: Φθιώτιδος | B61: 10 | C61: 20 | F61: 10
A62: Φωκίδος | B62: 11 | C62: 3 | E62: 2 | F62: -6
A63: Γενικό Άθροισμα | B63: 925 | C63: 686 | D63: 34 | E63: 30 | F63: -175

Sheet ΠΕ05
A1: Κλάδος | B1: ΠΕ05
A3: Ετικέτες γραμμής | B3: Άθροισμα από Πλεοναζ. | C3: Άθροισμα από Κενό Α/μια | D3: Άθροισμα από Κενό Διευθ. | E3: Άθροισμα από Κενό ΙΕΚ | F3: Άθροισμα από Διαφορά
A4: ΑΝΑΤΟΛΙΚΗΣ ΜΑΚΕΔΟΝΙΑΣ & ΘΡΑΚΗΣ | B4: 24 | C4: 16 | D4: 4 | E4: 4 | F4: 0
A5: Δράμας | B5: 2 | C5: 2 | F5: 0
A6: Έβρου | B6: 7 | C6: 7 | F6: 0
A7: Καβάλας | B7: 2 | C7: 2 | F7: 0
A8: Ξάνθης | B8: 7 | C8: 3 | D8: 2 | E8: 2 | F8: 0
A9: Ροδόπης | B9: 6 | C9: 2 | D9: 2 | E9: 2 | F9: 0
A10: Αττκής | B10: 206 | C10: 206 | F10: 0
A11: Α’ Αθηνών | B11: 4 | C11: 21 | F11: 17
A12: Ανατολικής Αττικής | B12: 57 | C12: 33 | F12: -24
A13: Β' Αθηνών | B13: 14 | C13: 56 | F13: 42
A14: Γ' Αθηνών | B14: 51 | C14: 33 | F14: -18
A15: Δ' Αθηνών | B15: 25 | C15: 25 | F15: 0
A16: Δυτικής Αττικής | B16: 30 | C16: 13 | F16: -17
A17: Πειραιώς | B17: 25 | C17: 25 | F17: 0
A18: ΒΟΡΕΙΟΥ ΑΙΓΑΙΟΥ | B18: 54 | C18: 17 | D18: 11 | E18: 9 | F18: -17
A19: Λέσβου | B19: 9 | C19: 9 | F19: 0
A20: Σάμου | B20: 20 | C20: 3 | D20: 5 | E20: 5 | F20: -7
A21: Χίου | B21: 25 | C21: 5 | D21: 6 | E21: 4 | F21: -10
A22: ΔΥΤΙΚΗΣ ΕΛΛΑΔΑΣ | B22: 99 | D22: 14 | E22: 10 | F22: -75
A23: Αιτωλοακαρνανίας | B23: 32 | D23: 5 | E23: 2 | F23: -25
A24: Αχαΐας | B24: 43 | D24: 4 | E24: 4 | F24: -35
A25: Ηλείας | B25: 24 | D25: 5 | E25: 4 | F25: -15
A26: ΔΥΤΙΚΗΣ ΜΑΚΕΔΟΝΙΑΣ | B26: 25 | C26: 14 | D26: 6 | E26: 5 | F26: 0
A27: Γρεβενών | B27: 3 | C27: 2 | E27: 1 | F27: 0
A28: Κοζάνης | B28: 15 | C28: 9 | D28: 4 | E28: 2 | F28: 0
A29: Φλώρινας | B29: 7 | C29: 3 | D29: 2 | E29: 2 | F29: 0
A30: ΗΠΕΙΡΟΥ | B30: 57 | C30: 22 | D30: 18 | E30: 17 | F30: 0
A31: Άρτας | B31: 14 | C31: 4 | D31: 5 | E31: 5 | F31: 0
A32: Θεσπρωτίας | B32: 15 | C32: 3 | D32: 6 | E32: 6 | F32: 0
A33: Ιωαννίνων | B33: 16 | C33: 10 | D33: 4 | E33: 2 | F33: 0
A34: Πρεβέζης | B34: 12 | C34: 5 | D34: 3 | E34: 4 | F34: 0
A35: ΘΕΣΣΑΛΙΑΣ | B35: 85 | C35: 52 | D35: 11 | E35: 10 | F35: -12
A36: Καρδίτσας | B36: 27 | C36: 7 | D36: 5 | E36: 5 | F36: -10
A37: Λαρίσης | B37: 26 | C37: 20 | D37: 4 | E37: 2 | F37: 0
A38: Μαγνησίας | B38: 19 | C38: 19 | F38: 0
A39: Τρικάλων | B39: 13 | C39: 6 | D39: 2 | E39: 3 | F39: -2
A40: ΙΟΝΙΩΝ | B40: 47 | C40: 20 | D40: 15 | E40: 12 | F40: 0
A41: Ζακύνθου | B41: 11 | C41: 2 | D41: 5 | E41: 4 | F41: 0
A42: Κερκύρας | B42: 18 | C42: 9 | D42: 5 | E42: 4 | F42: 0
A43: Κεφαλληνίας | B43: 10 | C43: 5 | D43: 3 | E43: 2 | F43: 0
A44: Λευκάδας | B44: 8 | C44: 4 | D44: 2 | E44: 2 | F44: 0
A45: ΚΕΝΤΡΙΚΗ ΜΕΚΕΔΟΝΙΑΣ | B45: 110 | C45: 106 | D45: 3 | E45: 1 | F45: 0
A46: Ανατολικής Θεσσαλονίκης | B46: 18 | C46: 18 | F46: 0
A47: Δυτικής Θεσσαλονίκης | B47: 18 | C47: 18 | F47: 0
A48: Ημαθίας | B48: 17 | C48: 17 | F48: 0
A49: Κιλκίς | B49: 7 | C49: 7 | F49: 0
A50: Πέλλης | B50: 17 | C50: 17 | F50: 0
A51: Πιερίας | B51: 6 | C51: 4 | D51: 2 | F51: 0
A52: Σερρών | B52: 17 | C52: 15 | D52: 1 | E52: 1 | F52: 0
A53: Χαλκιδικής | B53: 10 | C53: 10 | F53: 0
A54: ΚΡΗΤΗΣ | B54: 33 | C54: 24 | D54: 5 | E54: 4 | F54: 0
A55: Ηρακλείου | B55: 20 | C55: 15 | D55: 3 | E55: 2 | F55: 0
A56: Λασιθίου | B56: 9 | C56: 5 | D56: 2 | E56: 2 | F56: 0
A57: Χανίων | B57: 4 | C57: 4 | F57: 0
A58: ΝΟΤΙΟΥ ΑΙΓΑΙΟΥ | B58: 73 | C58: 20 | D58: 9 | E58: 9 | F58: -35
A59: Δωδεκανήσων | B59: 43 | C59: 8 | D59: 5 | E59: 5 | F59: -25
A60: Κυκλάδων | B60: 30 | C60: 12 | D60: 4 | E60: 4 | F60: -10
A61: ΠΕΛΟΠΟΝΝΗΣΟΥ | B61: 74 | C61: 34 | D61: 6 | E61: 6 | F61: -28
A62: Αργολίδος | B62: 9 | C62: 5 | D62: 2 | E62: 2 | F62: 0
A63: Αρκαδίας | B63: 4 | C63: 4 | F63: 0
A64: Κορινθίας | B64: 32 | C64: 10 | D64: 2 | E64: 2 | F64: -18
A65: Λακωνίας | B65: 17 | C65: 3 | D65: 2 | E65: 2 | F65: -10
A66: Μεσσηνίας | B66: 12 | C66: 12 | F66: 0
A67: ΣΤΕΡΕΑΣ ΕΛΛΑΔΑΣ | B67: 71 | C67: 32 | D67: 13 | E67: 10 | F67: -16
A68: Βοιωτίας | B68: 20 | C68: 6 | D68: 3 | E68: 3 | F68: -8
A69: Ευβοίας | B69: 18 | C69: 12 | D69: 3 | E69: 3 | F69: 0
A70: Ευρυτανίας | B70: 12 | C70: 2 | D70: 2 | F70: -8
A71: Φθιώτιδος | B71: 14 | C71: 10 | D71: 2 | E71: 2 | F71: 0
A72: Φωκίδος | B72: 7 | C72: 2 | D72: 3 | E72: 2 | F72: 0
A73: Γενικό Άθροισμα | B73: 958 | C73: 563 | D73: 115 | E73: 97 | F73: -183

Sheet ΠΕ04.05
A1: Κλάδος | B1: ΠΕ04.05
A3: Ετικέτες γραμμής | B3: Άθροισμα από Πλεοναζ. | C3: Άθροισμα από Κενό Α/μια | D3: Άθροισμα από Κενό Διευθ. | E3: Άθροισμα από Κενό ΙΕΚ | F3: Άθροισμα από Διαφορά
A4: ΘΕΣΣΑΛΙΑΣ | B4: 3 | F4: -3
A5: Καρδίτσας | B5: 3 | F5: -3
A6: Γενικό Άθροισμα | B6: 3 | F6: -3

Sheet ΠΕ04.01
A1: Κλάδος | B1: ΠΕ04.01
A3: Ετικέτες γραμμής | B3: Άθροισμα από Πλεοναζ. | C3: Άθροισμα από Κενό Α/μια | D3: Άθροισμα από Κενό Διευθ. | E3: Άθροισμα από Κενό ΙΕΚ | F3: Άθροισμα από Διαφορά
A4: ΔΥΤΙΚΗΣ ΕΛΛΑΔΑΣ | B4: 3 | F4: -3
A5: Αχαΐας | B5: 3 | F5: -3
A6: ΚΕΝΤΡΙΚΗ ΜΕΚΕΔΟΝΙΑΣ | B6: 17 | F6: -17
A7: Ανατολικής Θεσσαλονίκης | B7: 10 | F7: -10
A8: Χαλκιδικής | B8: 7 | F8: -7
A9: ΣΤΕΡΕΑΣ ΕΛΛΑΔΑΣ | B9: 13 | F9: -13
A10: Φθιώτιδος | B10: 10 | F10: -10
A11: Φωκίδος | B11: 3 | F11: -3
A12: Γενικό Άθροισμα | B12: 33 | F12: -33

Sheet ΠΕ02
A1: Κλάδος | B1: ΠΕ02
A3: Ετικέτες γραμμής | B3: Άθροισμα από Πλεοναζ. | C3: Άθροισμα από Κενό Α/μια | D3: Άθροισμα από Κενό Διευθ. | E3: Άθροισμα από Κενό ΙΕΚ | F3: Άθροισμα από Διαφορά
A4: ΒΟΡΕΙΟΥ ΑΙΓΑΙΟΥ | B4: 5 | F4: -5
A5: Χίου | B5: 5 | F5: -5
A6: ΔΥΤΙΚΗΣ ΕΛΛΑΔΑΣ | B6: 35 | F6: -35
A7: Αχαΐας | B7: 35 | F7: -35
A8: Γενικό Άθροισμα | B8: 40 | F8: -40

Sheet ΠΕ01
A1: Κλάδος | B1: ΠΕ01 | H1: Κλάδος | I1: ΠΕ01 | J1: Τοποθετήσεις
B3: Τιμές | H3: Πλήθος από Αριθμός Μητρώου | I3: Είδος
A4: Ετικέτες γραμμής | B4: Άθροισμα από Πλεοναζ. | C4: Άθροισμα από Κενό Α/μια | D4: Άθροισμα από Κενό Διευθ. | E4: Άθροισμα από Κενό ΙΕΚ | F4: Άθροισμα από Διαφορά | H4: Διεύθυνση | I4: IEK | J4: Διοικητικός | K4: Γενικό άθροισμα
A5: Αιτωλοακαρνανίας | B5: 4 | D5: 2 | E5: 2 | F5: 0 | H5: ΑΙΤΩΛΟΑΚΑΡΝΑΝΙΑΣ | J5: 1 | K5: 1
A6: Ανατολικής Θεσσαλονίκης | B6: 30 | D6: 5 | E6: 5 | F6: -20 | H6: ΑΝΑΤΟΛΙΚΗΣ ΘΕΣΣΑΛΟΝΙΚΗΣ | J6: 2 | K6: 2
A7: Αργολίδος | B7: 4 | D7: 2 | E7: 2 | F7: 0 | H7: ΑΡΓΟΛΙΔΟΣ | J7: 2 | K7: 2
A8: Άρτας | B8: 5 | D8: 3 | E8: 2 | F8: 0 | H8: ΑΧΑΪΑΣ | I8: 1 | J8: 1 | K8: 2
A9: Αχαΐας | B9: 18 | D9: 5 | E9: 3 | F9: -10 | H9: ΓΡΕΒΕΝΩΝ | J9: 1 | K9: 1
A10: Βοιωτίας | B10: 5 | F10: -5 | H10: ΔΡΑΜΑΣ | J10: 2 | K10: 2
A11: Γρεβενών | B11: 2 | D11: 1 | E11: 1 | F11: 0 | H11: ΔΥΤΙΚΗΣ ΘΕΣΣΑΛΟΝΙΚΗΣ | J11: 4 | K11: 4
A12: Δράμας | B12: 4 | D12: 2 | E12: 2 | F12: 0 | H12: ΕΥΡΥΤΑΝΙΑΣ | J12: 1 | K12: 1
A13: Δυτικής Θεσσαλονίκης | D13: 5 | E13: 5 | F13: 10 | H13: ΗΛΕΙΑΣ | J13: 1 | K13: 1
A14: Δωδεκανήσων | B14: 4 | D14: 2 | E14: 2 | F14: 0 | H14: ΗΜΑΘΙΑΣ | J14: 1 | K14: 1
A15: Ευβοίας | B15: 12 | F15: -12 | H15: ΚΑΒΑΛΑΣ | J15: 1 | K15: 1
A16: Ευρυτανίας | B16: 3 | D16: 2 | E16: 1 | F16: 0 | H16: ΚΑΡΔΙΤΣΑΣ | J16: 2 | K16: 2
A17: Ηλείας | B17: 2 | D17: 2 | F17: 0 | H17: ΚΑΣΤΟΡΙΑΣ | J17: 1 | K17: 1
A18: Ημαθίας | B18: 7 | D18: 5 | E18: 2 | F18: 0 | H18: ΚΙΛΚΙΣ | J18: 2 | K18: 2
A19: Θεσπρωτίας | B19: 1 | D19: 1 | F19: 0 | H19: ΚΟΖΑΝΗΣ | I19: 1 | J19: 1 | K19: 2
A20: Καβάλας | B20: 2 | D20: 2 | F20: 0 | H20: ΚΟΡΙΝΘΙΑΣ | J20: 1 | K20: 1
A21: Καρδίτσας | B21: 12 | D21: 4 | E21: 4 | F21: -4 | H21: ΛΑΡΙΣΗΣ | J21: 8 | K21: 8
A22: Καστοριάς | B22: 1 | D22: 1 | F22: 0 | H22: ΜΑΓΝΗΣΙΑΣ | I22: 1 | J22: 3 | K22: 4
A23: Κερκύρας | B23: 8 | D23: 3 | E23: 3 | F23: -2 | H23: ΠΕΛΛΗΣ | J23: 1 | K23: 1
A24: Κιλκίς | B24: 5 | D24: 3 | E24: 2 | F24: 0 | H24: ΠΙΕΡΙΑΣ | I24: 1 | J24: 2 | K24: 3
A25: Κοζάνης | B25: 4 | D25: 2 | E25: 2 | F25: 0 | H25: ΣΕΡΡΩΝ | J25: 2 | K25: 2
A26: Κορινθίας | B26: 1 | D26: 1 | F26: 0 | H26: ΤΡΙΚΑΛΩΝ | J26: 2 | K26: 2
A27: Λαρίσης | B27: 18 | D27: 5 | E27: 3 | F27: -10 | H27: ΦΘΙΩΤΙΔΟΣ | J27: 1 | K27: 1
A28: Λασιθίου | B28: 2 | D28: 2 | F28: 0 | H28: ΧΑΛΚΙΔΙΚΗΣ | J28: 1 | K28: 1
A29: Μαγνησίας | B29: 11 | D29: 3 | E29: 3 | F29: -5 | H29: Γενικό άθροισμα | I29: 4 | J29: 44 | K29: 48
A30: Ξάνθης | B30: 4 | D30: 2 | E30: 2 | F30: 0
A31: Πέλλης | D31: 3 | E31: 2 | F31: 5
A32: Πιερίας | B32: 4 | D32: 2 | E32: 2 | F32: 0
A33: Πρεβέζης | B33: 2 | D33: 1 | E33: 1 | F33: 0
A34: Σερρών | B34: 4 | D34: 2 | E34: 2 | F34: 0
A35: Τρικάλων | B35: 2 | D35: 2 | F35: 0
A36: Φθιώτιδος | B36: 4 | D36: 2 | E36: 2 | F36: 0
A37: Φωκίδος | B37: 8 | D37: 4 | E37: 2 | F37: -2
A38: Χαλκιδικής | B38: 4 | D38: 2 | E38: 2 | F38: 0
A39: Γενικό άθροισμα | B39: 197 | D39: 83 | E39: 59 | F39: -55

Sheet Συγκεντρωτικά
B3: Τιμές
A4: Ετικέτες γραμμής | B4: Άθροισμα από Πλεοναζ. | C4: Άθροισμα από Κενό Α/μια | D4: Άθροισμα από Κενό Διευθ. | E4: Άθροισμα από Κενό ΙΕΚ | F4: Άθροισμα από Διαφορά
A5: Α’ Αθηνών | B5: 120 | C5: 137 | F5: 17
A6: ΠΕ05 | B6: 4 | C6: 21 | F6: 17
A7: ΠΕ06 | B7: 19 | C7: 19 | F7: 0
A8: ΠΕ07 | B8: 16 | C8: 16 | F8: 0
A9: ΠΕ19-ΠΕ20 | B9: 81 | C9: 81 | F9: 0
A10: Αιτωλοακαρνανίας | B10: 158 | C10: 50 | D10: 10 | E10: 9 | F10: -89
A11: ΠΕ01 | B11: 4 | D11: 2 | E11: 2 | F11: 0
A12: ΠΕ05 | B12: 32 | D12: 5 | E12: 2 | F12: -25
A13: ΠΕ06 | B13: 38 | D13: 3 | E13: 5 | F13: -30
A14: ΠΕ07 | B14: 5 | C14: 5 | F14: 0
A15: ΠΕ08 | B15: 8 | C15: 8 | F15: 0
A16: ΠΕ11 | B16: 30 | C16: 5 | F16: -25
A17: ΠΕ16 | B17: 2 | C17: 2 | F17: 0
A18: ΠΕ19-ΠΕ20 | B18: 39 | C18: 30 | F18: -9
A19: Ανατολικής Αττικής | B19: 395 | C19: 325 | F19: -70
A20: ΠΕ05 | B20: 57 | C20: 33 | F20: -24
A21: ΠΕ06 | B21: 90 | C21: 81 | F21: -9
A22: ΠΕ07 | B22: 16 | C22: 16 | F22: 0
A23: ΠΕ08 | B23: 10 | C23: 10 | F23: 0
A24: ΠΕ11 | B24: 90 | C24: 81 | F24: -9
A25: ΠΕ13 | B25: 9 | F25: -9
A26: ΠΕ16 | B26: 13 | C26: 13 | F26: 0
A27: ΠΕ19-ΠΕ20 | B27: 110 | C27: 91 | F27: -19
A28: Ανατολικής Θεσσαλονίκης | B28: 249 | C28: 133 | D28: 21 | E28: 11 | F28: -84
A29: ΠΕ01 | B29: 30 | D29: 5 | E29: 5 | F29: -20
A30: ΠΕ04.01 | B30: 10 | F30: -10
A31: ΠΕ05 | B31: 18 | C31: 18 | F31: 0
A32: ΠΕ07 | B32: 48 | C32: 32 | F32: -16
A33: ΠΕ08 | B33: 24 | C33: 24 | F33: 0
A34: ΠΕ09 | B34: 12 | D34: 4 | E34: 2 | F34: -6
A35: ΠΕ10 | B35: 2 | F35: -2
A36: ΠΕ11 | B36: 16 | C36: 10 | F36: -6
A37: ΠΕ12.01 | B37: 1 | D37: 1 | F37: 0
A38: ΠΕ13 | B38: 2 | D38: 2 | F38: 0
A39: ΠΕ16 | B39: 19 | C39: 19 | F39: 0
A40: ΠΕ18.02 | B40: 5 | D40: 5 | F40: 0
A41: ΠΕ19-ΠΕ20 | B41: 62 | C41: 30 | D41: 4 | E41: 4 | F41: -24
A42: Αργολίδος | B42: 70 | C42: 35 | D42: 5 | E42: 4 | F42: -26
A43: ΠΕ01 | B43: 4 | D43: 2 | E43: 2 | F43: 0
A44: ΠΕ05 | B44: 9 | C44: 5 | D44: 2 | E44: 2 | F44: 0
A45: ΠΕ06 | B45: 3 | C45: 3 | F45: 0
A46: ΠΕ07 | B46: 7 | C46: 4 | F46: -3
A47: ΠΕ08 | B47: 7 | C47: 7 | F47: 0
A48: ΠΕ09 | B48: 3 | F48: -3
A49: ΠΕ11 | B49: 31 | C49: 11 | F49: -20
A50: ΠΕ16 | B50: 2 | C50: 2 | F50: 0
A51: ΠΕ19-ΠΕ20 | B51: 4 | C51: 3 | D51: 1 | F51: 0
A52: Αρκαδίας | B52: 81 | C52: 27 | D52: 2 | E52: 2 | F52: -50
A53: ΠΕ05 | B53: 4 | C53: 4 | F53: 0
A54: ΠΕ06 | B54: 22 | C54: 8 | D54: 2 | E54: 2 | F54: -10
A55: ΠΕ08 | B55: 2 | C55: 2 | F55: 0
A56: ΠΕ11 | B56: 35 | F56: -35
A57: ΠΕ16 | B57: 1 | C57: 1 | F57: 0
A58: ΠΕ19-ΠΕ20 | B58: 17 | C58: 12 | F58: -5
A59: Άρτας | B59: 57 | C59: 22 | D59: 18 | E59: 17 | F59: 0
A60: ΠΕ01 | B60: 5 | D60: 3 | E60: 2 | F60: 0
A61: ΠΕ05 | B61: 14 | C61: 4 | D61: 5 | E61: 5 | F61: 0
A62: ΠΕ06 | B62: 5 | C62: 1 | D62: 2 | E62: 2 | F62: 0
A63: ΠΕ07 | B63: 4 | C63: 2 | D63: 1 | E63: 1 | F63: 0
A64: ΠΕ08 | B64: 5 | C64: 3 | D64: 1 | E64: 1 | F64: 0
A65: ΠΕ09 | B65: 4 | D65: 2 | E65: 2 | F65: 0
A66: ΠΕ11 | B66: 4 | D66: 2 | E66: 2 | F66: 0
A67: ΠΕ13 | B67: 1 | D67: 1 | F67: 0
A68: ΠΕ19-ΠΕ20 | B68: 13 | C68: 10 | D68: 1 | E68: 2 | F68: 0
A69: ΠΕ32 | B69: 2 | C69: 2 | F69: 0
A70: Αχαΐας | B70: 258 | C70: 85 | D70: 11 | E70: 9 | F70: -153
A71: ΠΕ01 | B71: 18 | D71: 5 | E71: 3 | F71: -10
A72: ΠΕ02 | B72: 35 | F72: -35
A73: ΠΕ04.01 | B73: 3 | F73: -3
A74: ΠΕ05 | B74: 43 | D74: 4 | E74: 4 | F74: -35
A75: ΠΕ06 | B75: 17 | C75: 20 | E75: 2 | F75: 5
A76: ΠΕ07 | B76: 15 | F76: -15
A77: ΠΕ08 | B77: 19 | C77: 19 | F77: 0
A78: ΠΕ09 | B78: 3 | F78: -3
A79: ΠΕ11 | B79: 40 | F79: -40
A80: ΠΕ13 | B80: 1 | D80: 1 | F80: 0
A81: ΠΕ16 | B81: 21 | C81: 14 | F81: -7
A82: ΠΕ18.02 | B82: 6 | D82: 1 | F82: -5
A83: ΠΕ19-ΠΕ20 | B83: 35 | C83: 30 | F83: -5
A84: ΠΕ32 | B84: 2 | C84: 2 | F84: 0
A85: Β' Αθηνών | B85: 76 | C85: 214 | F85: 138
A86: ΠΕ05 | B86: 14 | C86: 56 | F86: 42
A87: ΠΕ06 | B87: 7 | C87: 47 | F87: 40
A88: ΠΕ07 | B88: 21 | C88: 21 | F88: 0
A89: ΠΕ11 | C89: 25 | F89: 25
A90: ΠΕ19-ΠΕ20 | B90: 34 | C90: 65 | F90: 31
A91: Βοιωτίας | B91: 146 | C91: 46 | D91: 5 | E91: 5 | F91: -90
A92: ΠΕ01 | B92: 5 | F92: -5
A93: ΠΕ05 | B93: 20 | C93: 6 | D93: 3 | E93: 3 | F93: -8
A94: ΠΕ06 | B94: 53 | C94: 13 | F94: -40
A95: ΠΕ07 | B95: 4 | C95: 4 | F95: 0
A96: ΠΕ08 | B96: 5 | C96: 5 | F96: 0
A97: ΠΕ09 | B97: 11 | D97: 2 | E97: 2 | F97: -7
A98: ΠΕ11 | B98: 26 | C98: 18 | F98: -8
A99: ΠΕ19-ΠΕ20 | B99: 22 | F99: -22
A100: Γ' Αθηνών | B100: 272 | C100: 209 | D100: 2 | F100: -61
A101: ΠΕ05 | B101: 51 | C101: 33 | F101: -18
A102: ΠΕ06 | B102: 29 | C102: 29 | F102: 0
...

Sheet Περιφέρειες
F1: Πλεονάζοντες ανα Περιφέρεια | K1: * με αρνητικό όσοι πλεονάζουν με θετικό υπάρχει έλλειμμα
A3: Άθροισμα από Διαφορά | B3: Ετικέτες στήλης
A4: Ετικέτες γραμμής | B4: ΠΕ01 | C4: ΠΕ02 | D4: ΠΕ04.01 | E4: ΠΕ04.05 | F4: ΠΕ05 | G4: ΠΕ06 | H4: ΠΕ07 | I4: ΠΕ08 | J4: ΠΕ09 | K4: ΠΕ10 | L4: ΠΕ11 | M4: ΠΕ12.01 | N4: ΠΕ13 | O4: ΠΕ16 | P4: ΠΕ18.02 | Q4: ΠΕ19-ΠΕ20 | R4: ΠΕ32 | S4: Γενικό Άθροισμα
A5: ΑΝΑΤΟΛΙΚΗΣ ΜΑΚΕΔΟΝΙΑΣ & ΘΡΑΚΗΣ | B5: 0 | F5: 0 | G5: 0 | H5: 0 | I5: 0 | J5: 0 | L5: 0 | N5: 0 | O5: 0 | P5: 0 | Q5: 0 | S5: 0
A6: Αττκής | F6: 0 | G6: 40 | H6: 0 | I6: 0 | L6: -37 | N6: -13 | O6: 0 | Q6: 23 | S6: 13
A7: ΒΟΡΕΙΟΥ ΑΙΓΑΙΟΥ | C7: -5 | F7: -17 | G7: -46 | H7: 0 | I7: 0 | J7: -6 | L7: -108 | Q7: -4 | R7: -20 | S7: -206
A8: ΔΥΤΙΚΗΣ ΕΛΛΑΔΑΣ | B8: -10 | C8: -35 | D8: -3 | F8: -75 | G8: -50 | H8: -15 | I8: 0 | J8: -3 | L8: -91 | N8: 0 | O8: 0 | P8: -5 | Q8: -5 | R8: 0 | S8: -292
A9: ΔΥΤΙΚΗΣ ΜΑΚΕΔΟΝΙΑΣ | B9: 0 | F9: 0 | G9: -3 | H9: 0 | J9: 0 | L9: 0 | P9: 0 | Q9: 0 | S9: -3
A10: ΗΠΕΙΡΟΥ | B10: 0 | F10: 0 | G10: 17 | H10: 0 | I10: 0 | J10: 0 | K10: 1 | L10: 0 | N10: 0 | O10: 0 | P10: 0 | Q10: 0 | R10: 0 | S10: 18
A11: ΘΕΣΣΑΛΙΑΣ | B11: -19 | E11: -3 | F11: -12 | G11: -10 | H11: 0 | I11: -10 | J11: -4 | L11: -5 | N11: -2 | O11: -18 | P11: -9 | Q11: 0 | S11: -92
A12: ΙΟΝΙΩΝ | B12: -2 | F12: 0 | G12: -32 | H12: 0 | I12: 0 | J12: -4 | L12: -90 | Q12: -5 | S12: -133
A13: ΚΕΝΤΡΙΚΗ ΜΕΚΕΔΟΝΙΑΣ | B13: -5 | D13: -17 | F13: 0 | G13: 0 | H13: 0 | I13: 0 | J13: -6 | K13: -2 | L13: 0 | M13: 0 | N13: 0 | O13: -5 | P13: 0 | Q13: 0 | R13: 0 | S13: -35
A14: ΚΡΗΤΗΣ | B14: 0 | F14: 0 | G14: 0 | H14: 0 | I14: 0 | J14: 0 | L14: -34 | N14: 0 | Q14: 0 | S14: -34
A15: ΝΟΤΙΟΥ ΑΙΓΑΙΟΥ | B15: 0 | F15: -35 | G15: -10 | H15: 0 | I15: 0 | J15: -25 | K15: -4 | L15: -100 | O15: 0 | Q15: -12 | S15: -186
A16: ΠΕΛΟΠΟΝΝΗΣΟΥ | B16: 0 | F16: -28 | G16: -19 | H16: -3 | I16: 0 | J16: -3 | L16: -110 | O16: 0 | Q16: 0 | R16: 0 | S16: -163
A17: ΣΤΕΡΕΑΣ ΕΛΛΑΔΑΣ | B17: -19 | D17: -13 | F17: -16 | G17: -62 | H17: 0 | I17: 0 | J17: -7 | L17: -65 | O17: 0 | Q17: -38 | S17: -220
A18: Γενικό Άθροισμα | B18: -55 | C18: -40 | D18: -33 | E18: -3 | F18: -183 | G18: -175 | H18: -18 | I18: -10 | J18: -58 | K18: -5 | L18: -640 | M18: 0 | N18: -15 | O18: -23 | P18: -14 | Q18: -41 | R18: -20 | S18: -1333

Sheet Ποσοστά για γραφ Α_βμια πλεον
A2: Κλάδος | B2: Πλεόνασμα Β/μια | C2: Κενά Α/μια | D2: % των κενών Α επί του πλεονάσματος | E2: Κενά σε Γραφ. & ΙΕΚ | F2: % των κενών Γ επί του πλεονάσματος | G2: Κενά | H2: Πλεόνασμα Φορέα | I2: % των κενών Φ επί του πλεονάσματος
A3: ΠΕ01 | B3: 197 | D3: =C3/B3 -> 0 | E3: 142 | F3: =E3/B3 -> 0.72081218 | G3: =C3+E3 -> 142 | H3: =B3-C3-E3 -> 55 | I3: =H3/B3 -> 0.27918782
A4: ΠΕ02 | B4: 40 | D4: =C4/B4 -> 0 | E4: 0 | F4: =E4/B4 -> 0 | G4: =C4+E4 -> 0 | H4: =B4-C4-E4 -> 40 | I4: =H4/B4 -> 1
A5: ΠΕ04.01 | B5: 33 | D5: =C5/B5 -> 0 | E5: 0 | F5: =E5/B5 -> 0 | G5: =C5+E5 -> 0 | H5: =B5-C5-E5 -> 33 | I5: =H5/B5 -> 1
A6: ΠΕ04.05 | B6: 3 | D6: =C6/B6 -> 0 | E6: 0 | F6: =E6/B6 -> 0 | G6: =C6+E6 -> 0 | H6: =B6-C6-E6 -> 3 | I6: =H6/B6 -> 1
A7: ΠΕ05 | B7: 958 | C7: 563 | D7: =C7/B7 -> 0.58768267 | E7: 212 | F7: =E7/B7 -> 0.22129436 | G7: =C7+E7 -> 775 | H7: =B7-C7-E7 -> 183 | I7: =H7/B7 -> 0.19102296
A8: ΠΕ06 | B8: 925 | C8: 686 | D8: =C8/B8 -> 0.74162162 | E8: 64 | F8: =E8/B8 -> 0.069189189 | G8: =C8+E8 -> 750 | H8: =B8-C8-E8 -> 175 | I8: =H8/B8 -> 0.18918919
A9: ΠΕ07 | B9: 363 | C9: 339 | D9: =C9/B9 -> 0.9338843 | E9: 6 | F9: =E9/B9 -> 0.016528926 | G9: =C9+E9 -> 345 | H9: =B9-C9-E9 -> 18 | I9: =H9/B9 -> 0.049586777
A10: ΠΕ08 | B10: 274 | C10: 262 | D10: =C10/B10 -> 0.95620438 | E10: 2 | F10: =E10/B10 -> 0.0072992701 | G10: =C10+E10 -> 264 | H10: =B10-C10-E10 -> 10 | I10: =H10/B10 -> 0.03649635
A11: ΠΕ09 | B11: 146 | D11: =C11/B11 -> 0 | E11: 88 | F11: =E11/B11 -> 0.60273973 | G11: =C11+E11 -> 88 | H11: =B11-C11-E11 -> 58 | I11: =H11/B11 -> 0.39726027
A12: ΠΕ10 | B12: 6 | D12: =C12/B12 -> 0 | E12: 1 | F12: =E12/B12 -> 0.16666667 | G12: =C12+E12 -> 1 | H12: =B12-C12-E12 -> 5 | I12: =H12/B12 -> 0.83333333
A13: ΠΕ11 | B13: 1436 | C13: 675 | D13: =C13/B13 -> 0.47005571 | E13: 121 | F13: =E13/B13 -> 0.084261838 | G13: =C13+E13 -> 796 | H13: =B13-C13-E13 -> 640 | I13: =H13/B13 -> 0.44568245
A14: ΠΕ12.01 | B14: 1 | D14: =C14/B14 -> 0 | E14: 1 | F14: =E14/B14 -> 1 | G14: =C14+E14 -> 1 | H14: =B14-C14-E14 -> 0 | I14: =H14/B14 -> 0
A15: ΠΕ13 | B15: 30 | D15: =C15/B15 -> 0 | E15: 15 | F15: =E15/B15 -> 0.5 | G15: =C15+E15 -> 15 | H15: =B15-C15-E15 -> 15 | I15: =H15/B15 -> 0.5
A16: ΠΕ16 | B16: 156 | C16: 133 | D16: =C16/B16 -> 0.8525641 | E16: 0 | F16: =E16/B16 -> 0 | G16: =C16+E16 -> 133 | H16: =B16-C16-E16 -> 23 | I16: =H16/B16 -> 0.1474359
A17: ΠΕ18.02 | B17: 39 | D17: =C17/B17 -> 0 | E17: 25 | F17: =E17/B17 -> 0.64102564 | G17: =C17+E17 -> 25 | H17: =B17-C17-E17 -> 14 | I17: =H17/B17 -> 0.35897436
A18: ΠΕ19-ΠΕ20 | B18: 1341 | C18: 1173 | D18: =C18/B18 -> 0.87472036 | E18: 127 | F18: =E18/B18 -> 0.094705444 | G18: =C18+E18 -> 1300 | H18: =B18-C18-E18 -> 41 | I18: =H18/B18 -> 0.030574198
A19: ΠΕ32 | B19: 66 | C19: 44 | D19: =C19/B19 -> 0.66666667 | E19: 2 | F19: =E19/B19 -> 0.03030303 | G19: =C19+E19 -> 46 | H19: =B19-C19-E19 -> 20 | I19: =H19/B19 -> 0.3030303
A20: Γενικό Άθροισμα | B20: 6014 | C20: 3875 | D20: =C20/B20 -> 0.6443299 | E20: 806 | F20: =E20/B20 -> 0.13402062 | G20: =C20+E20 -> 4681 | H20: =B20-C20-E20 -> 1333 | I20: =H20/B20 -> 0.22164948

Sheet Data
A1: aa | B1: Περιφέρεια | C1: Διεύθυνση | D1: Κλάδος | E1: Λεκτικό | F1: Πλεοναζ. | G1: Κενό Α/μια | H1: Κενό Διευθ. | I1: Κενό ΙΕΚ | J1: Διαφορά | K1: Αθρ. Κενών σε γρ, | L1: Διευθ Πρωτ. | M1: Κλάδος Πρ. | N1: Λεκτικό Πρ. | O1: Διευθυνση Διοικ | P1: Λεκτικό Διοικ. | Q1: Διεύθυνση ΙΕΚ | R1: Κλάδος ΙΕΚ
A2: 1 | B2: ΑΝΑΤΟΛΙΚΗΣ ΜΑΚΕΔΟΝΙΑΣ & ΘΡΑΚΗΣ | C2: Δράμας | D2: ΠΕ01 | E2: Θεολόγοι | F2: 4 | H2: 2 | I2: 2 | J2: =(G2+H2+I2)-F2 -> 0 | K2: =Data!$I2+Data!$H2 -> 4 | O2: Διεύθυνση Δράμας | P2: ΠΕ01 | Q2: ΙΕΚ Δράμας | R2: ΠΕ01
A3: 13 | B3: ΑΝΑΤΟΛΙΚΗΣ ΜΑΚΕΔΟΝΙΑΣ & ΘΡΑΚΗΣ | C3: Καβάλας | D3: ΠΕ01 | E3: Θεολόγοι | F3: 2 | H3: 2 | J3: =(G3+H3+I3)-F3 -> 0 | K3: =Data!$I3+Data!$H3 -> 2 | O3: Διεύθυνση Καβάλας | P3: ΠΕ01
A4: 20 | B4: ΑΝΑΤΟΛΙΚΗΣ ΜΑΚΕΔΟΝΙΑΣ & ΘΡΑΚΗΣ | C4: Ξάνθης | D4: ΠΕ01 | E4: Θεολόγοι | F4: 4 | H4: 2 | I4: 2 | J4: =(G4+H4+I4)-F4 -> 0 | K4: =Data!$I4+Data!$H4 -> 4 | O4: Διεύθυνση Ξάνθης | P4: ΠΕ01 | Q4: ΙΕΚ Ξάνθης | R4: ΠΕ01
A5: 83 | B5: ΔΥΤΙΚΗΣ ΕΛΛΑΔΑΣ | C5: Αιτωλοακαρνανίας | D5: ΠΕ01 | E5: Θεολόγοι | F5: 4 | H5: 2 | I5: 2 | J5: =(G5+H5+I5)-F5 -> 0 | K5: =Data!$I5+Data!$H5 -> 4 | O5: Διεύθυνση Αιτωλοακαρνανίας | P5: ΠΕ01 | Q5: ΙΕΚ Αιτωλοακαρνανίας | R5: ΠΕ01
A6: 91 | B6: ΔΥΤΙΚΗΣ ΕΛΛΑΔΑΣ | C6: Αχαΐας | D6: ΠΕ01 | E6: Θεολόγοι | F6: 18 | H6: 5 | I6: 3 | J6: =(G6+H6+I6)-F6 -> -10 | K6: =Data!$I6+Data!$H6 -> 8 | O6: Διεύθυνση Αχαΐας | P6: ΠΕ01 | Q6: ΙΕΚ Αχαΐας | R6: ΠΕ01
A7: 105 | B7: ΔΥΤΙΚΗΣ ΕΛΛΑΔΑΣ | C7: Ηλείας | D7: ΠΕ01 | E7: Θεολόγοι | F7: 2 | H7: 2 | J7: =(G7+H7+I7)-F7 -> 0 | K7: =Data!$I7+Data!$H7 -> 2 | O7: Διεύθυνση Ηλείας | P7: ΠΕ01
A8: 114 | B8: ΔΥΤΙΚΗΣ ΜΑΚΕΔΟΝΙΑΣ | C8: Γρεβενών | D8: ΠΕ01 | E8: Θεολόγοι | F8: 2 | H8: 1 | I8: 1 | J8: =(G8+H8+I8)-F8 -> 0 | K8: =Data!$I8+Data!$H8 -> 2 | O8: Διεύθυνση Γρεβενών | P8: ΠΕ01 | Q8: ΙΕΚ Γρεβενών | R8: ΠΕ01
A9: 120 | B9: ΔΥΤΙΚΗΣ ΜΑΚΕΔΟΝΙΑΣ | C9: Καστοριάς | D9: ΠΕ01 | E9: Θεολόγοι | F9: 1 | H9: 1 | J9: =(G9+H9+I9)-F9 -> 0 | K9: =Data!$I9+Data!$H9 -> 1 | O9: Διεύθυνση Καστοριάς | P9: ΠΕ01
A10: 124 | B10: ΔΥΤΙΚΗΣ ΜΑΚΕΔΟΝΙΑΣ | C10: Κοζάνης | D10: ΠΕ01 | E10: Θεολόγοι | F10: 4 | H10: 2 | I10: 2 | J10: =(G10+H10+I10)-F10 -> 0 | K10: =Data!$I10+Data!$H10 -> 4 | O10: Διεύθυνση Κοζάνης | P10: ΠΕ01 | Q10: ΙΕΚ Κοζάνης | R10: ΠΕ01
A11: 138 | B11: ΗΠΕΙΡΟΥ | C11: Άρτας | D11: ΠΕ01 | E11: Θεολόγοι | F11: 5 | H11: 3 | I11: 2 | J11: =(G11+H11+I11)-F11 -> 0 | K11: =Data!$I11+Data!$H11 -> 5 | O11: Διεύθυνση Άρτας | P11: ΠΕ01 | Q11: ΙΕΚ Άρτας | R11: ΠΕ01
A12: 148 | B12: ΗΠΕΙΡΟΥ | C12: Θεσπρωτίας | D12: ΠΕ01 | E12: Θεολόγοι | F12: 1 | H12: 1 | J12: =(G12+H12+I12)-F12 -> 0 | K12: =Data!$I12+Data!$H12 -> 1 | O12: Διεύθυνση Θεσπρωτίας | P12: ΠΕ01
A13: 166 | B13: ΗΠΕΙΡΟΥ | C13: Πρεβέζης | D13: ΠΕ01 | E13: Θεολόγοι | F13: 2 | H13: 1 | I13: 1 | J13: =(G13+H13+I13)-F13 -> 0 | K13: =Data!$I13+Data!$H13 -> 2 | O13: Διεύθυνση Πρεβέζης | P13: ΠΕ01 | Q13: ΙΕΚ Πρεβέζης | R13: ΠΕ01
A14: 176 | B14: ΘΕΣΣΑΛΙΑΣ | C14: Καρδίτσας | D14: ΠΕ01 | E14: Θεολόγοι | F14: 12 | H14: 4 | I14: 4 | J14: =(G14+H14+I14)-F14 -> -4 | K14: =Data!$I14+Data!$H14 -> 8 | O14: Διεύθυνση Καρδίτσας | P14: ΠΕ01 | Q14: ΙΕΚ Καρδίτσας | R14: ΠΕ01
A15: 186 | B15: ΘΕΣΣΑΛΙΑΣ | C15: Λαρίσης | D15: ΠΕ01 | E15: Θεολόγοι | F15: 18 | H15: 5 | I15: 3 | J15: =(G15+H15+I15)-F15 -> -10 | K15: =Data!$I15+Data!$H15 -> 8 | O15: Διεύθυνση Λαρίσης | P15: ΠΕ01 | Q15: ΙΕΚ Λαρίσης | R15: ΠΕ01
A16: 196 | B16: ΘΕΣΣΑΛΙΑΣ | C16: Μαγνησίας | D16: ΠΕ01 | E16: Θεολόγοι | F16: 11 | H16: 3 | I16: 3 | J16: =(G16+H16+I16)-F16 -> -5 | K16: =Data!$I16+Data!$H16 -> 6 | O16: Διεύθυνση Μαγνησίας | P16: ΠΕ01 | Q16: ΙΕΚ Μαγνησίας | R16: ΠΕ01
A17: 204 | B17: ΘΕΣΣΑΛΙΑΣ | C17: Τρικάλων | D17: ΠΕ01 | E17: Θεολόγοι | F17: 2 | H17: 2 | J17: =(G17+H17+I17)-F17 -> 0 | K17: =Data!$I17+Data!$H17 -> 2 | O17: Διεύθυνση Τρικάλων | P17: ΠΕ01
A18: 218 | B18: ΙΟΝΙΩΝ | C18: Κερκύρας | D18: ΠΕ01 | E18: Θεολόγοι | F18: 8 | H18: 3 | I18: 3 | J18: =(G18+H18+I18)-F18 -> -2 | K18: =Data!$I18+Data!$H18 -> 6 | O18: Διεύθυνση Κερκύρας | P18: ΠΕ01 | Q18: ΙΕΚ Κερκύρας | R18: ΠΕ01
A19: 233 | B19: ΚΕΝΤΡΙΚΗ ΜΕΚΕΔΟΝΙΑΣ | C19: Ανατολικής Θεσσαλονίκης | D19: ΠΕ01 | E19: Θεολόγοι | F19: 30 | H19: 5 | I19: 5 | J19: =(G19+H19+I19)-F19 -> -20 | K19: =Data!$I19+Data!$H19 -> 10 | L19: Ανατολικής Θεσσαλονίκης | O19: Διεύθυνση Ανατολικής Θεσσαλονίκης | P19: ΠΕ01 | Q19: ΙΕΚ Ανατολικής Θεσσαλονίκης | R19: ΠΕ01
A20: 246 | B20: ΚΕΝΤΡΙΚΗ ΜΕΚΕΔΟΝΙΑΣ | C20: Δυτικής Θεσσαλονίκης | D20: ΠΕ01 | E20: Θεολόγοι | H20: 5 | I20: 5 | J20: =(G20+H20+I20)-F20 -> 10 | K20: =Data!$I20+Data!$H20 -> 10 | O20: Διεύθυνση Δυτικής Θεσσαλονίκης | P20: ΠΕ01 | Q20: ΙΕΚ Δυτικής Θεσσαλονίκης | R20: ΠΕ01
A21: 255 | B21: ΚΕΝΤΡΙΚΗ ΜΕΚΕΔΟΝΙΑΣ | C21: Ημαθίας | D21: ΠΕ01 | E21: Θεολόγοι | F21: 7 | H21: 5 | I21: 2 | J21: =(G21+H21+I21)-F21 -> 0 | K21: =Data!$I21+Data!$H21 -> 7 | O21: Διεύθυνση Ημαθίας | P21: ΠΕ01 | Q21: ΙΕΚ Ημαθίας | R21: ΠΕ01
A22: 261 | B22: ΚΕΝΤΡΙΚΗ ΜΕΚΕΔΟΝΙΑΣ | C22: Κιλκίς | D22: ΠΕ01 | E22: Θεολόγοι | F22: 5 | H22: 3 | I22: 2 | J22: =(G22+H22+I22)-F22 -> 0 | K22: =Data!$I22+Data!$H22 -> 5 | O22: Διεύθυνση Κιλκίς | P22: ΠΕ01 | Q22: ΙΕΚ Κιλκίς | R22: ΠΕ01
A23: 268 | B23: ΚΕΝΤΡΙΚΗ ΜΕΚΕΔΟΝΙΑΣ | C23: Πέλλης | D23: ΠΕ01 | E23: Θεολόγοι | H23: 3 | I23: 2 | J23: =(G23+H23+I23)-F23 -> 5 | K23: =Data!$I23+Data!$H23 -> 5 | O23: Διεύθυνση Πέλλης | P23: ΠΕ01 | Q23: ΙΕΚ Πέλλης | R23: ΠΕ01
A24: 275 | B24: ΚΕΝΤΡΙΚΗ ΜΕΚΕΔΟΝΙΑΣ | C24: Πιερίας | D24: ΠΕ01 | E24: Θεολόγοι | F24: 4 | H24: 2 | I24: 2 | J24: =(G24+H24+I24)-F24 -> 0 | K24: =Data!$I24+Data!$H24 -> 4 | O24: Διεύθυνση Πιερίας | P24: ΠΕ01 | Q24: ΙΕΚ Πιερίας | R24: ΠΕ01
A25: 285 | B25: ΚΕΝΤΡΙΚΗ ΜΕΚΕΔΟΝΙΑΣ | C25: Σερρών | D25: ΠΕ01 | E25: Θεολόγοι | F25: 4 | H25: 2 | I25: 2 | J25: =(G25+H25+I25)-F25 -> 0 | K25: =Data!$I25+Data!$H25 -> 4 | O25: Διεύθυνση Σερρών | P25: ΠΕ01 | Q25: ΙΕΚ Σερρών | R25: ΠΕ01
A26: 292 | B26: ΚΕΝΤΡΙΚΗ ΜΕΚΕΔΟΝΙΑΣ | C26: Χαλκιδικής | D26: ΠΕ01 | E26: Θεολόγοι | F26: 4 | H26: 2 | I26: 2 | J26: =(G26+H26+I26)-F26 -> 0 | K26: =Data!$I26+Data!$H26 -> 4 | O26: Διεύθυνση Χαλκιδικής | P26: ΠΕ01 | Q26: ΙΕΚ Χαλκιδικής | R26: ΠΕ01
A27: 308 | B27: ΚΡΗΤΗΣ | C27: Λασιθίου | D27: ΠΕ01 | E27: Θεολόγοι | F27: 2 | H27: 2 | J27: =(G27+H27+I27)-F27 -> 0 | K27: =Data!$I27+Data!$H27 -> 2 | O27: Διεύθυνση Λασιθίου | P27: ΠΕ01
A28: 322 | B28: ΝΟΤΙΟΥ ΑΙΓΑΙΟΥ | C28: Δωδεκανήσων | D28: ΠΕ01 | E28: Θεολόγοι | F28: 4 | H28: 2 | I28: 2 | J28: =(G28+H28+I28)-F28 -> 0 | K28: =Data!$I28+Data!$H28 -> 4 | O28: Διεύθυνση Δωδεκανήσων | P28: ΠΕ01 | Q28: ΙΕΚ Δωδεκανήσων | R28: ΠΕ01
A29: 338 | B29: ΠΕΛΟΠΟΝΝΗΣΟΥ | C29: Αργολίδος | D29: ΠΕ01 | E29: Θεολόγοι | F29: 4 | H29: 2 | I29: 2 | J29: =(G29+H29+I29)-F29 -> 0 | K29: =Data!$I29+Data!$H29 -> 4 | O29: Διεύθυνση Αργολίδος | P29: ΠΕ01 | Q29: ΙΕΚ Αργολίδος | R29: ΠΕ01
A30: 353 | B30: ΠΕΛΟΠΟΝΝΗΣΟΥ | C30: Κορινθίας | D30: ΠΕ01 | E30: Θεολόγοι | F30: 1 | H30: 1 | J30: =(G30+H30+I30)-F30 -> 0 | K30: =Data!$I30+Data!$H30 -> 1 | O30: Διεύθυνση Κορινθίας | P30: ΠΕ01
A31: 374 | B31: ΣΤΕΡΕΑΣ ΕΛΛΑΔΑΣ | C31: Βοιωτίας | D31: ΠΕ01 | E31: Θεολόγοι | F31: 5 | J31: =(G31+H31+I31)-F31 -> -5 | K31: =Data!$I31+Data!$H31 -> 0
A32: 382 | B32: ΣΤΕΡΕΑΣ ΕΛΛΑΔΑΣ | C32: Ευβοίας | D32: ΠΕ01 | E32: Θεολόγοι | F32: 12 | J32: =(G32+H32+I32)-F32 -> -12 | K32: =Data!$I32+Data!$H32 -> 0
A33: 389 | B33: ΣΤΕΡΕΑΣ ΕΛΛΑΔΑΣ | C33: Ευρυτανίας | D33: ΠΕ01 | E33: Θεολόγοι | F33: 3 | H33: 2 | I33: 1 | J33: =(G33+H33+I33)-F33 -> 0 | K33: =Data!$I33+Data!$H33 -> 3 | O33: Διεύθυνση Ευρυτανίας | P33: ΠΕ01 | Q33: ΙΕΚ Ευρυτανίας | R33: ΠΕ01
A34: 396 | B34: ΣΤΕΡΕΑΣ ΕΛΛΑΔΑΣ | C34: Φθιώτιδος | D34: ΠΕ01 | E34: Θεολόγοι | F34: 4 | H34: 2 | I34: 2 | J34: =(G34+H34+I34)-F34 -> 0 | K34: =Data!$I34+Data!$H34 -> 4 | O34: Διεύθυνση Φθιώτιδος | P34: ΠΕ01 | Q34: ΙΕΚ Φθιώτιδος | R34: ΠΕ01
A35: 405 | B35: ΣΤΕΡΕΑΣ ΕΛΛΑΔΑΣ | C35: Φωκίδος | D35: ΠΕ01 | E35: Θεολόγοι | F35: 8 | H35: 4 | I35: 2 | J35: =(G35+H35+I35)-F35 -> -2 | K35: =Data!$I35+Data!$H35 -> 6 | O35: Διεύθυνση Φωκίδος | P35: ΠΕ01 | Q35: ΙΕΚ Φωκίδος | R35: ΠΕ01
A36: 75 | B36: ΒΟΡΕΙΟΥ ΑΙΓΑΙΟΥ | C36: Χίου | D36: ΠΕ02 | E36: Φιλόλογοι | F36: 5 | J36: =(G36+H36+I36)-F36 -> -5 | K36: =Data!$I36+Data!$H36 -> 0
A37: 92 | B37: ΔΥΤΙΚΗΣ ΕΛΛΑΔΑΣ | C37: Αχαΐας | D37: ΠΕ02 | E37: Φιλόλογοι | F37: 35 | J37: =(G37+H37+I37)-F37 -> -35 | K37: =Data!$I37+Data!$H37 -> 0
A38: 93 | B38: ΔΥΤΙΚΗΣ ΕΛΛΑΔΑΣ | C38: Αχαΐας | D38: ΠΕ04.01 | E38: Φυσικοί | F38: 3 | J38: =(G38+H38+I38)-F38 -> -3 | K38: =Data!$I38+Data!$H38 -> 0
A39: 234 | B39: ΚΕΝΤΡΙΚΗ ΜΕΚΕΔΟΝΙΑΣ | C39: Ανατολικής Θεσσαλονίκης | D39: ΠΕ04.01 | E39: Φυσικοί | F39: 10 | J39: =(G39+H39+I39)-F39 -> -10 | K39: =Data!$I39+Data!$H39 -> 0 | L39: Ανατολικής Θεσσαλονίκης
A40: 293 | B40: ΚΕΝΤΡΙΚΗ ΜΕΚΕΔΟΝΙΑΣ | C40: Χαλκιδικής | D40: ΠΕ04.01 | E40: Φυσικοί | F40: 7 | J40: =(G40+H40+I40)-F40 -> -7 | K40: =Data!$I40+Data!$H40 -> 0
A41: 397 | B41: ΣΤΕΡΕΑΣ ΕΛΛΑΔΑΣ | C41: Φθιώτιδος | D41: ΠΕ04.01 | E41: Φυσικοί | F41: 10 | J41: =(G41+H41+I41)-F41 -> -10 | K41: =Data!$I41+Data!$H41 -> 0
A42: 406 | B42: ΣΤΕΡΕΑΣ ΕΛΛΑΔΑΣ | C42: Φωκίδος | D42: ΠΕ04.01 | E42: Φυσικοί | F42: 3 | J42: =(G42+H42+I42)-F42 -> -3 | K42: =Data!$I42+Data!$H42 -> 0
A43: 177 | B43: ΘΕΣΣΑΛΙΑΣ | C43: Καρδίτσας | D43: ΠΕ04.05 | E43: Γεωλόγοι | F43: 3 | J43: =(G43+H43+I43)-F43 -> -3 | K43: =Data!$I43+Data!$H43 -> 0
A44: 2 | B44: ΑΝΑΤΟΛΙΚΗΣ ΜΑΚΕΔΟΝΙΑΣ & ΘΡΑΚΗΣ | C44: Δράμας | D44: ΠΕ05 | E44: Γαλλικής | F44: 2 | G44: 2 | J44: =(G44+H44+I44)-F44 -> 0 | K44: =Data!$I44+Data!$H44 -> 0 | L44: Δράμας | M44: ΠΕ05 | N44: Γαλλικής
A45: 7 | B45: ΑΝΑΤΟΛΙΚΗΣ ΜΑΚΕΔΟΝΙΑΣ & ΘΡΑΚΗΣ | C45: Έβρου | D45: ΠΕ05 | E45: Γαλλικής | F45: 7 | G45: 7 | J45: =(G45+H45+I45)-F45 -> 0 | K45: =Data!$I45+Data!$H45 -> 0 | L45: Έβρου | M45: ΠΕ05 | N45: Γαλλικής
A46: 14 | B46: ΑΝΑΤΟΛΙΚΗΣ ΜΑΚΕΔΟΝΙΑΣ & ΘΡΑΚΗΣ | C46: Καβάλας | D46: ΠΕ05 | E46: Γαλλικής | F46: 2 | G46: 2 | J46: =(G46+H46+I46)-F46 -> 0 | K46: =Data!$I46+Data!$H46 -> 0 | L46: Καβάλας | M46: ΠΕ05 | N46: Γαλλικής
A47: 21 | B47: ΑΝΑΤΟΛΙΚΗΣ ΜΑΚΕΔΟΝΙΑΣ & ΘΡΑΚΗΣ | C47: Ξάνθης | D47: ΠΕ05 | E47: Γαλλικής | F47: 7 | G47: 3 | H47: 2 | I47: 2 | J47: =(G47+H47+I47)-F47 -> 0 | K47: =Data!$I47+Data!$H47 -> 4 | L47: Ξάνθης | M47: ΠΕ05 | N47: Γαλλικής | O47: Διεύθυνση Ξάνθης | P47: ΠΕ05 | Q47: ΙΕΚ Ξάνθης | R47: ΠΕ05
A48: 26 | B48: ΑΝΑΤΟΛΙΚΗΣ ΜΑΚΕΔΟΝΙΑΣ & ΘΡΑΚΗΣ | C48: Ροδόπης | D48: ΠΕ05 | E48: Γαλλικής | F48: 6 | G48: 2 | H48: 2 | I48: 2 | J48: =(G48+H48+I48)-F48 -> 0 | K48: =Data!$I48+Data!$H48 -> 4 | L48: Ροδόπης | M48: ΠΕ05 | N48: Γαλλικής | O48: Διεύθυνση Ροδόπης | P48: ΠΕ05 | Q48: ΙΕΚ Ροδόπης | R48: ΠΕ05
A49: 28 | B49: Αττκής | C49: Α’ Αθηνών | D49: ΠΕ05 | E49: Γαλλικής | F49: 4 | G49: 21 | J49: =(G49+H49+I49)-F49 -> 17 | K49: =Data!$I49+Data!$H49 -> 0 | L49: Α’ Αθηνών | M49: ΠΕ05 | N49: Γαλλικής
A50: 32 | B50: Αττκής | C50: Ανατολικής Αττικής | D50: ΠΕ05 | E50: Γαλλικής | F50: 57 | G50: 33 | J50: =(G50+H50+I50)-F50 -> -24 | K50: =Data!$I50+Data!$H50 -> 0 | L50: Ανατολικής Αττικής | M50: ΠΕ05 | N50: Γαλλικής
A51: 40 | B51: Αττκής | C51: Β' Αθηνών | D51: ΠΕ05 | E51: Γαλλικής | F51: 14 | G51: 56 | J51: =(G51+H51+I51)-F51 -> 42 | K51: =Data!$I51+Data!$H51 -> 0 | L51: Β' Αθηνών | M51: ΠΕ05 | N51: Γαλλικής
A52: 45 | B52: Αττκής | C52: Γ' Αθηνών | D52: ΠΕ05 | E52: Γαλλικής | F52: 51 | G52: 33 | J52: =(G52+H52+I52)-F52 -> -18 | K52: =Data!$I52+Data!$H52 -> 0 | L52: Γ' Αθηνών | M52: ΠΕ05 | N52: Γαλλικής
A53: 50 | B53: Αττκής | C53: Δ' Αθηνών | D53: ΠΕ05 | E53: Γαλλικής | F53: 25 | G53: 25 | J53: =(G53+H53+I53)-F53 -> 0 | K53: =Data!$I53+Data!$H53 -> 0 | L53: Δ' Αθηνών | M53: ΠΕ05 | N53: Γαλλικής
A54: 57 | B54: Αττκής | C54: Δυτικής Αττικής | D54: ΠΕ05 | E54: Γαλλικής | F54: 30 | G54: 13 | J54: =(G54+H54+I54)-F54 -> -17 | K54: =Data!$I54+Data!$H54 -> 0 | L54: Δυτικής Αττικής | M54: ΠΕ05 | N54: Γαλλικής
A55: 60 | B55: Αττκής | C55: Πειραιώς | D55: ΠΕ05 | E55: Γαλλικής | F55: 25 | G55: 25 | J55: =(G55+H55+I55)-F55 -> 0 | K55: =Data!$I55+Data!$H55 -> 0 | L55: Πειραιώς | M55: ΠΕ05 | N55: Γαλλικής
A56: 63 | B56: ΒΟΡΕΙΟΥ ΑΙΓΑΙΟΥ | C56: Λέσβου | D56: ΠΕ05 | E56: Γαλλικής | F56: 9 | G56: 9 | J56: =(G56+H56+I56)-F56 -> 0 | K56: =Data!$I56+Data!$H56 -> 0 | L56: Λέσβου | M56: ΠΕ05 | N56: Γαλλικής
A57: 67 | B57: ΒΟΡΕΙΟΥ ΑΙΓΑΙΟΥ | C57: Σάμου | D57: ΠΕ05 | E57: Γαλλικής | F57: 20 | G57: 3 | H57: 5 | I57: 5 | J57: =(G57+H57+I57)-F57 -> -7 | K57: =Data!$I57+Data!$H57 -> 10 | L57: Σάμου | M57: ΠΕ05 | N57: Γαλλικής | O57: Διεύθυνση Σάμου | P57: ΠΕ05 | Q57: ΙΕΚ Σάμου | R57: ΠΕ05
A58: 76 | B58: ΒΟΡΕΙΟΥ ΑΙΓΑΙΟΥ | C58: Χίου | D58: ΠΕ05 | E58: Γαλλικής | F58: 25 | G58: 5 | H58: 6 | I58: 4 | J58: =(G58+H58+I58)-F58 -> -10 | K58: =Data!$I58+Data!$H58 -> 10 | L58: Χίου | M58: ΠΕ05 | N58: Γαλλικής | O58: Διεύθυνση Χίου | P58: ΠΕ05 | Q58: ΙΕΚ Χίου | R58: ΠΕ05
A59: 84 | B59: ΔΥΤΙΚΗΣ ΕΛΛΑΔΑΣ | C59: Αιτωλοακαρνανίας | D59: ΠΕ05 | E59: Γαλλικής | F59: 32 | H59: 5 | I59: 2 | J59: =(G59+H59+I59)-F59 -> -25 | K59: =Data!$I59+Data!$H59 -> 7 | O59: Διεύθυνση Αιτωλοακαρνανίας | P59: ΠΕ05 | Q59: ΙΕΚ Αιτωλοακαρνανίας | R59: ΠΕ05
A60: 94 | B60: ΔΥΤΙΚΗΣ ΕΛΛΑΔΑΣ | C60: Αχαΐας | D60: ΠΕ05 | E60: Γαλλικής | F60: 43 | H60: 4 | I60: 4 | J60: =(G60+H60+I60)-F60 -> -35 | K60: =Data!$I60+Data!$H60 -> 8 | O60: Διεύθυνση Αχαΐας | P60: ΠΕ05 | Q60: ΙΕΚ Αχαΐας | R60: ΠΕ05
A61: 106 | B61: ΔΥΤΙΚΗΣ ΕΛΛΑΔΑΣ | C61: Ηλείας | D61: ΠΕ05 | E61: Γαλλικής | F61: 24 | H61: 5 | I61: 4 | J61: =(G61+H61+I61)-F61 -> -15 | K61: =Data!$I61+Data!$H61 -> 9 | O61: Διεύθυνση Ηλείας | P61: ΠΕ05 | Q61: ΙΕΚ Ηλείας | R61: ΠΕ05
A62: 115 | B62: ΔΥΤΙΚΗΣ ΜΑΚΕΔΟΝΙΑΣ | C62: Γρεβενών | D62: ΠΕ05 | E62: Γαλλικής | F62: 3 | G62: 2 | I62: 1 | J62: =(G62+H62+I62)-F62 -> 0 | K62: =Data!$I62+Data!$H62 -> 1 | L62: Γρεβενών | M62: ΠΕ05 | N62: Γαλλικής | Q62: ΙΕΚ Γρεβενών | R62: ΠΕ05
A63: 125 | B63: ΔΥΤΙΚΗΣ ΜΑΚΕΔΟΝΙΑΣ | C63: Κοζάνης | D63: ΠΕ05 | E63: Γαλλικής | F63: 15 | G63: 9 | H63: 4 | I63: 2 | J63: =(G63+H63+I63)-F63 -> 0 | K63: =Data!$I63+Data!$H63 -> 6 | L63: Κοζάνης | M63: ΠΕ05 | N63: Γαλλικής | O63: Διεύθυνση Κοζάνης | P63: ΠΕ05 | Q63: ΙΕΚ Κοζάνης | R63: ΠΕ05
A64: 132 | B64: ΔΥΤΙΚΗΣ ΜΑΚΕΔΟΝΙΑΣ | C64: Φλώρινας | D64: ΠΕ05 | E64: Γαλλικής | F64: 7 | G64: 3 | H64: 2 | I64: 2 | J64: =(G64+H64+I64)-F64 -> 0 | K64: =Data!$I64+Data!$H64 -> 4 | L64: Φλώρινας | M64: ΠΕ05 | N64: Γαλλικής | O64: Διεύθυνση Φλώρινας | P64: ΠΕ05 | Q64: ΙΕΚ Φλώρινας | R64: ΠΕ05
A65: 139 | B65: ΗΠΕΙΡΟΥ | C65: Άρτας | D65: ΠΕ05 | E65: Γαλλικής | F65: 14 | G65: 4 | H65: 5 | I65: 5 | J65: =(G65+H65+I65)-F65 -> 0 | K65: =Data!$I65+Data!$H65 -> 10 | L65: Άρτας | M65: ΠΕ05 | N65: Γαλλικής | O65: Διεύθυνση Άρτας | P65: ΠΕ05 | Q65: ΙΕΚ Άρτας | R65: ΠΕ05
A66: 149 | B66: ΗΠΕΙΡΟΥ | C66: Θεσπρωτίας | D66: ΠΕ05 | E66: Γαλλικής | F66: 15 | G66: 3 | H66: 6 | I66: 6 | J66: =(G66+H66+I66)-F66 -> 0 | K66: =Data!$I66+Data!$H66 -> 12 | L66: Θεσπρωτίας | M66: ΠΕ05 | N66: Γαλλικής | O66: Διεύθυνση Θεσπρωτίας | P66: ΠΕ05 | Q66: ΙΕΚ Θεσπρωτίας | R66: ΠΕ05
A67: 156 | B67: ΗΠΕΙΡΟΥ | C67: Ιωαννίνων | D67: ΠΕ05 | E67: Γαλλικής | F67: 16 | G67: 10 | H67: 4 | I67: 2 | J67: =(G67+H67+I67)-F67 -> 0 | K67: =Data!$I67+Data!$H67 -> 6 | L67: Ιωαννίνων | M67: ΠΕ05 | N67: Γαλλικής | O67: Διεύθυνση Ιωαννίνων | P67: ΠΕ05 | Q67: ΙΕΚ Ιωαννίνων | R67: ΠΕ05
A68: 167 | B68: ΗΠΕΙΡΟΥ | C68: Πρεβέζης | D68: ΠΕ05 | E68: Γαλλικής | F68: 12 | G68: 5 | H68: 3 | I68: 4 | J68: =(G68+H68+I68)-F68 -> 0 | K68: =Data!$I68+Data!$H68 -> 7 | L68: Πρεβέζης | M68: ΠΕ05 | N68: Γαλλικής | O68: Διεύθυνση Πρεβέζης | P68: ΠΕ05 | Q68: ΙΕΚ Πρεβέζης | R68: ΠΕ05
A69: 178 | B69: ΘΕΣΣΑΛΙΑΣ | C69: Καρδίτσας | D69: ΠΕ05 | E69: Γαλλικής | F69: 27 | G69: 7 | H69: 5 | I69: 5 | J69: =(G69+H69+I69)-F69 -> -10 | K69: =Data!$I69+Data!$H69 -> 10 | L69: Καρδίτσας | M69: ΠΕ05 | N69: Γαλλικής | O69: Διεύθυνση Καρδίτσας | P69: ΠΕ05 | Q69: ΙΕΚ Καρδίτσας | R69: ΠΕ05
A70: 187 | B70: ΘΕΣΣΑΛΙΑΣ | C70: Λαρίσης | D70: ΠΕ05 | E70: Γαλλικής | F70: 26 | G70: 20 | H70: 4 | I70: 2 | J70: =(G70+H70+I70)-F70 -> 0 | K70: =Data!$I70+Data!$H70 -> 6 | L70: Λαρίσης | M70: ΠΕ05 | N70: Γαλλικής | O70: Διεύθυνση Λαρίσης | P70: ΠΕ05 | Q70: ΙΕΚ Λαρίσης | R70: ΠΕ05
A71: 197 | B71: ΘΕΣΣΑΛΙΑΣ | C71: Μαγνησίας | D71: ΠΕ05 | E71: Γαλλικής | F71: 19 | G71: 19 | J71: =(G71+H71+I71)-F71 -> 0 | K71: =Data!$I71+Data!$H71 -> 0 | L71: Μαγνησίας | M71: ΠΕ05 | N71: Γαλλικής
A72: 205 | B72: ΘΕΣΣΑΛΙΑΣ | C72: Τρικάλων | D72: ΠΕ05 | E72: Γαλλικής | F72: 13 | G72: 6 | H72: 2 | I72: 3 | J72: =(G72+H72+I72)-F72 -> -2 | K72: =Data!$I72+Data!$H72 -> 5 | L72: Τρικάλων | M72: ΠΕ05 | N72: Γαλλικής | O72: Διεύθυνση Τρικάλων | P72: ΠΕ05 | Q72: ΙΕΚ Τρικάλων | R72: ΠΕ05
A73: 212 | B73: ΙΟΝΙΩΝ | C73: Ζακύνθου | D73: ΠΕ05 | E73: Γαλλικής | F73: 11 | G73: 2 | H73: 5 | I73: 4 | J73: =(G73+H73+I73)-F73 -> 0 | K73: =Data!$I73+Data!$H73 -> 9 | L73: Ζακύνθου | M73: ΠΕ05 | N73: Γαλλικής | O73: Διεύθυνση Ζακύνθου | P73: ΠΕ05 | Q73: ΙΕΚ Ζακύνθου | R73: ΠΕ05
A74: 219 | B74: ΙΟΝΙΩΝ | C74: Κερκύρας | D74: ΠΕ05 | E74: Γαλλικής | F74: 18 | G74: 9 | H74: 5 | I74: 4 | J74: =(G74+H74+I74)-F74 -> 0 | K74: =Data!$I74+Data!$H74 -> 9 | L74: Κερκύρας | M74: ΠΕ05 | N74: Γαλλικής | O74: Διεύθυνση Κερκύρας | P74: ΠΕ05 | Q74: ΙΕΚ Κερκύρας | R74: ΠΕ05
A75: 226 | B75: ΙΟΝΙΩΝ | C75: Κεφαλληνίας | D75: ΠΕ05 | E75: Γαλλικής | F75: 10 | G75: 5 | H75: 3 | I75: 2 | J75: =(G75+H75+I75)-F75 -> 0 | K75: =Data!$I75+Data!$H75 -> 5 | L75: Κεφαλληνίας | M75: ΠΕ05 | N75: Γαλλικής | O75: Διεύθυνση Κεφαλληνίας | P75: ΠΕ05 | Q75: ΙΕΚ Κεφαλληνίας | R75: ΠΕ05
A76: 231 | B76: ΙΟΝΙΩΝ | C76: Λευκάδας | D76: ΠΕ05 | E76: Γαλλικής | F76: 8 | G76: 4 | H76: 2 | I76: 2 | J76: =(G76+H76+I76)-F76 -> 0 | K76: =Data!$I76+Data!$H76 -> 4 | L76: Λευκάδας | M76: ΠΕ05 | N76: Γαλλικής | O76: Διεύθυνση Λευκάδας | P76: ΠΕ05 | Q76: ΙΕΚ Λευκάδας | R76: ΠΕ05
A77: 235 | B77: ΚΕΝΤΡΙΚΗ ΜΕΚΕΔΟΝΙΑΣ | C77: Ανατολικής Θεσσαλονίκης | D77: ΠΕ05 | E77: Γαλλικής | F77: 18 | G77: 18 | J77: =(G77+H77+I77)-F77 -> 0 | K77: =Data!$I77+Data!$H77 -> 0 | L77: Ανατολικής Θεσσαλονίκης | M77: ΠΕ05 | N77: Γαλλικής
A78: 247 | B78: ΚΕΝΤΡΙΚΗ ΜΕΚΕΔΟΝΙΑΣ | C78: Δυτικής Θεσσαλονίκης | D78: ΠΕ05 | E78: Γαλλικής | F78: 18 | G78: 18 | J78: =(G78+H78+I78)-F78 -> 0 | K78: =Data!$I78+Data!$H78 -> 0 | L78: Δυτικής Θεσσαλονίκης | M78: ΠΕ05 | N78: Γαλλικής
A79: 256 | B79: ΚΕΝΤΡΙΚΗ ΜΕΚΕΔΟΝΙΑΣ | C79: Ημαθίας | D79: ΠΕ05 | E79: Γαλλικής | F79: 17 | G79: 17 | J79: =(G79+H79+I79)-F79 -> 0 | K79: =Data!$I79+Data!$H79 -> 0 | L79: Ημαθίας | M79: ΠΕ05 | N79: Γαλλικής
A80: 262 | B80: ΚΕΝΤΡΙΚΗ ΜΕΚΕΔΟΝΙΑΣ | C80: Κιλκίς | D80: ΠΕ05 | E80: Γαλλικής | F80: 7 | G80: 7 | J80: =(G80+H80+I80)-F80 -> 0 | K80: =Data!$I80+Data!$H80 -> 0 | L80: Κιλκίς | M80: ΠΕ05 | N80: Γαλλικής
A81: 269 | B81: ΚΕΝΤΡΙΚΗ ΜΕΚΕΔΟΝΙΑΣ | C81: Πέλλης | D81: ΠΕ05 | E81: Γαλλικής | F81: 17 | G81: 17 | J81: =(G81+H81+I81)-F81 -> 0 | K81: =Data!$I81+Data!$H81 -> 0 | L81: Πέλλης | M81: ΠΕ05 | N81: Γαλλικής
A82: 276 | B82: ΚΕΝΤΡΙΚΗ ΜΕΚΕΔΟΝΙΑΣ | C82: Πιερίας | D82: ΠΕ05 | E82: Γαλλικής | F82: 6 | G82: 4 | H82: 2 | J82: =(G82+H82+I82)-F82 -> 0 | K82: =Data!$I82+Data!$H82 -> 2 | L82: Πιερίας | M82: ΠΕ05 | N82: Γαλλικής | O82: Διεύθυνση Πιερίας | P82: ΠΕ05
A83: 286 | B83: ΚΕΝΤΡΙΚΗ ΜΕΚΕΔΟΝΙΑΣ | C83: Σερρών | D83: ΠΕ05 | E83: Γαλλικής | F83: 17 | G83: 15 | H83: 1 | I83: 1 | J83: =(G83+H83+I83)-F83 -> 0 | K83: =Data!$I83+Data!$H83 -> 2 | L83: Σερρών | M83: ΠΕ05 | N83: Γαλλικής | O83: Διεύθυνση Σερρών | P83: ΠΕ05 | Q83: ΙΕΚ Σερρών | R83: ΠΕ05
A84: 294 | B84: ΚΕΝΤΡΙΚΗ ΜΕΚΕΔΟΝΙΑΣ | C84: Χαλκιδικής | D84: ΠΕ05 | E84: Γαλλικής | F84: 10 | G84: 10 | J84: =(G84+H84+I84)-F84 -> 0 | K84: =Data!$I84+Data!$H84 -> 0 | L84: Χαλκιδικής | M84: ΠΕ05 | N84: Γαλλικής
A85: 301 | B85: ΚΡΗΤΗΣ | C85: Ηρακλείου | D85: ΠΕ05 | E85: Γαλλικής | F85: 20 | G85: 15 | H85: 3 | I85: 2 | J85: =(G85+H85+I85)-F85 -> 0 | K85: =Data!$I85+Data!$H85 -> 5 | L85: Ηρακλείου | M85: ΠΕ05 | N85: Γαλλικής | O85: Διεύθυνση Ηρακλείου | P85: ΠΕ05 | Q85: ΙΕΚ Ηρακλείου | R85: ΠΕ05
A86: 309 | B86: ΚΡΗΤΗΣ | C86: Λασιθίου | D86: ΠΕ05 | E86: Γαλλικής | F86: 9 | G86: 5 | H86: 2 | I86: 2 | J86: =(G86+H86+I86)-F86 -> 0 | K86: =Data!$I86+Data!$H86 -> 4 | L86: Λασιθίου | M86: ΠΕ05 | N86: Γαλλικής | O86: Διεύθυνση Λασιθίου | P86: ΠΕ05 | Q86: ΙΕΚ Λασιθίου | R86: ΠΕ05
A87: 314 | B87: ΚΡΗΤΗΣ | C87: Χανίων | D87: ΠΕ05 | E87: Γαλλικής | F87: 4 | G87: 4 | J87: =(G87+H87+I87)-F87 -> 0 | K87: =Data!$I87+Data!$H87 -> 0 | L87: Χανίων | M87: ΠΕ05 | N87: Γαλλικής
A88: 323 | B88: ΝΟΤΙΟΥ ΑΙΓΑΙΟΥ | C88: Δωδεκανήσων | D88: ΠΕ05 | E88: Γαλλικής | F88: 43 | G88: 8 | H88: 5 | I88: 5 | J88: =(G88+H88+I88)-F88 -> -25 | K88: =Data!$I88+Data!$H88 -> 10 | L88: Δωδεκανήσων | M88: ΠΕ05 | N88: Γαλλικής | O88: Διεύθυνση Δωδεκανήσων | P88: ΠΕ05 | Q88: ΙΕΚ Δωδεκανήσων | R88: ΠΕ05
A89: 331 | B89: ΝΟΤΙΟΥ ΑΙΓΑΙΟΥ | C89: Κυκλάδων | D89: ΠΕ05 | E89: Γαλλικής | F89: 30 | G89: 12 | H89: 4 | I89: 4 | J89: =(G89+H89+I89)-F89 -> -10 | K89: =Data!$I89+Data!$H89 -> 8 | L89: Κυκλάδων | M89: ΠΕ05 | N89: Γαλλικής | O89: Διεύθυνση Κυκλάδων | P89: ΠΕ05 | Q89: ΙΕΚ Κυκλάδων | R89: ΠΕ05
A90: 339 | B90: ΠΕΛΟΠΟΝΝΗΣΟΥ | C90: Αργολίδος | D90: ΠΕ05 | E90: Γαλλικής | F90: 9 | G90: 5 | H90: 2 | I90: 2 | J90: =(G90+H90+I90)-F90 -> 0 | K90: =Data!$I90+Data!$H90 -> 4 | L90: Αργολίδος | M90: ΠΕ05 | N90: Γαλλικής | O90: Διεύθυνση Αργολίδος | P90: ΠΕ05 | Q90: ΙΕΚ Αργολίδος | R90: ΠΕ05
A91: 347 | B91: ΠΕΛΟΠΟΝΝΗΣΟΥ | C91: Αρκαδίας | D91: ΠΕ05 | E91: Γαλλικής | F91: 4 | G91: 4 | J91: =(G91+H91+I91)-F91 -> 0 | K91: =Data!$I91+Data!$H91 -> 0 | L91: Αρκαδίας | M91: ΠΕ05 | N91: Γαλλικής
A92: 354 | B92: ΠΕΛΟΠΟΝΝΗΣΟΥ | C92: Κορινθίας | D92: ΠΕ05 | E92: Γαλλικής | F92: 32 | G92: 10 | H92: 2 | I92: 2 | J92: =(G92+H92+I92)-F92 -> -18 | K92: =Data!$I92+Data!$H92 -> 4 | L92: Κορινθίας | M92: ΠΕ05 | N92: Γαλλικής | O92: Διεύθυνση Κορινθίας | P92: ΠΕ05 | Q92: ΙΕΚ Κορινθίας | R92: ΠΕ05
A93: 361 | B93: ΠΕΛΟΠΟΝΝΗΣΟΥ | C93: Λακωνίας | D93: ΠΕ05 | E93: Γαλλικής | F93: 17 | G93: 3 | H93: 2 | I93: 2 | J93: =(G93+H93+I93)-F93 -> -10 | K93: =Data!$I93+Data!$H93 -> 4 | L93: Λακωνίας | M93: ΠΕ05 | N93: Γαλλικής | O93: Διεύθυνση Λακωνίας | P93: ΠΕ05 | Q93: ΙΕΚ Λακωνίας | R93: ΠΕ05
A94: 368 | B94: ΠΕΛΟΠΟΝΝΗΣΟΥ | C94: Μεσσηνίας | D94: ΠΕ05 | E94: Γαλλικής | F94: 12 | G94: 12 | J94: =(G94+H94+I94)-F94 -> 0 | K94: =Data!$I94+Data!$H94 -> 0 | L94: Μεσσηνίας | M94: ΠΕ05 | N94: Γαλλικής
A95: 375 | B95: ΣΤΕΡΕΑΣ ΕΛΛΑΔΑΣ | C95: Βοιωτίας | D95: ΠΕ05 | E95: Γαλλικής | F95: 20 | G95: 6 | H95: 3 | I95: 3 | J95: =(G95+H95+I95)-F95 -> -8 | K95: =Data!$I95+Data!$H95 -> 6 | L95: Βοιωτίας | M95: ΠΕ05 | N95: Γαλλικής | O95: Διεύθυνση Βοιωτίας | P95: ΠΕ05 | Q95: ΙΕΚ Βοιωτίας | R95: ΠΕ05
A96: 383 | B96: ΣΤΕΡΕΑΣ ΕΛΛΑΔΑΣ | C96: Ευβοίας | D96: ΠΕ05 | E96: Γαλλικής | F96: 18 | G96: 12 | H96: 3 | I96: 3 | J96: =(G96+H96+I96)-F96 -> 0 | K96: =Data!$I96+Data!$H96 -> 6 | L96: Ευβοίας | M96: ΠΕ05 | N96: Γαλλικής | O96: Διεύθυνση Ευβοίας | P96: ΠΕ05 | Q96: ΙΕΚ Ευβοίας | R96: ΠΕ05
A97: 390 | B97: ΣΤΕΡΕΑΣ ΕΛΛΑΔΑΣ | C97: Ευρυτανίας | D97: ΠΕ05 | E97: Γαλλικής | F97: 12 | G97: 2 | H97: 2 | J97: =(G97+H97+I97)-F97 -> -8 | K97: =Data!$I97+Data!$H97 -> 2 | L97: Ευρυτανίας | M97: ΠΕ05 | N97: Γαλλικής | O97: Διεύθυνση Ευρυτανίας | P97: ΠΕ05
A98: 398 | B98: ΣΤΕΡΕΑΣ ΕΛΛΑΔΑΣ | C98: Φθιώτιδος | D98: ΠΕ05 | E98: Γαλλικής | F98: 14 | G98: 10 | H98: 2 | I98: 2 | J98: =(G98+H98+I98)-F98 -> 0 | K98: =Data!$I98+Data!$H98 -> 4 | L98: Φθιώτιδος | M98: ΠΕ05 | N98: Γαλλικής | O98: Διεύθυνση Φθιώτιδος | P98: ΠΕ05 | Q98: ΙΕΚ Φθιώτιδος | R98: ΠΕ05
A99: 407 | B99: ΣΤΕΡΕΑΣ ΕΛΛΑΔΑΣ | C99: Φωκίδος | D99: ΠΕ05 | E99: Γαλλικής | F99: 7 | G99: 2 | H99: 3 | I99: 2 | J99: =(G99+H99+I99)-F99 -> 0 | K99: =Data!$I99+Data!$H99 -> 5 | L99: Φωκίδος | M99: ΠΕ05 | N99: Γαλλικής | O99: Διεύθυνση Φωκίδος | P99: ΠΕ05 | Q99: ΙΕΚ Φωκίδος | R99: ΠΕ05
A100: 8 | B100: ΑΝΑΤΟΛΙΚΗΣ ΜΑΚΕΔΟΝΙΑΣ & ΘΡΑΚΗΣ | C100: Έβρου | D100: ΠΕ06 | E100: Αγγλικής | F100: 5 | G100: 5 | J100: =(G100+H100+I100)-F100 -> 0 | K100: =Data!$I100+Data!$H100 -> 0 | L100: Έβρου | M100: ΠΕ06 | N100: Αγγλικής
...

Sheet ΠΕ19-20 τοποθετήσεις
A1: Κλάδος | B1: ΠΕ19-20
A3: Πλήθος από Αριθμός Μητρώου | B3: Είδος
A4: Διεύθυνση | B4: IEK | C4: Α/μια | D4: Διοικητικός | E4: Γενικό άθροισμα
A5: ΑΘΗΝΑΣ Α΄ | C5: 81 | E5: 81
A6: ΑΘΗΝΑΣ Β΄ | C6: 57 | E6: 57
A7: ΑΘΗΝΑΣ Γ΄ | C7: 94 | E7: 94
A8: ΑΘΗΝΑΣ Δ΄ | C8: 66 | E8: 66
A9: ΑΙΤΩΛΟΑΚΑΡΝΑΝΙΑΣ | C9: 30 | E9: 30
A10: ΑΝΑΤΟΛΙΚΗΣ ΑΤΤΙΚΗΣ | C10: 86 | E10: 86
A11: ΑΝΑΤΟΛΙΚΗΣ ΘΕΣΣΑΛΟΝΙΚΗΣ | B11: 4 | D11: 4 | E11: 8
A12: ΑΡΓΟΛΙΔΑΣ | C12: 3 | E12: 3
A13: ΑΡΓΟΛΙΔΟΣ | D13: 1 | E13: 1
A14: ΑΡΚΑΔΙΑΣ | C14: 12 | E14: 12
A15: ΑΡΤΑΣ | C15: 10 | D15: 1 | E15: 11
A16: ΑΧΑΪΑΣ | C16: 30 | E16: 30
A17: ΒΟΙΩΤΙΑΣ | C17: 16 | E17: 16
A18: ΓΡΕΒΕΝΩΝ | C18: 4 | D18: 1 | E18: 5
A19: ΔΥΤΙΚΗΣ ΑΤΤΙΚΗΣ | C19: 18 | E19: 18
A20: ΔΥΤΙΚΗΣ ΘΕΣΣΑΛΟΝΙΚΗΣ | B20: 1 | D20: 2 | E20: 3
A21: ΔΩΔΕΚΑΝΗΣΟΥ | C21: 14 | E21: 14
A22: ΔΩΔΕΚΑΝΗΣΩΝ | B22: 1 | D22: 3 | E22: 4
A23: ΕΒΡΟΥ | C23: 11 | D23: 2 | E23: 13
A24: ΕΥΒΟΙΑΣ | C24: 28 | D24: 1 | E24: 29
A25: ΕΥΡΥΤΑΝΙΑΣ | B25: 1 | C25: 1 | D25: 1 | E25: 3
A26: ΗΛΕΙΑΣ | C26: 6 | E26: 6
A27: ΗΜΑΘΙΑΣ | B27: 2 | C27: 18 | D27: 3 | E27: 23
A28: ΗΡΑΚΛΕΙΟΥ | C28: 7 | E28: 7
A29: ΘΕΣΠΡΩΤΙΑΣ | C29: 10 | D29: 2 | E29: 12
A30: ΘΕΣΣΑΛΟΝΙΚΗΣ Α΄ | C30: 30 | E30: 30
A31: ΘΕΣΣΑΛΟΝΙΚΗΣ Β΄ | C31: 22 | E31: 22
A32: ΙΩΑΝΝΙΝΩΝ | B32: 1 | C32: 30 | D32: 1 | E32: 32
A33: ΚΑΒΑΛΑΣ | C33: 13 | D33: 2 | E33: 15
A34: ΚΑΡΔΙΤΣΑΣ | B34: 2 | C34: 16 | D34: 2 | E34: 20
A35: ΚΑΣΤΟΡΙΑΣ | C35: 6 | D35: 2 | E35: 8
A36: ΚΕΡΚΥΡΑΣ | B36: 2 | C36: 7 | D36: 1 | E36: 10
A37: ΚΕΦΑΛΛΗΝΙΑΣ | C37: 1 | E37: 1
A38: ΚΙΛΚΙΣ | C38: 7 | D38: 2 | E38: 9
A39: ΚΟΖΑΝΗΣ | B39: 3 | C39: 25 | D39: 2 | E39: 30
A40: ΚΟΡΙΝΘΙΑΣ | C40: 12 | E40: 12
A41: ΚΥΚΛΑΔΩΝ | C41: 12 | E41: 12
A42: ΛΑΚΩΝΙΑΣ | C42: 7 | D42: 1 | E42: 8
A43: ΛΑΡΙΣΑΣ | C43: 40 | E43: 40
A44: ΛΑΣΙΘΙΟΥ | C44: 10 | E44: 10
A45: ΜΑΓΝΗΣΙΑΣ | C45: 25 | E45: 25
A46: ΜΕΣΣΗΝΙΑΣ | C46: 13 | E46: 13
A47: ΠΕΙΡΑΙΑ | C47: 62 | E47: 62
A48: ΠΕΛΛΑΣ | C48: 15 | E48: 15
A49: ΠΕΛΛΗΣ | B49: 2 | D49: 1 | E49: 3
A50: ΠΙΕΡΙΑΣ | C50: 8 | D50: 2 | E50: 10
A51: ΠΡΕΒΕΖΑΣ | C51: 7 | E51: 7
A52: ΠΡΕΒΕΖΗΣ | D52: 2 | E52: 2
A53: ΣΑΜΟΥ | C53: 5 | E53: 5
A54: ΣΕΡΡΩΝ | C54: 6 | D54: 1 | E54: 7
A55: ΤΡΙΚΑΛΩΝ | C55: 9 | E55: 9
A56: ΦΘΙΩΤΙΔΑΣ | C56: 16 | E56: 16
A57: ΦΘΙΩΤΙΔΟΣ | D57: 1 | E57: 1
A58: ΦΛΩΡΙΝΑΣ | B58: 1 | C58: 8 | D58: 2 | E58: 11
A59: ΦΩΚΙΔΑΣ | C59: 3 | E59: 3
A60: ΦΩΚΙΔΟΣ | D60: 2 | E60: 2
A61: ΧΑΛΚΙΔΙΚΗΣ | B61: 2 | C61: 6 | D61: 1 | E61: 9
A62: ΧΑΝΙΩΝ | B62: 1 | C62: 22 | D62: 2 | E62: 25
A63: Γενικό άθροισμα | B63: 23 | C63: 1045 | D63: 48 | E63: 1116

Sheet Data Τοποθετήσεων
A1: Α/Α | B1: Αριθμός Μητρώου | C1: Επίθετο | D1: Όνομα | E1: Όνομα Πατέρα | F1: Όνομα Μητέρας | G1: Κωδικός Ειδικότητας | H1: Ονομασία Ειδικότητας | I1: Θέση Μετάταξης | J1: Κλάδος | K1: Διεύθυνση | L1: Είδος
A2: 3259 | B2: 398181 | C2: ΤΣΟΡΤΟΥ | D2: ΑΡΓΥΡΩ | E2: ΚΩΝΣΤΑΝΤΙΝΟΣ | F2: ΚΩΝΣΤΑΝΤΙΝΑ | G2: ΠΕ01 | H2: ΘΕΟΛΟΓΟΙ | I2: ΔΙΕYΘΥΝΣΗ Π.Ε./Δ.Ε. ΑΙΤΩΛΟΑΚΑΡΝΑΝΙΑΣ (ΘΕΣΕΙΣ ΔΙΟΙΚΗΤΙΚΩΝ) | J2: ΠΕ01 | K2: ΑΙΤΩΛΟΑΚΑΡΝΑΝΙΑΣ | L2: Διοικητικός
A3: 518 | B3: 221742 | C3: ΓΚΙΚΑ | D3: ΜΑΡΙΑ | E3: ΔΗΜΗΤΡΙΟΣ | F3: ΖΩΗ | G3: ΠΕ01 | H3: ΘΕΟΛΟΓΟΙ | I3: ΔΙΕYΘΥΝΣΗ Π.Ε./Δ.Ε. ΑΝΑΤΟΛΙΚΗΣ ΘΕΣΣΑΛΟΝΙΚΗΣ (ΘΕΣΕΙΣ ΔΙΟΙΚΗΤΙΚΩΝ) | J3: ΠΕ01 | K3: ΑΝΑΤΟΛΙΚΗΣ ΘΕΣΣΑΛΟΝΙΚΗΣ | L3: Διοικητικός
A4: 2406 | B4: 185650 | C4: ΠΑΠΑΔΟΠΟΥΛΟΥ | D4: ΑΝΑΣΤΑΣΙΑ | E4: ΓΡΗΓΟΡΙΟΣ | F4: ΓΙΑΝΝΟΥΛΑ | G4: ΠΕ01 | H4: ΘΕΟΛΟΓΟΙ | I4: ΔΙΕYΘΥΝΣΗ Π.Ε./Δ.Ε. ΑΝΑΤΟΛΙΚΗΣ ΘΕΣΣΑΛΟΝΙΚΗΣ (ΘΕΣΕΙΣ ΔΙΟΙΚΗΤΙΚΩΝ) | J4: ΠΕ01 | K4: ΑΝΑΤΟΛΙΚΗΣ ΘΕΣΣΑΛΟΝΙΚΗΣ | L4: Διοικητικός
A5: 2199 | B5: 228467 | C5: ΝΤΕΒΕΣ | D5: ΓΡΗΓΟΡΙΟΣ | E5: ΑΓΓΕΛΗΣ | F5: ΑΓΓΕΛΙΚΗ | G5: ΠΕ01 | H5: ΘΕΟΛΟΓΟΙ | I5: ΔΙΕYΘΥΝΣΗ Π.Ε./Δ.Ε. ΑΡΓΟΛΙΔΟΣ (ΘΕΣΕΙΣ ΔΙΟΙΚΗΤΙΚΩΝ) | J5: ΠΕ01 | K5: ΑΡΓΟΛΙΔΟΣ | L5: Διοικητικός
A6: 2561 | B6: 700643 | C6: ΠΕΤΡΑΚΗ | D6: ΝΕΚΤΑΡΙΑ | E6: ΠΑΝΑΓΙΩΤΗΣ | F6: ΜΑΡΙΑ | G6: ΠΕ01 | H6: ΘΕΟΛΟΓΟΙ | I6: ΔΙΕYΘΥΝΣΗ Π.Ε./Δ.Ε. ΑΡΓΟΛΙΔΟΣ (ΘΕΣΕΙΣ ΔΙΟΙΚΗΤΙΚΩΝ) | J6: ΠΕ01 | K6: ΑΡΓΟΛΙΔΟΣ | L6: Διοικητικός
A7: 2169 | B7: 211738 | C7: ΝΙΚΟΠΟΥΛΟΥ | D7: ΕΥΘΥΜΙΑ | E7: ΤΑΞΙΑΡΧΗΣ | F7: ΟΛΓΑ | G7: ΠΕ01 | H7: ΘΕΟΛΟΓΟΙ | I7: ΔΙΕYΘΥΝΣΗ Π.Ε./Δ.Ε. ΑΧΑΪΑΣ (ΘΕΣΕΙΣ ΔΙΟΙΚΗΤΙΚΩΝ) | J7: ΠΕ01 | K7: ΑΧΑΪΑΣ | L7: Διοικητικός
A8: 3304 | B8: 221832 | C8: ΦΛΙΟΥΚΑ | D8: ΠΑΝΑΓΙΩΤΑ | E8: ΚΩΝΣΤΑΝΤΙΝΟΣ | F8: ΑΙΚΑΤΕΡΙΝΗ | G8: ΠΕ01 | H8: ΘΕΟΛΟΓΟΙ | I8: ΔΙΕYΘΥΝΣΗ Π.Ε./Δ.Ε. ΓΡΕΒΕΝΩΝ (ΘΕΣΕΙΣ ΔΙΟΙΚΗΤΙΚΩΝ) | J8: ΠΕ01 | K8: ΓΡΕΒΕΝΩΝ | L8: Διοικητικός
A9: 369 | B9: 217308 | C9: ΓΑΛΑΝΗ | D9: ΧΑΡΙΚΛΕΙΑ | E9: ΓΕΩΡΓΙΟΣ | F9: ΕΥΘΥΜΙΑ | G9: ΠΕ01 | H9: ΘΕΟΛΟΓΟΙ | I9: ΔΙΕYΘΥΝΣΗ Π.Ε./Δ.Ε. ΔΡΑΜΑΣ (ΘΕΣΕΙΣ ΔΙΟΙΚΗΤΙΚΩΝ) | J9: ΠΕ01 | K9: ΔΡΑΜΑΣ | L9: Διοικητικός
A10: 3150 | B10: 308234 | C10: ΤΣΑΚΙΡΗ | D10: ΔΗΜΗΤΡΑ | E10: ΓΕΩΡΓΙΟΣ | F10: ΜΑΓΔΑΛΗΝΗ | G10: ΠΕ01 | H10: ΘΕΟΛΟΓΟΙ | I10: ΔΙΕYΘΥΝΣΗ Π.Ε./Δ.Ε. ΔΡΑΜΑΣ (ΘΕΣΕΙΣ ΔΙΟΙΚΗΤΙΚΩΝ) | J10: ΠΕ01 | K10: ΔΡΑΜΑΣ | L10: Διοικητικός
A11: 735 | B11: 194994 | C11: ΔΟΥΡΑΜΑΝΗ | D11: ΓΕΩΡΓΙΑ | E11: ΦΩΤΙΟΣ | F11: ΕΥΑΓΓΕΛΙΑ | G11: ΠΕ01 | H11: ΘΕΟΛΟΓΟΙ | I11: ΔΙΕYΘΥΝΣΗ Π.Ε./Δ.Ε. ΔΥΤΙΚΗΣ ΘΕΣΣΑΛΟΝΙΚΗΣ (ΘΕΣΕΙΣ ΔΙΟΙΚΗΤΙΚΩΝ) | J11: ΠΕ01 | K11: ΔΥΤΙΚΗΣ ΘΕΣΣΑΛΟΝΙΚΗΣ | L11: Διοικητικός
A12: 1149 | B12: 183144 | C12: ΚΑΡΑΠΑΝΟΥ | D12: ΒΑΙΑ | E12: ΙΩΑΝΝΗΣ | F12: ΑΙΚΑΤΕΡΙΝΗ | G12: ΠΕ01 | H12: ΘΕΟΛΟΓΟΙ | I12: ΔΙΕYΘΥΝΣΗ Π.Ε./Δ.Ε. ΔΥΤΙΚΗΣ ΘΕΣΣΑΛΟΝΙΚΗΣ (ΘΕΣΕΙΣ ΔΙΟΙΚΗΤΙΚΩΝ) | J12: ΠΕ01 | K12: ΔΥΤΙΚΗΣ ΘΕΣΣΑΛΟΝΙΚΗΣ | L12: Διοικητικός
A13: 1990 | B13: 217348 | C13: ΜΠΑΚΑΣΗ | D13: ΕΥΘΥΜΙΑ | E13: ΑΘΑΝΑΣΙΟΣ | F13: ΑΙΚΑΤΕΡΙΝΗ | G13: ΠΕ01 | H13: ΘΕΟΛΟΓΟΙ | I13: ΔΙΕYΘΥΝΣΗ Π.Ε./Δ.Ε. ΔΥΤΙΚΗΣ ΘΕΣΣΑΛΟΝΙΚΗΣ (ΘΕΣΕΙΣ ΔΙΟΙΚΗΤΙΚΩΝ) | J13: ΠΕ01 | K13: ΔΥΤΙΚΗΣ ΘΕΣΣΑΛΟΝΙΚΗΣ | L13: Διοικητικός
... A3496: 2923 | B3496: 228347 | C3496: ΣΤΑΜΟΥΛΗ | D3496: ΕΙΡΗΝΗ | E3496: ΙΩΑΝΝΗΣ | F3496: ΧΡΥΣΩ | G3496: ΠΕ32 | H3496: ΘΕΑΤΡΙΚΩΝ ΣΠΟΥΔΩΝ | I3496: ΔΙΕΥΘΥΝΣΗ Π.Ε. ΧΙΟΥ (ΘΕΣΕΙΣ ΕΚΠΑΙΔΕΥΤΙΚΩΝ) | J3496: ΠΕ32 | K3496: ΧΙΟΥ | L3496: Α/μια

Sheet Συγκεντρωτικά τοποθετήσεων
A1: Ανά διεύθυνση | H1: Ανά κλάδο
A4: Πλήθος από Αριθμός Μητρώου | C4: Είδος | H4: Πλήθος από Αριθμός Μητρώου | J4: Είδος
A5: Διεύθυνση | B5: Κλάδος | C5: Α/μια | D5: IEK | E5: Διοικητικός | F5: Γενικό άθροισμα | H5: Κλάδος | I5: Διεύθυνση | J5: Α/μια | K5: IEK | L5: Διοικητικός | M5: Γενικό άθροισμα
A6: ΑΘΗΝΑΣ Α΄ | B6: ΠΕ05 | C6: 19 | F6: 19 | H6: ΠΕ01 | I6: ΑΙΤΩΛΟΑΚΑΡΝΑΝΙΑΣ | L6: 1 | M6: 1
B7: ΠΕ06 | C7: 19 | F7: 19 | I7: ΑΝΑΤΟΛΙΚΗΣ ΘΕΣΣΑΛΟΝΙΚΗΣ | L7: 2 | M7: 2
B8: ΠΕ07 | C8: 16 | F8: 16 | I8: ΑΡΓΟΛΙΔΟΣ | L8: 2 | M8: 2
B9: ΠΕ19-20 | C9: 81 | F9: 81 | I9: ΑΧΑΪΑΣ | K9: 1 | L9: 1 | M9: 2
A10: Σύνολο - ΑΘΗΝΑΣ Α΄ | C10: 135 | F10: 135 | I10: ΓΡΕΒΕΝΩΝ | L10: 1 | M10: 1
A11: ΑΘΗΝΑΣ Β΄ | B11: ΠΕ05 | C11: 51 | F11: 51 | I11: ΔΡΑΜΑΣ | L11: 2 | M11: 2
B12: ΠΕ06 | C12: 42 | F12: 42 | I12: ΔΥΤΙΚΗΣ ΘΕΣΣΑΛΟΝΙΚΗΣ | L12: 4 | M12: 4
B13: ΠΕ07 | C13: 21 | F13: 21 | I13: ΕΥΡΥΤΑΝΙΑΣ | L13: 1 | M13: 1
B14: ΠΕ11 | C14: 25 | F14: 25 | I14: ΗΛΕΙΑΣ | L14: 1 | M14: 1
B15: ΠΕ19-20 | C15: 57 | F15: 57 | I15: ΗΜΑΘΙΑΣ | L15: 1 | M15: 1
A16: Σύνολο - ΑΘΗΝΑΣ Β΄ | C16: 196 | F16: 196 | I16: ΚΑΒΑΛΑΣ | L16: 1 | M16: 1
A17: ΑΘΗΝΑΣ Γ΄ | B17: ΠΕ05 | C17: 32 | F17: 32 | I17: ΚΑΡΔΙΤΣΑΣ | L17: 2 | M17: 2
B18: ΠΕ06 | C18: 29 | F18: 29 | I18: ΚΑΣΤΟΡΙΑΣ | L18: 1 | M18: 1
B19: ΠΕ11 | C19: 53 | F19: 53 | I19: ΚΙΛΚΙΣ | L19: 2 | M19: 2
B20: ΠΕ19-20 | C20: 94 | F20: 94 | I20: ΚΟΖΑΝΗΣ | K20: 1 | L20: 1 | M20: 2
A21: Σύνολο - ΑΘΗΝΑΣ Γ΄ | C21: 208 | F21: 208 | I21: ΚΟΡΙΝΘΙΑΣ | L21: 1 | M21: 1
A22: ΑΘΗΝΑΣ Δ΄ | B22: ΠΕ05 | C22: 23 | F22: 23 | I22: ΛΑΡΙΣΗΣ | L22: 8 | M22: 8
B23: ΠΕ06 | C23: 8 | F23: 8 | I23: ΜΑΓΝΗΣΙΑΣ | K23: 1 | L23: 3 | M23: 4
B24: ΠΕ07 | C24: 15 | F24: 15 | I24: ΠΕΛΛΗΣ | L24: 1 | M24: 1
B25: ΠΕ08 | C25: 9 | F25: 9 | I25: ΠΙΕΡΙΑΣ | K25: 1 | L25: 2 | M25: 3
B26: ΠΕ11 | C26: 27 | F26: 27 | I26: ΣΕΡΡΩΝ | L26: 2 | M26: 2
B27: ΠΕ16.01 | C27: 4 | F27: 4 | I27: ΤΡΙΚΑΛΩΝ | L27: 2 | M27: 2
B28: ΠΕ19-20 | C28: 66 | F28: 66 | I28: ΦΘΙΩΤΙΔΟΣ | L28: 1 | M28: 1
A29: Σύνολο - ΑΘΗΝΑΣ Δ΄ | C29: 152 | F29: 152 | I29: ΧΑΛΚΙΔΙΚΗΣ | L29: 1 | M29: 1
A30: ΑΙΤΩΛΟΑΚΑΡΝΑΝΙΑΣ | B30: ΠΕ01 | E30: 1 | F30: 1 | H30: Σύνολο - ΠΕ01 | K30: 4 | L30: 44 | M30: 48
B31: ΠΕ05 | E31: 2 | F31: 2 | H31: ΠΕ05 | I31: ΑΘΗΝΑΣ Α΄ | J31: 19 | M31: 19
B32: ΠΕ06 | E32: 3 | F32: 3 | I32: ΑΘΗΝΑΣ Β΄ | J32: 51 | M32: 51
B33: ΠΕ07 | C33: 1 | F33: 1 | I33: ΑΘΗΝΑΣ Γ΄ | J33: 32 | M33: 32
B34: ΠΕ08 | C34: 1 | F34: 1 | I34: ΑΘΗΝΑΣ Δ΄ | J34: 23 | M34: 23
B35: ΠΕ11 | C35: 5 | F35: 5 | I35: ΑΙΤΩΛΟΑΚΑΡΝΑΝΙΑΣ | L35: 2 | M35: 2
B36: ΠΕ16.01 | C36: 2 | F36: 2 | I36: ΑΝΑΤΟΛΙΚΗΣ ΑΤΤΙΚΗΣ | J36: 33 | M36: 33
B37: ΠΕ19-20 | C37: 30 | F37: 30 | I37: ΑΡΓΟΛΙΔΑΣ | J37: 5 | M37: 5
A38: Σύνολο - ΑΙΤΩΛΟΑΚΑΡΝΑΝΙΑΣ | C38: 39 | E38: 6 | F38: 45 | I38: ΑΡΓΟΛΙΔΟΣ | L38: 1 | M38: 1
A39: ΑΝΑΤΟΛΙΚΗΣ ΑΤΤΙΚΗΣ | B39: ΠΕ05 | C39: 33 | F39: 33 | I39: ΑΡΚΑΔΙΑΣ | J39: 4 | M39: 4
B40: ΠΕ06 | C40: 79 | F40: 79 | I40: ΑΡΤΑΣ | J40: 4 | L40: 2 | M40: 6
B41: ΠΕ07 | C41: 16 | F41: 16 | I41: ΑΧΑΪΑΣ | K41: 1 | L41: 4 | M41: 5
B42: ΠΕ08 | C42: 10 | F42: 10 | I42: ΒΟΙΩΤΙΑΣ | J42: 6 | L42: 3 | M42: 9
B43: ΠΕ11 | C43: 80 | F43: 80 | I43: ΓΡΕΒΕΝΩΝ | J43: 2 | M43: 2
B44: ΠΕ19-20 | C44: 86 | F44: 86 | I44: ΔΡΑΜΑΣ | J44: 2 | M44: 2
A45: Σύνολο - ΑΝΑΤΟΛΙΚΗΣ ΑΤΤΙΚΗΣ | C45: 304 | F45: 304 | I45: ΔΥΤΙΚΗΣ ΑΤΤΙΚΗΣ | J45: 13 | M45: 13
A46: ΑΝΑΤΟΛΙΚΗΣ ΘΕΣΣΑΛΟΝΙΚΗΣ | B46: ΠΕ01 | E46: 2 | F46: 2 | I46: ΔΩΔΕΚΑΝΗΣΟΥ | J46: 6 | M46: 6
B47: ΠΕ09 | D47: 2 | E47: 4 | F47: 6 | I47: ΔΩΔΕΚΑΝΗΣΩΝ | L47: 3 | M47: 3
B48: ΠΕ12.01 | E48: 1 | F48: 1 | I48: ΕΒΡΟΥ | J48: 7 | M48: 7
B49: ΠΕ13 | E49: 2 | F49: 2 | I49: ΕΥΒΟΙΑΣ | J49: 12 | K49: 1 | L49: 3 | M49: 16
B50: ΠΕ18.02 | E50: 2 | F50: 2 | I50: ΕΥΡΥΤΑΝΙΑΣ | J50: 2 | M50: 2
B51: ΠΕ19-20 | D51: 4 | E51: 4 | F51: 8 | I51: ΖΑKYΝΘΟΥ | L51: 2 | M51: 2
A52: Σύνολο - ΑΝΑΤΟΛΙΚΗΣ ΘΕΣΣΑΛΟΝΙΚΗΣ | D52: 6 | E52: 15 | F52: 21 | I52: ΖΑΚΥΝΘΟΥ | J52: 2 | M52: 2
A53: ΑΡΓΟΛΙΔΑΣ | B53: ΠΕ05 | C53: 5 | F53: 5 | I53: ΗΛΕΙΑΣ | L53: 2 | M53: 2
B54: ΠΕ06 | C54: 3 | F54: 3 | I54: ΗΜΑΘΙΑΣ | J54: 15 | M54: 15
B55: ΠΕ07 | C55: 3 | F55: 3 | I55: ΗΡΑΚΛΕΙΟΥ | J55: 14 | L55: 2 | M55: 16
B56: ΠΕ08 | C56: 1 | F56: 1 | I56: ΘΕΣΠΡΩΤΙΑΣ | J56: 2 | K56: 1 | L56: 2 | M56: 5
B57: ΠΕ11 | C57: 11 | F57: 11 | I57: ΘΕΣΣΑΛΟΝΙΚΗΣ Α΄ | J57: 18 | M57: 18
B58: ΠΕ19-20 | C58: 3 | F58: 3 | I58: ΘΕΣΣΑΛΟΝΙΚΗΣ Β΄ | J58: 18 | M58: 18
A59: Σύνολο - ΑΡΓΟΛΙΔΑΣ | C59: 26 | F59: 26 | I59: ΙΩΑΝΝΙΝΩΝ | J59: 10 | K59: 1 | L59: 4 | M59: 15
A60: ΑΡΓΟΛΙΔΟΣ | B60: ΠΕ01 | E60: 2 | F60: 2 | I60: ΚΑΒΑΛΑΣ | J60: 2 | M60: 2
B61: ΠΕ05 | E61: 1 | F61: 1 | I61: ΚΑΡΔΙΤΣΑΣ | J61: 7 | K61: 2 | L61: 2 | M61: 11
B62: ΠΕ19-20 | E62: 1 | F62: 1 | I62: ΚΕΡΚΥΡΑΣ | J62: 9 | K62: 1 | L62: 1 | M62: 11
A63: Σύνολο - ΑΡΓΟΛΙΔΟΣ | E63: 4 | F63: 4 | I63: ΚΕΦΑΛΛΗΝΙΑΣ | J63: 3 | L63: 2 | M63: 5
A64: ΑΡΚΑΔΙΑΣ | B64: ΠΕ05 | C64: 4 | F64: 4 | I64: ΚΙΛΚΙΣ | J64: 7 | M64: 7
B65: ΠΕ06 | C65: 8 | E65: 1 | F65: 9 | I65: ΚΟΖΑΝΗΣ | J65: 9 | L65: 4 | M65: 13
B66: ΠΕ08 | C66: 1 | F66: 1 | I66: ΚΟΡΙΝΘΙΑΣ | J66: 10 | K66: 2 | L66: 2 | M66: 14
B67: ΠΕ19-20 | C67: 12 | F67: 12 | I67: ΚΥΚΛΑΔΩΝ | J67: 2 | L67: 3 | M67: 5
A68: Σύνολο - ΑΡΚΑΔΙΑΣ | C68: 25 | E68: 1 | F68: 26 | I68: ΛΑΚΩΝΙΑΣ | J68: 3 | K68: 1 | L68: 2 | M68: 6
A69: ΑΡΤΑΣ | B69: ΠΕ05 | C69: 4 | E69: 2 | F69: 6 | I69: ΛΑΡΙΣΑΣ | J69: 20 | M69: 20
B70: ΠΕ06 | E70: 2 | F70: 2 | I70: ΛΑΡΙΣΗΣ | K70: 1 | L70: 5 | M70: 6
B71: ΠΕ07 | C71: 1 | E71: 1 | F71: 2 | I71: ΛΕΣΒΟΥ | J71: 9 | M71: 9
B72: ΠΕ08 | C72: 2 | F72: 2 | I72: ΛΕΥΚΑΔΑΣ | J72: 4 | M72: 4
B73: ΠΕ09 | E73: 1 | F73: 1 | I73: ΜΑΓΝΗΣΙΑΣ | J73: 18 | M73: 18
B74: ΠΕ11 | E74: 2 | F74: 2 | I74: ΜΕΣΣΗΝΙΑΣ | J74: 12 | M74: 12
B75: ΠΕ19-20 | C75: 10 | E75: 1 | F75: 11 | I75: ΞΑΝΘΗΣ | J75: 3 | K75: 1 | L75: 2 | M75: 6
B76: ΠΕ32 | C76: 2 | F76: 2 | I76: ΠΕΙΡΑΙΑ | J76: 25 | M76: 25
A77: Σύνολο - ΑΡΤΑΣ | C77: 19 | E77: 9 | F77: 28 | I77: ΠΕΛΛΑΣ | J77: 14 | M77: 14
A78: ΑΧΑΪΑΣ | B78: ΠΕ01 | D78: 1 | E78: 1 | F78: 2 | I78: ΠΙΕΡΙΑΣ | J78: 3 | L78: 2 | M78: 5
B79: ΠΕ05 | D79: 1 | E79: 4 | F79: 5 | I79: ΠΡΕΒΕΖΑΣ | J79: 5 | M79: 5
B80: ΠΕ06 | C80: 6 | F80: 6 | I80: ΠΡΕΒΕΖΗΣ | L80: 1 | M80: 1
B81: ΠΕ08 | C81: 6 | F81: 6 | I81: ΡΟΔΟΠΗΣ | J81: 2 | L81: 1 | M81: 3
B82: ΠΕ13 | E82: 1 | F82: 1 | I82: ΣΑΜΟΥ | J82: 3 | M82: 3
B83: ΠΕ16.01 | C83: 4 | F83: 4 | I83: ΣΕΡΡΩΝ | J83: 14 | K83: 1 | L83: 1 | M83: 16
B84: ΠΕ18.02 | E84: 1 | F84: 1 | I84: ΤΡΙΚΑΛΩΝ | J84: 6 | L84: 1 | M84: 7
B85: ΠΕ19-20 | C85: 30 | F85: 30 | I85: ΦΘΙΩΤΙΔΑΣ | J85: 9 | M85: 9
B86: ΠΕ32 | C86: 2 | F86: 2 | I86: ΦΛΩΡΙΝΑΣ | J86: 1 | M86: 1
A87: Σύνολο - ΑΧΑΪΑΣ | C87: 48 | D87: 2 | E87: 7 | F87: 57 | I87: ΦΩΚΙΔΑΣ | J87: 2 | M87: 2
A88: ΒΟΙΩΤΙΑΣ | B88: ΠΕ05 | C88: 6 | E88: 3 | F88: 9 | I88: ΧΑΛΚΙΔΙΚΗΣ | J88: 7 | M88: 7
B89: ΠΕ06 | C89: 8 | F89: 8 | I89: ΧΑΝΙΩΝ | J89: 2 | M89: 2
B90: ΠΕ07 | C90: 1 | F90: 1 | I90: ΧΙΟΥ | J90: 5 | L90: 2 | M90: 7
B91: ΠΕ09 | E91: 2 | F91: 2 | H91: Σύνολο - ΠΕ05 | J91: 516 | K91: 13 | L91: 61 | M91: 590
B92: ΠΕ11 | C92: 18 | F92: 18 | H92: ΠΕ06 | I92: ΑΘΗΝΑΣ Α΄ | J92: 19 | M92: 19
B93: ΠΕ19-20 | C93: 16 | F93: 16 | I93: ΑΘΗΝΑΣ Β΄ | J93: 42 | M93: 42
A94: Σύνολο - ΒΟΙΩΤΙΑΣ | C94: 49 | E94: 5 | F94: 54 | I94: ΑΘΗΝΑΣ Γ΄ | J94: 29 | M94: 29
A95: Γ’ ΑΘΗΝΩΝ | B95: ΠΕ13 | E95: 2 | F95: 2 | I95: ΑΘΗΝΑΣ Δ΄ | J95: 8 | M95: 8
A96: Σύνολο - Γ’ ΑΘΗΝΩΝ | E96: 2 | F96: 2 | I96: ΑΙΤΩΛΟΑΚΑΡΝΑΝΙΑΣ | L96: 3 | M96: 3
A97: ΓΡΕΒΕΝΩΝ | B97: ΠΕ01 | E97: 1 | F97: 1 | I97: ΑΝΑΤΟΛΙΚΗΣ ΑΤΤΙΚΗΣ | J97: 79 | M97: 79
B98: ΠΕ05 | C98: 2 | F98: 2 | I98: ΑΡΓΟΛΙΔΑΣ | J98: 3 | M98: 3
B99: ΠΕ07 | C99: 1 | F99: 1 | I99: ΑΡΚΑΔΙΑΣ | J99: 8 | L99: 1 | M99: 9
B100: ΠΕ11 | C100: 2 | F100: 2 | I100: ΑΡΤΑΣ | L100: 2 | M100: 2
B101: ΠΕ19-20 | C101: 4 | E101: 1 | F101: 5 | I101: ΑΧΑΪΑΣ | J101: 6 | M101: 6
A102: Σύνολο - ΓΡΕΒΕΝΩΝ | C102: 9 | E102: 2 | F102: 11 | I102: ΒΟΙΩΤΙΑΣ | J102: 8 | M102: 8
...

Sheet συγκριτικά
D1: Κενά σε | G1: Τοποθετήσεις σε
B2: Κλάδος | C2: Πλεόνασμα Β/μια | D2: Α/μια | E2: Γραφ. & ΙΕΚ | F2: Σύνολο Κενά | G2: Α/μια2 | H2: Διοικητικός | I2: IEK | J2: Γραφ. & ΙΕΚ. | K2: Γενικό άθροισμα | L2: Διαφορά
B3: ΠΕ01 | C3: 197 | E3: 142 | F3: =D3+E3 -> 142 | H3: 44 | I3: 4 | J3: =H3+I3 -> 48 | K3: 48 | L3: =F3-K3 -> 94
B4: ΠΕ02 | C4: 40 | E4: 0 | F4: =D4+E4 -> 0 | J4: =H4+I4 -> 0 | L4: =F4-K4 -> 0
B5: ΠΕ04.01 | C5: 33 | E5: 0 | F5: =D5+E5 -> 0 | J5: =H5+I5 -> 0 | L5: =F5-K5 -> 0
B6: ΠΕ04.05 | C6: 3 | E6: 0 | F6: =D6+E6 -> 0 | J6: =H6+I6 -> 0 | L6: =F6-K6 -> 0
B7: ΠΕ05 | C7: 958 | D7: 563 | E7: 212 | F7: =D7+E7 -> 775 | G7: 516 | H7: 61 | I7: 13 | J7: =H7+I7 -> 74 | K7: 590 | L7: =F7-K7 -> 185
B8: ΠΕ06 | C8: 925 | D8: 686 | E8: 64 | F8: =D8+E8 -> 750 | G8: 478 | H8: 21 | I8: 3 | J8: =H8+I8 -> 24 | K8: 502 | L8: =F8-K8 -> 248
B9: ΠΕ07 | C9: 363 | D9: 339 | E9: 6 | F9: =D9+E9 -> 345 | G9: 274 | H9: 3 | I9: 1 | J9: =H9+I9 -> 4 | K9: 278 | L9: =F9-K9 -> 67
B10: ΠΕ08 | C10: 274 | D10: 262 | E10: 2 | F10: =D10+E10 -> 264 | G10: 125 | J10: =H10+I10 -> 0 | K10: 125 | L10: =F10-K10 -> 139
B11: ΠΕ09 | C11: 146 | E11: 88 | F11: =D11+E11 -> 88 | H11: 32 | I11: 7 | J11: =H11+I11 -> 39 | K11: 39 | L11: =F11-K11 -> 49
B12: ΠΕ10 | C12: 6 | E12: 1 | F12: =D12+E12 -> 1 | H12: 1 | J12: =H12+I12 -> 1 | K12: 1 | L12: =F12-K12 -> 0
B13: ΠΕ11 | C13: 1436 | D13: 675 | E13: 121 | F13: =D13+E13 -> 796 | G13: 644 | H13: 57 | I13: 18 | J13: =H13+I13 -> 75 | K13: 719 | L13: =F13-K13 -> 77
B14: ΠΕ12.01 | C14: 1 | E14: 1 | F14: =D14+E14 -> 1 | H14: 1 | J14: =H14+I14 -> 1 | K14: 1 | L14: =F14-K14 -> 0
B15: ΠΕ13 | C15: 30 | E15: 15 | F15: =D15+E15 -> 15 | H15: 8 | J15: =H15+I15 -> 8 | K15: 8 | L15: =F15-K15 -> 7
B16: ΠΕ16 | C16: 156 | D16: 133 | E16: 0 | F16: =D16+E16 -> 133 | G16: 46 | J16: =H16+I16 -> 0 | K16: 46 | L16: =F16-K16 -> 87
B17: ΠΕ18.02 | C17: 39 | E17: 25 | F17: =D17+E17 -> 25 | H17: 8 | I17: 1 | J17: =H17+I17 -> 9 | K17: 9 | L17: =F17-K17 -> 16
B18: ΠΕ19-ΠΕ20 | C18: 1341 | D18: 1173 | E18: 127 | F18: =D18+E18 -> 1300 | G18: 1045 | H18: 48 | I18: 23 | J18: =H18+I18 -> 71 | K18: 1116 | L18: =F18-K18 -> 184
B19: ΠΕ32 | C19: 66 | D19: 44 | E19: 2 | F19: =D19+E19 -> 46 | G19: 13 | J19: =H19+I19 -> 0 | K19: 13 | L19: =F19-K19 -> 33
B20: Γενικό Άθροισμα | C20: 6014 | D20: 3875 | E20: 806 | F20: =D20+E20 -> 4681 | G20: 3141 | H20: 284 | I20: 70 | J20: =H20+I20 -> 354 | K20: 3495 | L20: =F20-K20 -> 1186
B22: Στοιχεία ΥΠΑΙΘ: | C22: 6041 | F22: 4600 | K22: 3495 | L22: =F22-K22 -> 1105
