Workbook
Name α1: 'Καταμέτρηση Ψήφων'!$B$7:$AO$188

Sheet Ψηφοδέλτιο
A1: ΓΥΜΝΑΣΙΟ ΣΟΡΩΝΗΣ | D1: ΣΧΟΛΙΚΟ ΕΤΟΣ 09-10
B2: ΜΑΘΗΤΙΚΕΣ ΕΚΛΟΓΕΣ 15μελούς
B3: Ψ Η Φ Ο Δ Ε Λ Τ Ι Ο
A4: α/α | B4: Όνομα | C4: Τμήμα | D4: ΨΗΦΟΣ
A5: 1 | B5: Αρχιμανδρίτης Θωμάς | C5: Α1
A6: 2 | B6: Έλενας Φίλιππος | C6: Α1
A7: 3 | B7: Ζενέλι Μάριολντ | C7: Α1
A8: 4 | B8: Κάμφωνα Παρασκευή-Μαρία | C8: Α1
A9: 5 | B9: Μπάτης Κωνσταντίνος | C9: Α2
A10: 6 | B10: Παπάζογλου Νικόλαος | C10: Α2 | J10: Όνομα | K10: Τμήμα
A11: 7 | B11: Σταθάτος Λουκάς-Ανδρέας | C11: Α2 | I11: α1 | J11: Αδελφουλάκου Αικατερίνη | K11: Α1 | L11: 1
A12: 8 | B12: Χρήστου Μιχαήλ | C12: Α2 | I12: α1 | J12: Αλαφάκη Δήμητρα | K12: Α2 | L12: 2
A13: 9 | B13: Κανατάς Γεώργιος | C13: Β1 | I13: α1 | J13: Αντωνά Ελευθερία | K13: Β1 | L13: 3
A14: 10 | B14: Κρητικού Χριστίνα | C14: Β1 | I14: α1 | J14: Αρφαράς Νικόλαος | K14: Β2 | L14: 4
A15: 11 | B15: Κυριαζάκος Άγγελος | C15: Β1 | I15: α1 | J15: Αρχιμανδρίτης Θωμάς | K15: Β3 | L15: 5
A16: 12 | B16: Κωνσταντάκης Κωνσταντίνος | C16: Β2 | I16: α1 | J16: Γιορδαμνής Φώτιος-Τσαμπίκος | K16: Γ1 | L16: 6
A17: 13 | B17: Χαραλάμπους Παύλος | C17: Β2 | I17: α1 | J17: Δημητράς Κωνσταντίνος | K17: Γ2 | L17: 7
A18: 14 | B18: Χατζησάββας Κυριάκος | C18: Β2 | I18: α1 | J18: Διακοβασιλείου Γεώργιος | K18: Γ3 | L18: 8
A19: 15 | B19: Χατζηφλεβάρης Ιωάννης | C19: Β2 | I19: α1 | J19: Διακουράκης Εμμανουήλ | L19: 9
A20: 16 | B20: Γιακουμίδης Νεκτάριος-Γεώργιος | C20: Β3 | I20: α1 | J20: Έλενας Φίλιππος | L20: 10
A21: 17 | B21: Παπαμανώλης Εμμανουήλ | C21: Β3 | I21: α1 | J21: Ζενέλι Μάριολντ | L21: 11
A22: 18 | B22: Γεωργαντάς Κωνσταντίνος | C22: Γ1 | I22: α1 | J22: Ινακαβάντζε Σούλικο | L22: 12
A23: 19 | B23: Γεωργαντάς Νίκων | C23: Γ1 | I23: α1 | J23: Καλαμαρά Αλίκη-Ειρήνη | L23: 13
A24: 20 | B24: Γιορδαμνής Αλέξης | C24: Γ1 | I24: α1 | J24: Καλαμαρά Στεργούλα-Μαρία | L24: 14
A25: 21 | B25: Γκιούντιτσε Γεωργία | C25: Γ1 | I25: α1 | J25: Καλούδη Ραφαέλλα | L25: 15
A26: 22 | B26: Ζότα Αριόν | C26: Γ1 | I26: α1 | J26: Κάμφωνα Παρασκευή-Μαρία | L26: 16
A27: 23 | B27: Ζότα Κωνσταντίνος | C27: Γ1 | I27: α1 | J27: Καππίρης Δημήτριος | L27: 17
A28: 24 | B28: Καντίνος Θεόδωρος - Νεκτάριος | C28: Γ1 | I28: α1 | J28: Κατσιδώνη Μαρία | L28: 18
A29: 25 | B29: Καπνουλλά Μαρία | C29: Γ1 | I29: α1 | J29: Κοτσάνης Σάββας | L29: 19
A30: 26 | B30: Μαγκάνης Αναστάσιος | C30: Γ2 | I30: α1 | J30: Κουφαλλάκης Αντώνιος | L30: 20
... A38: 34 | B38: Χειμωνέττου Ελευθερία | C38: Γ3 | I38: α2 | J38: Μπαλή Τσαμπίκα | L38: 2
I39: α2 | J39: Μπάτης Κωνσταντίνος | L39: 3
I40: α2 | J40: Νέτζα Σάμοελ | L40: 4
I41: α2 | J41: Νικολίτση Μαρία | L41: 5
I42: α2 | J42: Νικολίτση Μέλπω | L42: 6
I43: α2 | J43: Ντουράνι Γκρέτα | L43: 7
I44: α2 | J44: Παπάζογλου Νικόλαος | L44: 8
I45: α2 | J45: Παπαθεοδώρου Αικατερίνη | L45: 9
I46: α2 | J46: Παπαμανώλης Ηλίας-Σίλας | L46: 10
I47: α2 | J47: Παπαστεργή Αργυρώ-Ιωάννα | L47: 11
I48: α2 | J48: Περνάρης Βασίλειος | L48: 12
I49: α2 | J49: Πεταυράκη Καρολίνα-Φανερωμένη | L49: 13
I50: α2 | J50: Σεντονάς Φώτιος | L50: 14
... I195: γ3 | J195: Χρήστου Παναγιώτης | L195: 23

Sheet Καταμέτρηση Ψήφων
B1: ΓΥΜΝΑΣΙΟ ΣΟΡΩΝΗΣ | R1: ΣΧΟΛΙΚΟ ΕΤΟΣ 09-10 | Y1: ΓΥΜΝΑΣΙΟ ΣΟΡΩΝΗΣ | AO1: ΣΧΟΛΙΚΟ ΕΤΟΣ 09-10 | AV1: ΓΥΜΝΑΣΙΟ ΣΟΡΩΝΗΣ | BL1: ΣΧΟΛΙΚΟ ΕΤΟΣ 09-10
H2: ΜΑΘΗΤΙΚΕΣ ΕΚΛΟΓΕΣ 15μελούς | AE2: ΜΑΘΗΤΙΚΕΣ ΕΚΛΟΓΕΣ 15μελούς | BB2: ΜΑΘΗΤΙΚΕΣ ΕΚΛΟΓΕΣ 15μελούς
B3: ΠΙΝΑΚΑΣ 1: ΚΑΤΑΜΕΤΡΗΣΗ ΨΗΦΩΝ | Y3: ΠΙΝΑΚΑΣ 1: ΚΑΤΑΜΕΤΡΗΣΗ ΨΗΦΩΝ | AV3: ΠΙΝΑΚΑΣ 1: ΚΑΤΑΜΕΤΡΗΣΗ ΨΗΦΩΝ
A4: α/α | B4: 1 | C4: 2 | D4: 3 | E4: 4 | F4: 5 | G4: 6 | H4: 7 | I4: 8 | J4: 9 | K4: 10 | L4: 11 | M4: 12 | N4: 13 | O4: 14 | P4: 15 | Q4: 16 | R4: 17 | S4: 18 | T4: 19 | U4: 20 | V4: 21 | W4: 22 | X4: 23 | Y4: 24 | Z4: 25 | AA4: 26 | AB4: 27 | AC4: 28 | AD4: 29 | AE4: 30 | AF4: 31 | AG4: 32 | AH4: 33 | AI4: 34 | AJ4: 35 | AK4: 36 | AL4: 37 | AM4: 38 | AN4: 39 | AO4: 40 | AP4: 41 | AQ4: 42 | AR4: 43 | AS4: 44 | AT4: 45 | AU4: 46 | AV4: 47 | AW4: 48 | AX4: 49 | AY4: 50 | AZ4: 51 | BA4: 52 | BB4: 53 | BC4: 54 | BD4: 55 | BE4: 56 | BF4: 57 | BG4: 58 | BH4: 59 | BI4: 60 | BJ4: 61 | BK4: 62 | BL4: 63 | BM4: 64 | BN4: 65 | BO4: 66 | BP4: 67 | BQ4: 68 | BR4: 69 | BS4: 70
A5: Όνομα Υποψηφίου | B5: =Ψηφοδέλτιο!B5 -> Αρχιμανδρίτης Θωμάς | C5: =Ψηφοδέλτιο!B6 -> Έλενας Φίλιππος | D5: =Ψηφοδέλτιο!B7 -> Ζενέλι Μάριολντ | E5: =Ψηφοδέλτιο!B8 -> Κάμφωνα Παρασκευή-Μαρία | F5: =Ψηφοδέλτιο!B9 -> Μπάτης Κωνσταντίνος | G5: =Ψηφοδέλτιο!B10 -> Παπάζογλου Νικόλαος | H5: =Ψηφοδέλτιο!B11 -> Σταθάτος Λουκάς-Ανδρέας | I5: =Ψηφοδέλτιο!B12 -> Χρήστου Μιχαήλ | J5: =Ψηφοδέλτιο!B13 -> Κανατάς Γεώργιος | K5: =Ψηφοδέλτιο!B14 -> Κρητικού Χριστίνα | L5: =Ψηφοδέλτιο!B15 -> Κυριαζάκος Άγγελος | M5: =Ψηφοδέλτιο!B16 -> Κωνσταντάκης Κωνσταντίνος | N5: =Ψηφοδέλτιο!B17 -> Χαραλάμπους Παύλος | O5: =Ψηφοδέλτιο!B18 -> Χατζησάββας Κυριάκος | P5: =Ψηφοδέλτιο!B19 -> Χατζηφλεβάρης Ιωάννης | Q5: =Ψηφοδέλτιο!B20 -> Γιακουμίδης Νεκτάριος-Γεώργιος | R5: =Ψηφοδέλτιο!B21 -> Παπαμανώλης Εμμανουήλ | S5: =Ψηφοδέλτιο!B22 -> Γεωργαντάς Κωνσταντίνος | T5: =Ψηφοδέλτιο!B23 -> Γεωργαντάς Νίκων | U5: =Ψηφοδέλτιο!B24 -> Γιορδαμνής Αλέξης | V5: =Ψηφοδέλτιο!B25 -> Γκιούντιτσε Γεωργία | W5: =Ψηφοδέλτιο!B26 -> Ζότα Αριόν | X5: =Ψηφοδέλτιο!B27 -> Ζότα Κωνσταντίνος | Y5: =Ψηφοδέλτιο!B28 -> Καντίνος Θεόδωρος - Νεκτάριος | Z5: =Ψηφοδέλτιο!B29 -> Καπνουλλά Μαρία | AA5: =Ψηφοδέλτιο!B30 -> Μαγκάνης Αναστάσιος | AB5: =Ψηφοδέλτιο!B31 -> Παπάκη Δήμητρα | AC5: =Ψηφοδέλτιο!B32 -> Πασσάλη Μοσχούλα | AD5: =Ψηφοδέλτιο!B33 -> Παπαθεοδώρου Αθανάσιος | AE5: =Ψηφοδέλτιο!B34 -> Πεπέ Τσαμπίκα | AF5: =Ψηφοδέλτιο!B35 -> Τομάζος Σταύρος | AG5: =Ψηφοδέλτιο!B36 -> Φιόλλας Μιχαήλ-Παναγιώτης | AH5: =Ψηφοδέλτιο!B37 -> Χατζηγιαννάκης Αναστάσιος | AI5: =Ψηφοδέλτιο!B38 -> Χειμωνέττου Ελευθερία | AJ5: =Ψηφοδέλτιο!B39 -> 0 | AK5: =Ψηφοδέλτιο!B40 -> 0 | AL5: =Ψηφοδέλτιο!B41 -> 0 | AM5: =Ψηφοδέλτιο!B42 -> 0 | AN5: =Ψηφοδέλτιο!B43 -> 0 | AO5: =Ψηφοδέλτιο!B44 -> 0 | AP5: =Ψηφοδέλτιο!B45 -> 0 | AQ5: =Ψηφοδέλτιο!B46 -> 0 | AR5: =Ψηφοδέλτιο!B47 -> 0 | AS5: =Ψηφοδέλτιο!B48 -> 0 | AT5: =Ψηφοδέλτιο!B49 -> 0 | AU5: =Ψηφοδέλτιο!B50 -> 0 | AV5: =Ψηφοδέλτιο!B51 -> 0 | AW5: =Ψηφοδέλτιο!B52 -> 0 | AX5: =Ψηφοδέλτιο!B53 -> 0 | AY5: =Ψηφοδέλτιο!B54 -> 0 | AZ5: =Ψηφοδέλτιο!B55 -> 0 | BA5: =Ψηφοδέλτιο!B56 -> 0 | BB5: =Ψηφοδέλτιο!B57 -> 0 | BC5: =Ψηφοδέλτιο!B58 -> 0 | BD5: =Ψηφοδέλτιο!B59 -> 0 | BE5: =Ψηφοδέλτιο!B60 -> 0 | BF5: =Ψηφοδέλτιο!B61 -> 0 | BG5: =Ψηφοδέλτιο!B62 -> 0 | BH5: =Ψηφοδέλτιο!B63 -> 0 | BI5: =Ψηφοδέλτιο!B64 -> 0 | BJ5: =Ψηφοδέλτιο!B65 -> 0 | BK5: =Ψηφοδέλτιο!B66 -> 0 | BL5: =Ψηφοδέλτιο!B67 -> 0 | BM5: =Ψηφοδέλτιο!B68 -> 0 | BN5: =Ψηφοδέλτιο!B69 -> 0 | BO5: =Ψηφοδέλτιο!B70 -> 0 | BP5: =Ψηφοδέλτιο!B71 -> 0 | BQ5: =Ψηφοδέλτιο!B72 -> 0 | BR5: =Ψηφοδέλτιο!B73 -> 0 | BS5: =Ψηφοδέλτιο!B74 -> 0
A6: Τμήμα Ψήφοδέλτιο | B6: =Ψηφοδέλτιο!C5 -> Α1 | C6: =Ψηφοδέλτιο!C6 -> Α1 | D6: =Ψηφοδέλτιο!C7 -> Α1 | E6: =Ψηφοδέλτιο!C8 -> Α1 | F6: =Ψηφοδέλτιο!C9 -> Α2 | G6: =Ψηφοδέλτιο!C10 -> Α2 | H6: =Ψηφοδέλτιο!C11 -> Α2 | I6: =Ψηφοδέλτιο!C12 -> Α2 | J6: =Ψηφοδέλτιο!C13 -> Β1 | K6: =Ψηφοδέλτιο!C14 -> Β1 | L6: =Ψηφοδέλτιο!C15 -> Β1 | M6: =Ψηφοδέλτιο!C16 -> Β2 | N6: =Ψηφοδέλτιο!C17 -> Β2 | O6: =Ψηφοδέλτιο!C18 -> Β2 | P6: =Ψηφοδέλτιο!C19 -> Β2 | Q6: =Ψηφοδέλτιο!C20 -> Β3 | R6: =Ψηφοδέλτιο!C21 -> Β3 | S6: =Ψηφοδέλτιο!C22 -> Γ1 | T6: =Ψηφοδέλτιο!C23 -> Γ1 | U6: =Ψηφοδέλτιο!C24 -> Γ1 | V6: =Ψηφοδέλτιο!C25 -> Γ1 | W6: =Ψηφοδέλτιο!C26 -> Γ1 | X6: =Ψηφοδέλτιο!C27 -> Γ1 | Y6: =Ψηφοδέλτιο!C28 -> Γ1 | Z6: =Ψηφοδέλτιο!C29 -> Γ1 | AA6: =Ψηφοδέλτιο!C30 -> Γ2 | AB6: =Ψηφοδέλτιο!C31 -> Γ2 | AC6: =Ψηφοδέλτιο!C32 -> Γ2 | AD6: =Ψηφοδέλτιο!C33 -> Γ3 | AE6: =Ψηφοδέλτιο!C34 -> Γ3 | AF6: =Ψηφοδέλτιο!C35 -> Γ3 | AG6: =Ψηφοδέλτιο!C36 -> Γ3 | AH6: =Ψηφοδέλτιο!C37 -> Γ3 | AI6: =Ψηφοδέλτιο!C38 -> Γ3 | AJ6: =Ψηφοδέλτιο!C39 -> 0 | AK6: =Ψηφοδέλτιο!C40 -> 0 | AL6: =Ψηφοδέλτιο!C41 -> 0 | AM6: =Ψηφοδέλτιο!C42 -> 0 | AN6: =Ψηφοδέλτιο!C43 -> 0 | AO6: =Ψηφοδέλτιο!C44 -> 0 | AP6: =Ψηφοδέλτιο!C45 -> 0 | AQ6: =Ψηφοδέλτιο!C46 -> 0 | AR6: =Ψηφοδέλτιο!C47 -> 0 | AS6: =Ψηφοδέλτιο!C48 -> 0 | AT6: =Ψηφοδέλτιο!C49 -> 0 | AU6: =Ψηφοδέλτιο!C50 -> 0 | AV6: =Ψηφοδέλτιο!C51 -> 0 | AW6: =Ψηφοδέλτιο!C52 -> 0 | AX6: =Ψηφοδέλτιο!C53 -> 0 | AY6: =Ψηφοδέλτιο!C54 -> 0 | AZ6: =Ψηφοδέλτιο!C55 -> 0 | BA6: =Ψηφοδέλτιο!C56 -> 0 | BB6: =Ψηφοδέλτιο!C57 -> 0 | BC6: =Ψηφοδέλτιο!C58 -> 0 | BD6: =Ψηφοδέλτιο!C59 -> 0 | BE6: =Ψηφοδέλτιο!C60 -> 0 | BF6: =Ψηφοδέλτιο!C61 -> 0 | BG6: =Ψηφοδέλτιο!C62 -> 0 | BH6: =Ψηφοδέλτιο!C63 -> 0 | BI6: =Ψηφοδέλτιο!C64 -> 0 | BJ6: =Ψηφοδέλτιο!C65 -> 0 | BK6: =Ψηφοδέλτιο!C66 -> 0 | BL6: =Ψηφοδέλτιο!C67 -> 0 | BM6: =Ψηφοδέλτιο!C68 -> 0 | BN6: =Ψηφοδέλτιο!C69 -> 0 | BO6: =Ψηφοδέλτιο!C70 -> 0 | BP6: =Ψηφοδέλτιο!C71 -> 0 | BQ6: =Ψηφοδέλτιο!C72 -> 0 | BR6: =Ψηφοδέλτιο!C73 -> 0 | BS6: =Ψηφοδέλτιο!C74 -> 0 | BT6: Σύνολο/ ψηφοδέλτιο
A7: 1 | BT7: =SUM(Πίνακας47[[#This Row],[1]:[Στήλη20]]) -> 0
A8: 2 | BT8: =SUM(Πίνακας47[[#This Row],[1]:[Στήλη20]]) -> 0
A9: 3 | BT9: =SUM(Πίνακας47[[#This Row],[1]:[Στήλη20]]) -> 0
A10: 4 | BT10: =SUM(Πίνακας47[[#This Row],[1]:[Στήλη20]]) -> 0
A11: 5 | BT11: =SUM(Πίνακας47[[#This Row],[1]:[Στήλη20]]) -> 0
A12: 6 | BT12: =SUM(Πίνακας47[[#This Row],[1]:[Στήλη20]]) -> 0
A13: 7 | BT13: =SUM(Πίνακας47[[#This Row],[1]:[Στήλη20]]) -> 0
A14: 8 | BT14: =SUM(Πίνακας47[[#This Row],[1]:[Στήλη20]]) -> 0
A15: 9 | BT15: =SUM(Πίνακας47[[#This Row],[1]:[Στήλη20]]) -> 0
A16: 10 | BT16: =SUM(Πίνακας47[[#This Row],[1]:[Στήλη20]]) -> 0
A17: 11 | BT17: =SUM(Πίνακας47[[#This Row],[1]:[Στήλη20]]) -> 0
A18: 12 | BT18: =SUM(Πίνακας47[[#This Row],[1]:[Στήλη20]]) -> 0
... A191: 185 | BT191: =SUM(Πίνακας47[[#This Row],[1]:[Στήλη20]]) -> 0
A192: Σύνολα | B192: =SUM(B7:B191) -> 0 | C192: =SUM(C7:C191) -> 0 | D192: =SUM(D7:D191) -> 0 | E192: =SUM(E7:E191) -> 0 | F192: =SUM(F7:F191) -> 0 | G192: =SUM(G7:G191) -> 0 | H192: =SUM(H7:H191) -> 0 | I192: =SUM(I7:I191) -> 0 | ... BS192: =SUM(BS7:BS191) -> 0 | BT192: =SUM(Πίνακας47[[#This Row],[1]:[Στήλη20]]) -> 0

Sheet Συγκεντρωτικά αποτελέσματα
A1: ΓΥΜΝΑΣΙΟ ΣΟΡΩΝΗΣ | D1: ΣΧΟΛΙΚΟ ΕΤΟΣ 09-10
B2: ΜΑΘΗΤΙΚΕΣ ΕΚΛΟΓΕΣ 15μελούς
A3: ΠΙΝΑΚΑΣ 2: ΣΥΓΚΕΝΤΡΩΤΙΚΑ ΑΠΟΤΕΛΕΣΜΑΤΑ
A4: α/α | B4: Όνομα | C4: Τμήμα | D4: Σύνολο ψήφων
A5: 1 | B5: ='Καταμέτρηση Ψήφων'!B5 -> Αρχιμανδρίτης Θωμάς | C5: ='Καταμέτρηση Ψήφων'!B6 -> Α1 | D5: =SUM('Καταμέτρηση Ψήφων'!B7:B191) -> 0
A6: 2 | B6: ='Καταμέτρηση Ψήφων'!C5 -> Έλενας Φίλιππος | C6: ='Καταμέτρηση Ψήφων'!C6 -> Α1 | D6: =SUM('Καταμέτρηση Ψήφων'!C7:C191) -> 0
A7: 3 | B7: ='Καταμέτρηση Ψήφων'!D5 -> Ζενέλι Μάριολντ | C7: ='Καταμέτρηση Ψήφων'!D6 -> Α1 | D7: =SUM('Καταμέτρηση Ψήφων'!D7:D191) -> 0
A8: 4 | B8: ='Καταμέτρηση Ψήφων'!E5 -> Κάμφωνα Παρασκευή-Μαρία | C8: ='Καταμέτρηση Ψήφων'!E6 -> Α1 | D8: =SUM('Καταμέτρηση Ψήφων'!E7:E191) -> 0
A9: 5 | B9: ='Καταμέτρηση Ψήφων'!F5 -> Μπάτης Κωνσταντίνος | C9: ='Καταμέτρηση Ψήφων'!F6 -> Α2 | D9: =SUM('Καταμέτρηση Ψήφων'!F7:F191) -> 0
A10: 6 | B10: ='Καταμέτρηση Ψήφων'!G5 -> Παπάζογλου Νικόλαος | C10: ='Καταμέτρηση Ψήφων'!G6 -> Α2 | D10: =SUM('Καταμέτρηση Ψήφων'!G7:G191) -> 0
A11: 7 | B11: ='Καταμέτρηση Ψήφων'!H5 -> Σταθάτος Λουκάς-Ανδρέας | C11: ='Καταμέτρηση Ψήφων'!H6 -> Α2 | D11: =SUM('Καταμέτρηση Ψήφων'!H7:H191) -> 0
A12: 8 | B12: ='Καταμέτρηση Ψήφων'!I5 -> Χρήστου Μιχαήλ | C12: ='Καταμέτρηση Ψήφων'!I6 -> Α2 | D12: =SUM('Καταμέτρηση Ψήφων'!I7:I191) -> 0
A13: 9 | B13: ='Καταμέτρηση Ψήφων'!J5 -> Κανατάς Γεώργιος | C13: ='Καταμέτρηση Ψήφων'!J6 -> Β1 | D13: =SUM('Καταμέτρηση Ψήφων'!J7:J191) -> 0
A14: 10 | B14: ='Καταμέτρηση Ψήφων'!K5 -> Κρητικού Χριστίνα | C14: ='Καταμέτρηση Ψήφων'!K6 -> Β1 | D14: =SUM('Καταμέτρηση Ψήφων'!K7:K191) -> 0
A15: 11 | B15: ='Καταμέτρηση Ψήφων'!L5 -> Κυριαζάκος Άγγελος | C15: ='Καταμέτρηση Ψήφων'!L6 -> Β1 | D15: =SUM('Καταμέτρηση Ψήφων'!L7:L191) -> 0
A16: 12 | B16: ='Καταμέτρηση Ψήφων'!M5 -> Κωνσταντάκης Κωνσταντίνος | C16: ='Καταμέτρηση Ψήφων'!M6 -> Β2 | D16: =SUM('Καταμέτρηση Ψήφων'!M7:M191) -> 0
A17: 13 | B17: ='Καταμέτρηση Ψήφων'!N5 -> Χαραλάμπους Παύλος | C17: ='Καταμέτρηση Ψήφων'!N6 -> Β2 | D17: =SUM('Καταμέτρηση Ψήφων'!N7:N191) -> 0
A18: 14 | B18: ='Καταμέτρηση Ψήφων'!O5 -> Χατζησάββας Κυριάκος | C18: ='Καταμέτρηση Ψήφων'!O6 -> Β2 | D18: =SUM('Καταμέτρηση Ψήφων'!O7:O191) -> 0
A19: 15 | B19: ='Καταμέτρηση Ψήφων'!P5 -> Χατζηφλεβάρης Ιωάννης | C19: ='Καταμέτρηση Ψήφων'!P6 -> Β2 | D19: =SUM('Καταμέτρηση Ψήφων'!P7:P191) -> 0
A20: 16 | B20: ='Καταμέτρηση Ψήφων'!Q5 -> Γιακουμίδης Νεκτάριος-Γεώργιος | C20: ='Καταμέτρηση Ψήφων'!Q6 -> Β3 | D20: =SUM('Καταμέτρηση Ψήφων'!Q7:Q191) -> 0
A21: 17 | B21: ='Καταμέτρηση Ψήφων'!R5 -> Παπαμανώλης Εμμανουήλ | C21: ='Καταμέτρηση Ψήφων'!R6 -> Β3 | D21: =SUM('Καταμέτρηση Ψήφων'!R7:R191) -> 0
A22: 18 | B22: ='Καταμέτρηση Ψήφων'!S5 -> Γεωργαντάς Κωνσταντίνος | C22: ='Καταμέτρηση Ψήφων'!S6 -> Γ1 | D22: =SUM('Καταμέτρηση Ψήφων'!S7:S191) -> 0
A23: 19 | B23: ='Καταμέτρηση Ψήφων'!T5 -> Γεωργαντάς Νίκων | C23: ='Καταμέτρηση Ψήφων'!T6 -> Γ1 | D23: =SUM('Καταμέτρηση Ψήφων'!T7:T191) -> 0
A24: 20 | B24: ='Καταμέτρηση Ψήφων'!U5 -> Γιορδαμνής Αλέξης | C24: ='Καταμέτρηση Ψήφων'!U6 -> Γ1 | D24: =SUM('Καταμέτρηση Ψήφων'!U7:U191) -> 0
A25: 21 | B25: ='Καταμέτρηση Ψήφων'!V5 -> Γκιούντιτσε Γεωργία | C25: ='Καταμέτρηση Ψήφων'!V6 -> Γ1 | D25: =SUM('Καταμέτρηση Ψήφων'!V7:V191) -> 0
A26: 22 | B26: ='Καταμέτρηση Ψήφων'!W5 -> Ζότα Αριόν | C26: ='Καταμέτρηση Ψήφων'!W6 -> Γ1 | D26: =SUM('Καταμέτρηση Ψήφων'!W7:W191) -> 0
A27: 23 | B27: ='Καταμέτρηση Ψήφων'!X5 -> Ζότα Κωνσταντίνος | C27: ='Καταμέτρηση Ψήφων'!X6 -> Γ1 | D27: =SUM('Καταμέτρηση Ψήφων'!X7:X191) -> 0
A28: 24 | B28: ='Καταμέτρηση Ψήφων'!Y5 -> Καντίνος Θεόδωρος - Νεκτάριος | C28: ='Καταμέτρηση Ψήφων'!Y6 -> Γ1 | D28: =SUM('Καταμέτρηση Ψήφων'!Y7:Y191) -> 0
A29: 25 | B29: ='Καταμέτρηση Ψήφων'!Z5 -> Καπνουλλά Μαρία | C29: ='Καταμέτρηση Ψήφων'!Z6 -> Γ1 | D29: =SUM('Καταμέτρηση Ψήφων'!Z7:Z191) -> 0
A30: 26 | B30: ='Καταμέτρηση Ψήφων'!AA5 -> Μαγκάνης Αναστάσιος | C30: ='Καταμέτρηση Ψήφων'!AA6 -> Γ2 | D30: =SUM('Καταμέτρηση Ψήφων'!AA7:AA191) -> 0
A31: 27 | B31: ='Καταμέτρηση Ψήφων'!AB5 -> Παπάκη Δήμητρα | C31: ='Καταμέτρηση Ψήφων'!AB6 -> Γ2 | D31: =SUM('Καταμέτρηση Ψήφων'!AB7:AB191) -> 0
A32: 28 | B32: ='Καταμέτρηση Ψήφων'!AC5 -> Πασσάλη Μοσχούλα | C32: ='Καταμέτρηση Ψήφων'!AC6 -> Γ2 | D32: =SUM('Καταμέτρηση Ψήφων'!AC7:AC191) -> 0
A33: 29 | B33: ='Καταμέτρηση Ψήφων'!AD5 -> Παπαθεοδώρου Αθανάσιος | C33: ='Καταμέτρηση Ψήφων'!AD6 -> Γ3 | D33: =SUM('Καταμέτρηση Ψήφων'!AD7:AD191) -> 0
A34: 30 | B34: ='Καταμέτρηση Ψήφων'!AE5 -> Πεπέ Τσαμπίκα | C34: ='Καταμέτρηση Ψήφων'!AE6 -> Γ3 | D34: =SUM('Καταμέτρηση Ψήφων'!AE7:AE191) -> 0
A35: 31 | B35: ='Καταμέτρηση Ψήφων'!AF5 -> Τομάζος Σταύρος | C35: ='Καταμέτρηση Ψήφων'!AF6 -> Γ3 | D35: =SUM('Καταμέτρηση Ψήφων'!AF7:AF191) -> 0
A36: 32 | B36: ='Καταμέτρηση Ψήφων'!AG5 -> Φιόλλας Μιχαήλ-Παναγιώτης | C36: ='Καταμέτρηση Ψήφων'!AG6 -> Γ3 | D36: =SUM('Καταμέτρηση Ψήφων'!AG7:AG191) -> 0
A37: 33 | B37: ='Καταμέτρηση Ψήφων'!AH5 -> Χατζηγιαννάκης Αναστάσιος | C37: ='Καταμέτρηση Ψήφων'!AH6 -> Γ3 | D37: =SUM('Καταμέτρηση Ψήφων'!AH7:AH191) -> 0
A38: 34 | B38: ='Καταμέτρηση Ψήφων'!AI5 -> Χειμωνέττου Ελευθερία | C38: ='Καταμέτρηση Ψήφων'!AI6 -> Γ3 | D38: =SUM('Καταμέτρηση Ψήφων'!AI7:AI191) -> 0
A39: 35 | B39: ='Καταμέτρηση Ψήφων'!AJ5 -> 0 | C39: ='Καταμέτρηση Ψήφων'!AJ6 -> 0 | D39: =SUM('Καταμέτρηση Ψήφων'!AJ7:AJ191) -> 0
A40: 36 | B40: ='Καταμέτρηση Ψήφων'!AK5 -> 0 | C40: ='Καταμέτρηση Ψήφων'!AK6 -> 0 | D40: =SUM('Καταμέτρηση Ψήφων'!AK7:AK191) -> 0
A41: 37 | B41: ='Καταμέτρηση Ψήφων'!AL5 -> 0 | C41: ='Καταμέτρηση Ψήφων'!AL6 -> 0 | D41: =SUM('Καταμέτρηση Ψήφων'!AL7:AL191) -> 0
A42: 38 | B42: ='Καταμέτρηση Ψήφων'!AM5 -> 0 | C42: ='Καταμέτρηση Ψήφων'!AM6 -> 0 | D42: =SUM('Καταμέτρηση Ψήφων'!AM7:AM191) -> 0
A43: 39 | B43: ='Καταμέτρηση Ψήφων'!AN5 -> 0 | C43: ='Καταμέτρηση Ψήφων'!AN6 -> 0 | D43: =SUM('Καταμέτρηση Ψήφων'!AN7:AN191) -> 0
A44: 40 | B44: ='Καταμέτρηση Ψήφων'!AO5 -> 0 | C44: ='Καταμέτρηση Ψήφων'!AO6 -> 0 | D44: =SUM('Καταμέτρηση Ψήφων'!AO7:AO191) -> 0
A45: 41 | B45: ='Καταμέτρηση Ψήφων'!AP5 -> 0 | C45: ='Καταμέτρηση Ψήφων'!AP6 -> 0 | D45: =SUM('Καταμέτρηση Ψήφων'!AP7:AP191) -> 0
A46: 42 | B46: ='Καταμέτρηση Ψήφων'!AQ5 -> 0 | C46: ='Καταμέτρηση Ψήφων'!AQ6 -> 0 | D46: =SUM('Καταμέτρηση Ψήφων'!AQ7:AQ191) -> 0
A47: 43 | B47: ='Καταμέτρηση Ψήφων'!AR5 -> 0 | C47: ='Καταμέτρηση Ψήφων'!AR6 -> 0 | D47: =SUM('Καταμέτρηση Ψήφων'!AR7:AR191) -> 0
A48: 44 | B48: ='Καταμέτρηση Ψήφων'!AS5 -> 0 | C48: ='Καταμέτρηση Ψήφων'!AS6 -> 0 | D48: =SUM('Καταμέτρηση Ψήφων'!AS7:AS191) -> 0
A49: 45 | B49: ='Καταμέτρηση Ψήφων'!AT5 -> 0 | C49: ='Καταμέτρηση Ψήφων'!AT6 -> 0 | D49: =SUM('Καταμέτρηση Ψήφων'!AT7:AT191) -> 0
A50: 46 | B50: ='Καταμέτρηση Ψήφων'!AU5 -> 0 | C50: ='Καταμέτρηση Ψήφων'!AU6 -> 0 | D50: =SUM('Καταμέτρηση Ψήφων'!AU7:AU191) -> 0
A51: 47 | B51: ='Καταμέτρηση Ψήφων'!AV5 -> 0 | C51: ='Καταμέτρηση Ψήφων'!AV6 -> 0 | D51: =SUM('Καταμέτρηση Ψήφων'!AV7:AV191) -> 0
A52: 48 | B52: ='Καταμέτρηση Ψήφων'!AW5 -> 0 | C52: ='Καταμέτρηση Ψήφων'!AW6 -> 0 | D52: =SUM('Καταμέτρηση Ψήφων'!AW7:AW191) -> 0
A53: 49 | B53: ='Καταμέτρηση Ψήφων'!AX5 -> 0 | C53: ='Καταμέτρηση Ψήφων'!AX6 -> 0 | D53: =SUM('Καταμέτρηση Ψήφων'!AX7:AX191) -> 0
A54: 50 | B54: ='Καταμέτρηση Ψήφων'!AY5 -> 0 | C54: ='Καταμέτρηση Ψήφων'!AY6 -> 0 | D54: =SUM('Καταμέτρηση Ψήφων'!AY7:AY191) -> 0
A55: 51 | B55: ='Καταμέτρηση Ψήφων'!AZ5 -> 0 | C55: ='Καταμέτρηση Ψήφων'!AZ6 -> 0 | D55: =SUM('Καταμέτρηση Ψήφων'!AZ7:AZ191) -> 0
A56: 52 | B56: ='Καταμέτρηση Ψήφων'!BA5 -> 0 | C56: ='Καταμέτρηση Ψήφων'!BA6 -> 0 | D56: =SUM('Καταμέτρηση Ψήφων'!BA7:BA191) -> 0
A57: 53 | B57: ='Καταμέτρηση Ψήφων'!BB5 -> 0 | C57: ='Καταμέτρηση Ψήφων'!BB6 -> 0 | D57: =SUM('Καταμέτρηση Ψήφων'!BB7:BB191) -> 0
A58: 54 | B58: ='Καταμέτρηση Ψήφων'!BC5 -> 0 | C58: ='Καταμέτρηση Ψήφων'!BC6 -> 0 | D58: =SUM('Καταμέτρηση Ψήφων'!BC7:BC191) -> 0
A59: 55 | B59: ='Καταμέτρηση Ψήφων'!BD5 -> 0 | C59: ='Καταμέτρηση Ψήφων'!BD6 -> 0 | D59: =SUM('Καταμέτρηση Ψήφων'!BD7:BD191) -> 0
A60: 56 | B60: ='Καταμέτρηση Ψήφων'!BE5 -> 0 | C60: ='Καταμέτρηση Ψήφων'!BE6 -> 0 | D60: =SUM('Καταμέτρηση Ψήφων'!BE7:BE191) -> 0
A61: 57 | B61: ='Καταμέτρηση Ψήφων'!BF5 -> 0 | C61: ='Καταμέτρηση Ψήφων'!BF6 -> 0 | D61: =SUM('Καταμέτρηση Ψήφων'!BF7:BF191) -> 0
A62: 58 | B62: ='Καταμέτρηση Ψήφων'!BG5 -> 0 | C62: ='Καταμέτρηση Ψήφων'!BG6 -> 0 | D62: =SUM('Καταμέτρηση Ψήφων'!BG7:BG191) -> 0
A63: 59 | B63: ='Καταμέτρηση Ψήφων'!BH5 -> 0 | C63: ='Καταμέτρηση Ψήφων'!BH6 -> 0 | D63: =SUM('Καταμέτρηση Ψήφων'!BH7:BH191) -> 0
A64: 60 | B64: ='Καταμέτρηση Ψήφων'!BI5 -> 0 | C64: ='Καταμέτρηση Ψήφων'!BI6 -> 0 | D64: =SUM('Καταμέτρηση Ψήφων'!BI7:BI191) -> 0
A65: 61 | B65: ='Καταμέτρηση Ψήφων'!BJ5 -> 0 | C65: ='Καταμέτρηση Ψήφων'!BJ6 -> 0 | D65: =SUM('Καταμέτρηση Ψήφων'!BJ7:BJ191) -> 0
A66: 62 | B66: ='Καταμέτρηση Ψήφων'!BK5 -> 0 | C66: ='Καταμέτρηση Ψήφων'!BK6 -> 0 | D66: =SUM('Καταμέτρηση Ψήφων'!BK7:BK191) -> 0
A67: 63 | B67: ='Καταμέτρηση Ψήφων'!BL5 -> 0 | C67: ='Καταμέτρηση Ψήφων'!BL6 -> 0 | D67: =SUM('Καταμέτρηση Ψήφων'!BL7:BL191) -> 0
A68: 64 | B68: ='Καταμέτρηση Ψήφων'!BM5 -> 0 | C68: ='Καταμέτρηση Ψήφων'!BM6 -> 0 | D68: =SUM('Καταμέτρηση Ψήφων'!BM7:BM191) -> 0
A69: 65 | B69: ='Καταμέτρηση Ψήφων'!BN5 -> 0 | C69: ='Καταμέτρηση Ψήφων'!BN6 -> 0 | D69: =SUM('Καταμέτρηση Ψήφων'!BN7:BN191) -> 0
A70: 66 | B70: ='Καταμέτρηση Ψήφων'!BO5 -> 0 | C70: ='Καταμέτρηση Ψήφων'!BO6 -> 0 | D70: =SUM('Καταμέτρηση Ψήφων'!BO7:BO191) -> 0
A71: 67 | B71: ='Καταμέτρηση Ψήφων'!BP5 -> 0 | C71: ='Καταμέτρηση Ψήφων'!BP6 -> 0 | D71: =SUM('Καταμέτρηση Ψήφων'!BP7:BP191) -> 0
A72: 68 | B72: ='Καταμέτρηση Ψήφων'!BQ5 -> 0 | C72: ='Καταμέτρηση Ψήφων'!BQ6 -> 0 | D72: =SUM('Καταμέτρηση Ψήφων'!BQ7:BQ191) -> 0
A73: 69 | B73: ='Καταμέτρηση Ψήφων'!BR5 -> 0 | C73: ='Καταμέτρηση Ψήφων'!BR6 -> 0 | D73: =SUM('Καταμέτρηση Ψήφων'!BR7:BR191) -> 0
A74: 70 | B74: ='Καταμέτρηση Ψήφων'!BS5 -> 0 | C74: ='Καταμέτρηση Ψήφων'!BS6 -> 0 | D74: =SUM('Καταμέτρηση Ψήφων'!BS7:BS191) -> 0

Sheet Τελική κατάταξη
A1: ΓΥΜΝΑΣΙΟ ΣΟΡΩΝΗΣ | D1: ΣΧΟΛΙΚΟ ΕΤΟΣ 09-10
B2: ΜΑΘΗΤΙΚΕΣ ΕΚΛΟΓΕΣ 15μελούς
A3: ΠΙΝΑΚΑΣ 3: ΤΕΛΙΚΗ ΚΑΤΑΤΑΞΗ
A4: α/α | B4: Όνομα | C4: Τμήμα | D4: Σύνολο ψήφων
A5: 1 | B5: ='Συγκεντρωτικά αποτελέσματα'!B5 -> Αρχιμανδρίτης Θωμάς | C5: ='Συγκεντρωτικά αποτελέσματα'!C5 -> Α1 | D5: =SUM('Καταμέτρηση Ψήφων'!B7:B191) -> 0
A6: 2 | B6: ='Συγκεντρωτικά αποτελέσματα'!B6 -> Έλενας Φίλιππος | C6: ='Συγκεντρωτικά αποτελέσματα'!C6 -> Α1 | D6: =SUM('Καταμέτρηση Ψήφων'!C7:C191) -> 0
A7: 3 | B7: ='Συγκεντρωτικά αποτελέσματα'!B7 -> Ζενέλι Μάριολντ | C7: ='Συγκεντρωτικά αποτελέσματα'!C7 -> Α1 | D7: =SUM('Καταμέτρηση Ψήφων'!D7:D191) -> 0
A8: 4 | B8: ='Συγκεντρωτικά αποτελέσματα'!B8 -> Κάμφωνα Παρασκευή-Μαρία | C8: ='Συγκεντρωτικά αποτελέσματα'!C8 -> Α1 | D8: =SUM('Καταμέτρηση Ψήφων'!E7:E191) -> 0
A9: 5 | B9: ='Συγκεντρωτικά αποτελέσματα'!B9 -> Μπάτης Κωνσταντίνος | C9: ='Συγκεντρωτικά αποτελέσματα'!C9 -> Α2 | D9: =SUM('Καταμέτρηση Ψήφων'!F7:F191) -> 0
A10: 6 | B10: ='Συγκεντρωτικά αποτελέσματα'!B10 -> Παπάζογλου Νικόλαος | C10: ='Συγκεντρωτικά αποτελέσματα'!C10 -> Α2 | D10: =SUM('Καταμέτρηση Ψήφων'!G7:G191) -> 0
A11: 7 | B11: ='Συγκεντρωτικά αποτελέσματα'!B11 -> Σταθάτος Λουκάς-Ανδρέας | C11: ='Συγκεντρωτικά αποτελέσματα'!C11 -> Α2 | D11: =SUM('Καταμέτρηση Ψήφων'!H7:H191) -> 0
A12: 8 | B12: ='Συγκεντρωτικά αποτελέσματα'!B12 -> Χρήστου Μιχαήλ | C12: ='Συγκεντρωτικά αποτελέσματα'!C12 -> Α2 | D12: =SUM('Καταμέτρηση Ψήφων'!I7:I191) -> 0
A13: 9 | B13: ='Συγκεντρωτικά αποτελέσματα'!B13 -> Κανατάς Γεώργιος | C13: ='Συγκεντρωτικά αποτελέσματα'!C13 -> Β1 | D13: =SUM('Καταμέτρηση Ψήφων'!J7:J191) -> 0
A14: 10 | B14: ='Συγκεντρωτικά αποτελέσματα'!B14 -> Κρητικού Χριστίνα | C14: ='Συγκεντρωτικά αποτελέσματα'!C14 -> Β1 | D14: =SUM('Καταμέτρηση Ψήφων'!K7:K191) -> 0
A15: 11 | B15: ='Συγκεντρωτικά αποτελέσματα'!B15 -> Κυριαζάκος Άγγελος | C15: ='Συγκεντρωτικά αποτελέσματα'!C15 -> Β1 | D15: =SUM('Καταμέτρηση Ψήφων'!L7:L191) -> 0
A16: 12 | B16: ='Συγκεντρωτικά αποτελέσματα'!B16 -> Κωνσταντάκης Κωνσταντίνος | C16: ='Συγκεντρωτικά αποτελέσματα'!C16 -> Β2 | D16: =SUM('Καταμέτρηση Ψήφων'!M7:M191) -> 0
A17: 13 | B17: ='Συγκεντρωτικά αποτελέσματα'!B17 -> Χαραλάμπους Παύλος | C17: ='Συγκεντρωτικά αποτελέσματα'!C17 -> Β2 | D17: =SUM('Καταμέτρηση Ψήφων'!N7:N191) -> 0
A18: 14 | B18: ='Συγκεντρωτικά αποτελέσματα'!B18 -> Χατζησάββας Κυριάκος | C18: ='Συγκεντρωτικά αποτελέσματα'!C18 -> Β2 | D18: =SUM('Καταμέτρηση Ψήφων'!O7:O191) -> 0
A19: 15 | B19: ='Συγκεντρωτικά αποτελέσματα'!B19 -> Χατζηφλεβάρης Ιωάννης | C19: ='Συγκεντρωτικά αποτελέσματα'!C19 -> Β2 | D19: =SUM('Καταμέτρηση Ψήφων'!P7:P191) -> 0
A20: 16 | B20: ='Συγκεντρωτικά αποτελέσματα'!B20 -> Γιακουμίδης Νεκτάριος-Γεώργιος | C20: ='Συγκεντρωτικά αποτελέσματα'!C20 -> Β3 | D20: =SUM('Καταμέτρηση Ψήφων'!Q7:Q191) -> 0
A21: 17 | B21: ='Συγκεντρωτικά αποτελέσματα'!B21 -> Παπαμανώλης Εμμανουήλ | C21: ='Συγκεντρωτικά αποτελέσματα'!C21 -> Β3 | D21: =SUM('Καταμέτρηση Ψήφων'!R7:R191) -> 0
A22: 18 | B22: ='Συγκεντρωτικά αποτελέσματα'!B22 -> Γεωργαντάς Κωνσταντίνος | C22: ='Συγκεντρωτικά αποτελέσματα'!C22 -> Γ1 | D22: =SUM('Καταμέτρηση Ψήφων'!S7:S191) -> 0
A23: 19 | B23: ='Συγκεντρωτικά αποτελέσματα'!B23 -> Γεωργαντάς Νίκων | C23: ='Συγκεντρωτικά αποτελέσματα'!C23 -> Γ1 | D23: =SUM('Καταμέτρηση Ψήφων'!T7:T191) -> 0
A24: 20 | B24: ='Συγκεντρωτικά αποτελέσματα'!B24 -> Γιορδαμνής Αλέξης | C24: ='Συγκεντρωτικά αποτελέσματα'!C24 -> Γ1 | D24: =SUM('Καταμέτρηση Ψήφων'!U7:U191) -> 0
A25: 21 | B25: ='Συγκεντρωτικά αποτελέσματα'!B25 -> Γκιούντιτσε Γεωργία | C25: ='Συγκεντρωτικά αποτελέσματα'!C25 -> Γ1 | D25: =SUM('Καταμέτρηση Ψήφων'!V7:V191) -> 0
A26: 22 | B26: ='Συγκεντρωτικά αποτελέσματα'!B26 -> Ζότα Αριόν | C26: ='Συγκεντρωτικά αποτελέσματα'!C26 -> Γ1 | D26: =SUM('Καταμέτρηση Ψήφων'!W7:W191) -> 0
A27: 23 | B27: ='Συγκεντρωτικά αποτελέσματα'!B27 -> Ζότα Κωνσταντίνος | C27: ='Συγκεντρωτικά αποτελέσματα'!C27 -> Γ1 | D27: =SUM('Καταμέτρηση Ψήφων'!X7:X191) -> 0
A28: 24 | B28: ='Συγκεντρωτικά αποτελέσματα'!B28 -> Καντίνος Θεόδωρος - Νεκτάριος | C28: ='Συγκεντρωτικά αποτελέσματα'!C28 -> Γ1 | D28: =SUM('Καταμέτρηση Ψήφων'!Y7:Y191) -> 0
A29: 25 | B29: ='Συγκεντρωτικά αποτελέσματα'!B29 -> Καπνουλλά Μαρία | C29: ='Συγκεντρωτικά αποτελέσματα'!C29 -> Γ1 | D29: =SUM('Καταμέτρηση Ψήφων'!Z7:Z191) -> 0
A30: 26 | B30: ='Συγκεντρωτικά αποτελέσματα'!B30 -> Μαγκάνης Αναστάσιος | C30: ='Συγκεντρωτικά αποτελέσματα'!C30 -> Γ2 | D30: =SUM('Καταμέτρηση Ψήφων'!AA7:AA191) -> 0
A31: 27 | B31: ='Συγκεντρωτικά αποτελέσματα'!B31 -> Παπάκη Δήμητρα | C31: ='Συγκεντρωτικά αποτελέσματα'!C31 -> Γ2 | D31: =SUM('Καταμέτρηση Ψήφων'!AB7:AB191) -> 0
A32: 28 | B32: ='Συγκεντρωτικά αποτελέσματα'!B32 -> Πασσάλη Μοσχούλα | C32: ='Συγκεντρωτικά αποτελέσματα'!C32 -> Γ2 | D32: =SUM('Καταμέτρηση Ψήφων'!AC7:AC191) -> 0
A33: 29 | B33: ='Συγκεντρωτικά αποτελέσματα'!B33 -> Παπαθεοδώρου Αθανάσιος | C33: ='Συγκεντρωτικά αποτελέσματα'!C33 -> Γ3 | D33: =SUM('Καταμέτρηση Ψήφων'!AD7:AD191) -> 0
A34: 30 | B34: ='Συγκεντρωτικά αποτελέσματα'!B34 -> Πεπέ Τσαμπίκα | C34: ='Συγκεντρωτικά αποτελέσματα'!C34 -> Γ3 | D34: =SUM('Καταμέτρηση Ψήφων'!AE7:AE191) -> 0
A35: 31 | B35: ='Συγκεντρωτικά αποτελέσματα'!B35 -> Τομάζος Σταύρος | C35: ='Συγκεντρωτικά αποτελέσματα'!C35 -> Γ3 | D35: =SUM('Καταμέτρηση Ψήφων'!AF7:AF191) -> 0
A36: 32 | B36: ='Συγκεντρωτικά αποτελέσματα'!B36 -> Φιόλλας Μιχαήλ-Παναγιώτης | C36: ='Συγκεντρωτικά αποτελέσματα'!C36 -> Γ3 | D36: =SUM('Καταμέτρηση Ψήφων'!AG7:AG191) -> 0
A37: 33 | B37: ='Συγκεντρωτικά αποτελέσματα'!B37 -> Χατζηγιαννάκης Αναστάσιος | C37: ='Συγκεντρωτικά αποτελέσματα'!C37 -> Γ3 | D37: =SUM('Καταμέτρηση Ψήφων'!AH7:AH191) -> 0
A38: 34 | B38: ='Συγκεντρωτικά αποτελέσματα'!B38 -> Χειμωνέττου Ελευθερία | C38: ='Συγκεντρωτικά αποτελέσματα'!C38 -> Γ3 | D38: =SUM('Καταμέτρηση Ψήφων'!AI7:AI191) -> 0
A39: 35 | B39: ='Συγκεντρωτικά αποτελέσματα'!B39 -> 0 | C39: ='Συγκεντρωτικά αποτελέσματα'!C39 -> 0 | D39: =SUM('Καταμέτρηση Ψήφων'!AJ7:AJ191) -> 0
A40: 36 | B40: ='Συγκεντρωτικά αποτελέσματα'!B40 -> 0 | C40: ='Συγκεντρωτικά αποτελέσματα'!C40 -> 0 | D40: =SUM('Καταμέτρηση Ψήφων'!AK7:AK191) -> 0
A41: 37 | B41: ='Συγκεντρωτικά αποτελέσματα'!B41 -> 0 | C41: ='Συγκεντρωτικά αποτελέσματα'!C41 -> 0 | D41: =SUM('Καταμέτρηση Ψήφων'!AL7:AL191) -> 0
A42: 38 | B42: ='Συγκεντρωτικά αποτελέσματα'!B42 -> 0 | C42: ='Συγκεντρωτικά αποτελέσματα'!C42 -> 0 | D42: =SUM('Καταμέτρηση Ψήφων'!AM7:AM191) -> 0
A43: 39 | B43: ='Συγκεντρωτικά αποτελέσματα'!B43 -> 0 | C43: ='Συγκεντρωτικά αποτελέσματα'!C43 -> 0 | D43: =SUM('Καταμέτρηση Ψήφων'!AN7:AN191) -> 0
A44: 40 | B44: ='Συγκεντρωτικά αποτελέσματα'!B44 -> 0 | C44: ='Συγκεντρωτικά αποτελέσματα'!C44 -> 0 | D44: =SUM('Καταμέτρηση Ψήφων'!AO7:AO191) -> 0
A45: 41 | B45: ='Συγκεντρωτικά αποτελέσματα'!B45 -> 0 | C45: ='Συγκεντρωτικά αποτελέσματα'!C45 -> 0 | D45: =SUM('Καταμέτρηση Ψήφων'!AP7:AP191) -> 0
A46: 42 | B46: ='Συγκεντρωτικά αποτελέσματα'!B46 -> 0 | C46: ='Συγκεντρωτικά αποτελέσματα'!C46 -> 0 | D46: =SUM('Καταμέτρηση Ψήφων'!AQ7:AQ191) -> 0
A47: 43 | B47: ='Συγκεντρωτικά αποτελέσματα'!B47 -> 0 | C47: ='Συγκεντρωτικά αποτελέσματα'!C47 -> 0 | D47: =SUM('Καταμέτρηση Ψήφων'!AR7:AR191) -> 0
A48: 44 | B48: ='Συγκεντρωτικά αποτελέσματα'!B48 -> 0 | C48: ='Συγκεντρωτικά αποτελέσματα'!C48 -> 0 | D48: =SUM('Καταμέτρηση Ψήφων'!AS7:AS191) -> 0
A49: 45 | B49: ='Συγκεντρωτικά αποτελέσματα'!B49 -> 0 | C49: ='Συγκεντρωτικά αποτελέσματα'!C49 -> 0 | D49: =SUM('Καταμέτρηση Ψήφων'!AT7:AT191) -> 0
A50: 46 | B50: ='Συγκεντρωτικά αποτελέσματα'!B50 -> 0 | C50: ='Συγκεντρωτικά αποτελέσματα'!C50 -> 0 | D50: =SUM('Καταμέτρηση Ψήφων'!AU7:AU191) -> 0
A51: 47 | B51: ='Συγκεντρωτικά αποτελέσματα'!B51 -> 0 | C51: ='Συγκεντρωτικά αποτελέσματα'!C51 -> 0 | D51: =SUM('Καταμέτρηση Ψήφων'!AV7:AV191) -> 0
A52: 48 | B52: ='Συγκεντρωτικά αποτελέσματα'!B52 -> 0 | C52: ='Συγκεντρωτικά αποτελέσματα'!C52 -> 0 | D52: =SUM('Καταμέτρηση Ψήφων'!AW7:AW191) -> 0
A53: 49 | B53: ='Συγκεντρωτικά αποτελέσματα'!B53 -> 0 | C53: ='Συγκεντρωτικά αποτελέσματα'!C53 -> 0 | D53: =SUM('Καταμέτρηση Ψήφων'!AX7:AX191) -> 0
A54: 50 | B54: ='Συγκεντρωτικά αποτελέσματα'!B54 -> 0 | C54: ='Συγκεντρωτικά αποτελέσματα'!C54 -> 0 | D54: =SUM('Καταμέτρηση Ψήφων'!AY7:AY191) -> 0
A55: 51 | B55: ='Συγκεντρωτικά αποτελέσματα'!B55 -> 0 | C55: ='Συγκεντρωτικά αποτελέσματα'!C55 -> 0 | D55: =SUM('Καταμέτρηση Ψήφων'!AZ7:AZ191) -> 0
A56: 52 | B56: ='Συγκεντρωτικά αποτελέσματα'!B56 -> 0 | C56: ='Συγκεντρωτικά αποτελέσματα'!C56 -> 0 | D56: =SUM('Καταμέτρηση Ψήφων'!BA7:BA191) -> 0
A57: 53 | B57: ='Συγκεντρωτικά αποτελέσματα'!B57 -> 0 | C57: ='Συγκεντρωτικά αποτελέσματα'!C57 -> 0 | D57: =SUM('Καταμέτρηση Ψήφων'!BB7:BB191) -> 0
A58: 54 | B58: ='Συγκεντρωτικά αποτελέσματα'!B58 -> 0 | C58: ='Συγκεντρωτικά αποτελέσματα'!C58 -> 0 | D58: =SUM('Καταμέτρηση Ψήφων'!BC7:BC191) -> 0
A59: 55 | B59: ='Συγκεντρωτικά αποτελέσματα'!B59 -> 0 | C59: ='Συγκεντρωτικά αποτελέσματα'!C59 -> 0 | D59: =SUM('Καταμέτρηση Ψήφων'!BD7:BD191) -> 0
A60: 56 | B60: ='Συγκεντρωτικά αποτελέσματα'!B60 -> 0 | C60: ='Συγκεντρωτικά αποτελέσματα'!C60 -> 0 | D60: =SUM('Καταμέτρηση Ψήφων'!BE7:BE191) -> 0
A61: 57 | B61: ='Συγκεντρωτικά αποτελέσματα'!B61 -> 0 | C61: ='Συγκεντρωτικά αποτελέσματα'!C61 -> 0 | D61: =SUM('Καταμέτρηση Ψήφων'!BF7:BF191) -> 0
A62: 58 | B62: ='Συγκεντρωτικά αποτελέσματα'!B62 -> 0 | C62: ='Συγκεντρωτικά αποτελέσματα'!C62 -> 0 | D62: =SUM('Καταμέτρηση Ψήφων'!BG7:BG191) -> 0
A63: 59 | B63: ='Συγκεντρωτικά αποτελέσματα'!B63 -> 0 | C63: ='Συγκεντρωτικά αποτελέσματα'!C63 -> 0 | D63: =SUM('Καταμέτρηση Ψήφων'!BH7:BH191) -> 0
A64: 60 | B64: ='Συγκεντρωτικά αποτελέσματα'!B64 -> 0 | C64: ='Συγκεντρωτικά αποτελέσματα'!C64 -> 0 | D64: =SUM('Καταμέτρηση Ψήφων'!BI7:BI191) -> 0
A65: 61 | B65: ='Συγκεντρωτικά αποτελέσματα'!B65 -> 0 | C65: ='Συγκεντρωτικά αποτελέσματα'!C65 -> 0 | D65: =SUM('Καταμέτρηση Ψήφων'!BJ7:BJ191) -> 0
A66: 62 | B66: ='Συγκεντρωτικά αποτελέσματα'!B66 -> 0 | C66: ='Συγκεντρωτικά αποτελέσματα'!C66 -> 0 | D66: =SUM('Καταμέτρηση Ψήφων'!BK7:BK191) -> 0
A67: 63 | B67: ='Συγκεντρωτικά αποτελέσματα'!B67 -> 0 | C67: ='Συγκεντρωτικά αποτελέσματα'!C67 -> 0 | D67: =SUM('Καταμέτρηση Ψήφων'!BL7:BL191) -> 0
A68: 64 | B68: ='Συγκεντρωτικά αποτελέσματα'!B68 -> 0 | C68: ='Συγκεντρωτικά αποτελέσματα'!C68 -> 0 | D68: =SUM('Καταμέτρηση Ψήφων'!BM7:BM191) -> 0
A69: 65 | B69: ='Συγκεντρωτικά αποτελέσματα'!B69 -> 0 | C69: ='Συγκεντρωτικά αποτελέσματα'!C69 -> 0 | D69: =SUM('Καταμέτρηση Ψήφων'!BN7:BN191) -> 0
A70: 66 | B70: ='Συγκεντρωτικά αποτελέσματα'!B70 -> 0 | C70: ='Συγκεντρωτικά αποτελέσματα'!C70 -> 0 | D70: =SUM('Καταμέτρηση Ψήφων'!BO7:BO191) -> 0
A71: 67 | B71: ='Συγκεντρωτικά αποτελέσματα'!B71 -> 0 | C71: ='Συγκεντρωτικά αποτελέσματα'!C71 -> 0 | D71: =SUM('Καταμέτρηση Ψήφων'!BP7:BP191) -> 0
A72: 68 | B72: ='Συγκεντρωτικά αποτελέσματα'!B72 -> 0 | C72: ='Συγκεντρωτικά αποτελέσματα'!C72 -> 0 | D72: =SUM('Καταμέτρηση Ψήφων'!BQ7:BQ191) -> 0
A73: 69 | B73: ='Συγκεντρωτικά αποτελέσματα'!B73 -> 0 | C73: ='Συγκεντρωτικά αποτελέσματα'!C73 -> 0 | D73: =SUM('Καταμέτρηση Ψήφων'!BR7:BR191) -> 0
A74: 70 | B74: ='Συγκεντρωτικά αποτελέσματα'!B74 -> 0 | C74: ='Συγκεντρωτικά αποτελέσματα'!C74 -> 0 | D74: =SUM('Καταμέτρηση Ψήφων'!BS7:BS191) -> 0
